| Back to Multiple platform build/check report for BioC 3.6 |
|
This page was generated on 2018-04-12 13:31:50 -0400 (Thu, 12 Apr 2018).
| Package 20/1472 | Hostname | OS / Arch | INSTALL | BUILD | CHECK | BUILD BIN | ||||||
| affycoretools 1.50.6 James W. MacDonald
| malbec1 | Linux (Ubuntu 16.04.1 LTS) / x86_64 | OK | OK | OK | |||||||
| tokay1 | Windows Server 2012 R2 Standard / x64 | OK | OK | WARNINGS | OK | |||||||
| veracruz1 | OS X 10.11.6 El Capitan / x86_64 | OK | OK | [ OK ] | OK |
| Package: affycoretools |
| Version: 1.50.6 |
| Command: /Library/Frameworks/R.framework/Versions/Current/Resources/bin/R CMD check --no-vignettes --timings affycoretools_1.50.6.tar.gz |
| StartedAt: 2018-04-12 00:11:02 -0400 (Thu, 12 Apr 2018) |
| EndedAt: 2018-04-12 00:17:09 -0400 (Thu, 12 Apr 2018) |
| EllapsedTime: 367.1 seconds |
| RetCode: 0 |
| Status: OK |
| CheckDir: affycoretools.Rcheck |
| Warnings: 0 |
##############################################################################
##############################################################################
###
### Running command:
###
### /Library/Frameworks/R.framework/Versions/Current/Resources/bin/R CMD check --no-vignettes --timings affycoretools_1.50.6.tar.gz
###
##############################################################################
##############################################################################
* using log directory ‘/Users/biocbuild/bbs-3.6-bioc/meat/affycoretools.Rcheck’
* using R version 3.4.4 (2018-03-15)
* using platform: x86_64-apple-darwin15.6.0 (64-bit)
* using session charset: UTF-8
* using option ‘--no-vignettes’
* checking for file ‘affycoretools/DESCRIPTION’ ... OK
* this is package ‘affycoretools’ version ‘1.50.6’
* checking package namespace information ... OK
* checking package dependencies ... OK
* checking if this is a source package ... OK
* checking if there is a namespace ... OK
* checking for hidden files and directories ... OK
* checking for portable file names ... OK
* checking for sufficient/correct file permissions ... OK
* checking whether package ‘affycoretools’ can be installed ... OK
* checking installed package size ... OK
* checking package directory ... OK
* checking ‘build’ directory ... OK
* checking DESCRIPTION meta-information ... OK
* checking top-level files ... OK
* checking for left-over files ... OK
* checking index information ... OK
* checking package subdirectories ... OK
* checking R files for non-ASCII characters ... OK
* checking R files for syntax errors ... OK
* checking whether the package can be loaded ... OK
* checking whether the package can be loaded with stated dependencies ... OK
* checking whether the package can be unloaded cleanly ... OK
* checking whether the namespace can be loaded with stated dependencies ... OK
* checking whether the namespace can be unloaded cleanly ... OK
* checking dependencies in R code ... OK
* checking S3 generic/method consistency ... OK
* checking replacement functions ... OK
* checking foreign function calls ... OK
* checking R code for possible problems ... OK
* checking Rd files ... OK
* checking Rd metadata ... OK
* checking Rd cross-references ... OK
* checking for missing documentation entries ... OK
* checking for code/documentation mismatches ... OK
* checking Rd \usage sections ... OK
* checking Rd contents ... OK
* checking for unstated dependencies in examples ... OK
* checking sizes of PDF files under ‘inst/doc’ ... OK
* checking installed files from ‘inst/doc’ ... OK
* checking files in ‘vignettes’ ... OK
* checking examples ... OK
Examples with CPU or elapsed time > 5s
user system elapsed
plotDeg 4.993 0.111 5.19
* checking for unstated dependencies in vignettes ... OK
* checking package vignettes in ‘inst/doc’ ... OK
* checking running R code from vignettes ... SKIPPED
* checking re-building of vignette outputs ... SKIPPED
* checking PDF version of manual ... OK
* DONE
Status: OK
affycoretools.Rcheck/00install.out
* installing *source* package ‘affycoretools’ ... ** R ** inst ** preparing package for lazy loading ** help *** installing help indices ** building package indices ** installing vignettes ** testing if installed package can be loaded * DONE (affycoretools)
affycoretools.Rcheck/affycoretools-Ex.timings
| name | user | system | elapsed | |
| annotateEset | 0 | 0 | 0 | |
| entrezLinks | 0.001 | 0.001 | 0.001 | |
| makeVenn | 0.001 | 0.000 | 0.001 | |
| plotDeg | 4.993 | 0.111 | 5.190 | |
| plotPCA | 0.055 | 0.004 | 0.059 | |
| vennCounts2 | 0.047 | 0.001 | 0.051 | |
| vennPage | 0.001 | 0.000 | 0.001 | |