| Back to Multiple platform build/check report for BioC 3.6 |
|
This page was generated on 2018-04-12 13:34:17 -0400 (Thu, 12 Apr 2018).
| Package 6/1472 | Hostname | OS / Arch | INSTALL | BUILD | CHECK | BUILD BIN | ||||||
| a4Reporting 1.26.0 Tobias Verbeke
| malbec1 | Linux (Ubuntu 16.04.1 LTS) / x86_64 | OK | OK | OK | |||||||
| tokay1 | Windows Server 2012 R2 Standard / x64 | OK | OK | OK | OK | |||||||
| veracruz1 | OS X 10.11.6 El Capitan / x86_64 | OK | OK | [ OK ] | OK |
| Package: a4Reporting |
| Version: 1.26.0 |
| Command: /Library/Frameworks/R.framework/Versions/Current/Resources/bin/R CMD check --no-vignettes --timings a4Reporting_1.26.0.tar.gz |
| StartedAt: 2018-04-12 00:06:51 -0400 (Thu, 12 Apr 2018) |
| EndedAt: 2018-04-12 00:08:11 -0400 (Thu, 12 Apr 2018) |
| EllapsedTime: 80.5 seconds |
| RetCode: 0 |
| Status: OK |
| CheckDir: a4Reporting.Rcheck |
| Warnings: 0 |
############################################################################## ############################################################################## ### ### Running command: ### ### /Library/Frameworks/R.framework/Versions/Current/Resources/bin/R CMD check --no-vignettes --timings a4Reporting_1.26.0.tar.gz ### ############################################################################## ############################################################################## * using log directory ‘/Users/biocbuild/bbs-3.6-bioc/meat/a4Reporting.Rcheck’ * using R version 3.4.4 (2018-03-15) * using platform: x86_64-apple-darwin15.6.0 (64-bit) * using session charset: UTF-8 * using option ‘--no-vignettes’ * checking for file ‘a4Reporting/DESCRIPTION’ ... OK * checking extension type ... Package * this is package ‘a4Reporting’ version ‘1.26.0’ * checking package namespace information ... OK * checking package dependencies ... OK * checking if this is a source package ... OK * checking if there is a namespace ... OK * checking for hidden files and directories ... OK * checking for portable file names ... OK * checking for sufficient/correct file permissions ... OK * checking whether package ‘a4Reporting’ can be installed ... OK * checking installed package size ... OK * checking package directory ... OK * checking DESCRIPTION meta-information ... NOTE Malformed Description field: should contain one or more complete sentences. * checking top-level files ... OK * checking for left-over files ... OK * checking index information ... OK * checking package subdirectories ... OK * checking R files for non-ASCII characters ... OK * checking R files for syntax errors ... OK * checking whether the package can be loaded ... OK * checking whether the package can be loaded with stated dependencies ... OK * checking whether the package can be unloaded cleanly ... OK * checking whether the namespace can be loaded with stated dependencies ... OK * checking whether the namespace can be unloaded cleanly ... OK * checking dependencies in R code ... NOTE Packages in Depends field not imported from: ‘annaffy’ ‘methods’ These packages need to be imported from (in the NAMESPACE file) for when this namespace is loaded but not attached. Unexported objects imported by ':::' calls: ‘xtable:::xtable.data.frame’ ‘xtable:::xtable.matrix’ See the note in ?`:::` about the use of this operator. * checking S3 generic/method consistency ... OK * checking replacement functions ... OK * checking foreign function calls ... OK * checking R code for possible problems ... OK * checking Rd files ... OK * checking Rd metadata ... OK * checking Rd cross-references ... OK * checking for missing documentation entries ... OK * checking for code/documentation mismatches ... OK * checking Rd \usage sections ... NOTE S3 methods shown with full name in documentation object 'print.xtableAnnotationTable': ‘print.xtableAnnotationTable’ The \usage entries for S3 methods should use the \method markup and not their full name. See chapter ‘Writing R documentation files’ in the ‘Writing R Extensions’ manual. * checking Rd contents ... OK * checking for unstated dependencies in examples ... OK * checking examples ... OK * checking for unstated dependencies in ‘tests’ ... OK * checking tests ... Running ‘test.annotationTable.R’ OK * checking PDF version of manual ... OK * DONE Status: 3 NOTEs See ‘/Users/biocbuild/bbs-3.6-bioc/meat/a4Reporting.Rcheck/00check.log’ for details.
a4Reporting.Rcheck/00install.out
* installing *source* package ‘a4Reporting’ ... ** R ** inst ** preparing package for lazy loading ** help *** installing help indices ** building package indices ** testing if installed package can be loaded * DONE (a4Reporting)
a4Reporting.Rcheck/tests/test.annotationTable.Rout
R version 3.4.4 (2018-03-15) -- "Someone to Lean On"
Copyright (C) 2018 The R Foundation for Statistical Computing
Platform: x86_64-apple-darwin15.6.0 (64-bit)
R is free software and comes with ABSOLUTELY NO WARRANTY.
You are welcome to redistribute it under certain conditions.
Type 'license()' or 'licence()' for distribution details.
R is a collaborative project with many contributors.
Type 'contributors()' for more information and
'citation()' on how to cite R or R packages in publications.
Type 'demo()' for some demos, 'help()' for on-line help, or
'help.start()' for an HTML browser interface to help.
Type 'q()' to quit R.
> # test annotationTable functionality
>
> library(a4Reporting)
Loading required package: annaffy
Loading required package: Biobase
Loading required package: BiocGenerics
Loading required package: parallel
Attaching package: 'BiocGenerics'
The following objects are masked from 'package:parallel':
clusterApply, clusterApplyLB, clusterCall, clusterEvalQ,
clusterExport, clusterMap, parApply, parCapply, parLapply,
parLapplyLB, parRapply, parSapply, parSapplyLB
The following objects are masked from 'package:stats':
IQR, mad, sd, var, xtabs
The following objects are masked from 'package:base':
Filter, Find, Map, Position, Reduce, anyDuplicated, append,
as.data.frame, cbind, colMeans, colSums, colnames, do.call,
duplicated, eval, evalq, get, grep, grepl, intersect, is.unsorted,
lapply, lengths, mapply, match, mget, order, paste, pmax, pmax.int,
pmin, pmin.int, rank, rbind, rowMeans, rowSums, rownames, sapply,
setdiff, sort, table, tapply, union, unique, unsplit, which,
which.max, which.min
Welcome to Bioconductor
Vignettes contain introductory material; view with
'browseVignettes()'. To cite Bioconductor, see
'citation("Biobase")', and for packages 'citation("pkgname")'.
Loading required package: GO.db
Loading required package: AnnotationDbi
Loading required package: stats4
Loading required package: IRanges
Loading required package: S4Vectors
Attaching package: 'S4Vectors'
The following object is masked from 'package:base':
expand.grid
Loading required package: KEGG.db
KEGG.db contains mappings based on older data because the original
resource was removed from the the public domain before the most
recent update was produced. This package should now be considered
deprecated and future versions of Bioconductor may not have it
available. Users who want more current data are encouraged to look
at the KEGGREST or reactome.db packages
>
> ## some dummy data
> set.seed(123)
> dData <- data.frame(someSymbol = LETTERS[1:5],
+ accessionNumber =
+ c("X83928", "V00540", "U21090", "L38487", "M34057"),
+ floats = rnorm(5))
>
> at <- annotationTable(displayData = dData,
+ displayCols = list(accessionNumber = "EntrezId"))
>
> at
annotationTable with hyperlink annotation for columns:
someSymbol, accessionNumber, floats
someSymbol accessionNumber floats
1 A X83928 -0.56047565
2 B V00540 -0.23017749
3 C U21090 1.55870831
4 D L38487 0.07050839
5 E M34057 0.12928774
>
> xat <- xtable(at, caption = "Example LaTeX table with Hyperlinks", digits = 3)
>
> print(xat, include.rownames = FALSE) # OK
% latex table generated in R 3.4.4 by xtable 1.8-2 package
% Thu Apr 12 00:08:08 2018
\begin{table}[ht]
\centering
\begin{tabular}{llr}
\hline
someSymbol & accessionNumber & floats \\
\hline
A & \href{http://www.ncbi.nlm.nih.gov/gene/X83928}{X83928} & -0.560 \\
B & \href{http://www.ncbi.nlm.nih.gov/gene/V00540}{V00540} & -0.230 \\
C & \href{http://www.ncbi.nlm.nih.gov/gene/U21090}{U21090} & 1.559 \\
D & \href{http://www.ncbi.nlm.nih.gov/gene/L38487}{L38487} & 0.071 \\
E & \href{http://www.ncbi.nlm.nih.gov/gene/M34057}{M34057} & 0.129 \\
\hline
\end{tabular}
\caption{Example LaTeX table with Hyperlinks}
\end{table}
>
>
> proc.time()
user system elapsed
3.813 0.135 3.987
a4Reporting.Rcheck/a4Reporting-Ex.timings
| name | user | system | elapsed | |
| annotationTable-class | 0.001 | 0.000 | 0.002 | |
| annotationTable | 0.006 | 0.001 | 0.007 | |
| xtable-methods | 0.058 | 0.004 | 0.063 | |