| Back to Multiple platform build/check report for BioC 3.6 |
|
This page was generated on 2018-04-12 13:20:50 -0400 (Thu, 12 Apr 2018).
| Package 6/1472 | Hostname | OS / Arch | INSTALL | BUILD | CHECK | BUILD BIN | ||||||
| a4Reporting 1.26.0 Tobias Verbeke
| malbec1 | Linux (Ubuntu 16.04.1 LTS) / x86_64 | OK | OK | OK | |||||||
| tokay1 | Windows Server 2012 R2 Standard / x64 | [ OK ] | OK | OK | OK | |||||||
| veracruz1 | OS X 10.11.6 El Capitan / x86_64 | OK | OK | OK | OK |
| Package: a4Reporting |
| Version: 1.26.0 |
| Command: rm -rf a4Reporting.buildbin-libdir && mkdir a4Reporting.buildbin-libdir && C:\cygwin\bin\curl.exe -O https://malbec1.bioconductor.org/BBS/3.6/bioc/src/contrib/a4Reporting_1.26.0.tar.gz && C:\Users\biocbuild\bbs-3.6-bioc\R\bin\R.exe CMD INSTALL --build --library=a4Reporting.buildbin-libdir --merge-multiarch a4Reporting_1.26.0.tar.gz && C:\Users\biocbuild\bbs-3.6-bioc\R\bin\R.exe CMD INSTALL a4Reporting_1.26.0.zip && rm a4Reporting_1.26.0.tar.gz a4Reporting_1.26.0.zip |
| StartedAt: 2018-04-11 18:28:55 -0400 (Wed, 11 Apr 2018) |
| EndedAt: 2018-04-11 18:29:38 -0400 (Wed, 11 Apr 2018) |
| EllapsedTime: 42.5 seconds |
| RetCode: 0 |
| Status: OK |
##############################################################################
##############################################################################
###
### Running command:
###
### rm -rf a4Reporting.buildbin-libdir && mkdir a4Reporting.buildbin-libdir && C:\cygwin\bin\curl.exe -O https://malbec1.bioconductor.org/BBS/3.6/bioc/src/contrib/a4Reporting_1.26.0.tar.gz && C:\Users\biocbuild\bbs-3.6-bioc\R\bin\R.exe CMD INSTALL --build --library=a4Reporting.buildbin-libdir --merge-multiarch a4Reporting_1.26.0.tar.gz && C:\Users\biocbuild\bbs-3.6-bioc\R\bin\R.exe CMD INSTALL a4Reporting_1.26.0.zip && rm a4Reporting_1.26.0.tar.gz a4Reporting_1.26.0.zip
###
##############################################################################
##############################################################################
% Total % Received % Xferd Average Speed Time Time Time Current
Dload Upload Total Spent Left Speed
0 0 0 0 0 0 0 0 --:--:-- --:--:-- --:--:-- 0
100 5245 100 5245 0 0 220k 0 --:--:-- --:--:-- --:--:-- 256k
install for i386
* installing *source* package 'a4Reporting' ...
** R
** inst
** preparing package for lazy loading
** help
*** installing help indices
converting help for package 'a4Reporting'
finding HTML links ... done
annotationTable-class html
annotationTable html
generateEntrezIdLinks html
generateGOIdLinks html
print.xtableAnnotationTable html
xtable-methods html
** building package indices
** testing if installed package can be loaded
In R CMD INSTALL
install for x64
* installing *source* package 'a4Reporting' ...
** testing if installed package can be loaded
* MD5 sums
packaged installation of 'a4Reporting' as a4Reporting_1.26.0.zip
* DONE (a4Reporting)
In R CMD INSTALL
In R CMD INSTALL
* installing to library 'C:/Users/biocbuild/bbs-3.6-bioc/R/library'
package 'a4Reporting' successfully unpacked and MD5 sums checked
In R CMD INSTALL