| Back to Multiple platform build/check report for BioC 3.6 |
|
This page was generated on 2018-04-12 13:36:09 -0400 (Thu, 12 Apr 2018).
| Package 945/1472 | Hostname | OS / Arch | INSTALL | BUILD | CHECK | BUILD BIN | ||||||
| NOISeq 2.22.1 Sonia Tarazona
| malbec1 | Linux (Ubuntu 16.04.1 LTS) / x86_64 | OK | OK | WARNINGS | |||||||
| tokay1 | Windows Server 2012 R2 Standard / x64 | OK | OK | WARNINGS | OK | |||||||
| veracruz1 | OS X 10.11.6 El Capitan / x86_64 | OK | OK | WARNINGS | [ OK ] |
| Package: NOISeq |
| Version: 2.22.1 |
| Command: rm -rf NOISeq.buildbin-libdir && mkdir NOISeq.buildbin-libdir && /Users/biocbuild/BBS/utils/build-universal.sh NOISeq_2.22.1.tar.gz /Library/Frameworks/R.framework/Versions/Current/Resources/bin/R NOISeq.buildbin-libdir |
| StartedAt: 2018-04-12 11:54:58 -0400 (Thu, 12 Apr 2018) |
| EndedAt: 2018-04-12 11:55:04 -0400 (Thu, 12 Apr 2018) |
| EllapsedTime: 6.0 seconds |
| RetCode: 0 |
| Status: OK |
| PackageFile: NOISeq_2.22.1.tgz |
| PackageFileSize: 1.513 MiB |
############################################################################## ############################################################################## ### ### Running command: ### ### rm -rf NOISeq.buildbin-libdir && mkdir NOISeq.buildbin-libdir && /Users/biocbuild/BBS/utils/build-universal.sh NOISeq_2.22.1.tar.gz /Library/Frameworks/R.framework/Versions/Current/Resources/bin/R NOISeq.buildbin-libdir ### ############################################################################## ############################################################################## >>>>>>> >>>>>>> INSTALLATION WITH 'R CMD INSTALL --preclean --no-multiarch --library=NOISeq.buildbin-libdir NOISeq_2.22.1.tar.gz' >>>>>>> * installing *source* package ‘NOISeq’ ... ** R ** data ** inst ** preparing package for lazy loading ** help *** installing help indices ** building package indices ** installing vignettes ** testing if installed package can be loaded * DONE (NOISeq)