| Back to Multiple platform build/check report for BioC 3.6 | 
 | 
This page was generated on 2018-04-12 13:22:12 -0400 (Thu, 12 Apr 2018).
| Package 945/1472 | Hostname | OS / Arch | INSTALL | BUILD | CHECK | BUILD BIN | ||||||
| NOISeq 2.22.1 Sonia Tarazona 
 | malbec1 | Linux (Ubuntu 16.04.1 LTS) / x86_64 | OK | OK | WARNINGS |  | ||||||
| tokay1 | Windows Server 2012 R2 Standard / x64 | [ OK ] | OK | WARNINGS | OK |  | ||||||
| veracruz1 | OS X 10.11.6 El Capitan / x86_64 | OK | OK | WARNINGS | OK |  | 
| Package: NOISeq | 
| Version: 2.22.1 | 
| Command: rm -rf NOISeq.buildbin-libdir && mkdir NOISeq.buildbin-libdir && C:\cygwin\bin\curl.exe -O https://malbec1.bioconductor.org/BBS/3.6/bioc/src/contrib/NOISeq_2.22.1.tar.gz && C:\Users\biocbuild\bbs-3.6-bioc\R\bin\R.exe CMD INSTALL --build --library=NOISeq.buildbin-libdir --merge-multiarch NOISeq_2.22.1.tar.gz && C:\Users\biocbuild\bbs-3.6-bioc\R\bin\R.exe CMD INSTALL NOISeq_2.22.1.zip && rm NOISeq_2.22.1.tar.gz NOISeq_2.22.1.zip | 
| StartedAt: 2018-04-11 18:21:35 -0400 (Wed, 11 Apr 2018) | 
| EndedAt: 2018-04-11 18:22:48 -0400 (Wed, 11 Apr 2018) | 
| EllapsedTime: 72.9 seconds | 
| RetCode: 0 | 
| Status: OK | 
##############################################################################
##############################################################################
###
### Running command:
###
###   rm -rf NOISeq.buildbin-libdir && mkdir NOISeq.buildbin-libdir  && C:\cygwin\bin\curl.exe -O https://malbec1.bioconductor.org/BBS/3.6/bioc/src/contrib/NOISeq_2.22.1.tar.gz && C:\Users\biocbuild\bbs-3.6-bioc\R\bin\R.exe CMD INSTALL --build --library=NOISeq.buildbin-libdir --merge-multiarch NOISeq_2.22.1.tar.gz && C:\Users\biocbuild\bbs-3.6-bioc\R\bin\R.exe CMD INSTALL NOISeq_2.22.1.zip  && rm NOISeq_2.22.1.tar.gz NOISeq_2.22.1.zip
###
##############################################################################
##############################################################################
  % Total    % Received % Xferd  Average Speed   Time    Time     Time  Current
                                 Dload  Upload   Total   Spent    Left  Speed
  0     0    0     0    0     0      0      0 --:--:-- --:--:-- --:--:--     0
100  755k  100  755k    0     0  4026k      0 --:--:-- --:--:-- --:--:-- 4105k
install for i386
* installing *source* package 'NOISeq' ...
** R
** data
** inst
** preparing package for lazy loading
** help
*** installing help indices
  converting help for package 'NOISeq'
    finding HTML links ... done
    ARSyNSeq                                html  
    Biodetection                            html  
    CD                                      html  
    CountsBio                               html  
    DE.plot                                 html  
    GCcontentBias                           html  
    LengthBias                              html  
    Marioni                                 html  
    Output                                  html  
    PCA.GENES                               html  
    PCA                                     html  
    QCreport                                html  
    Saturation                              html  
    dat                                     html  
    dat2save                                html  
    degenes                                 html  
    example                                 html  
    explo.plot                              html  
    filter.low.counts                       html  
    myCounts                                html  
    noiseq                                  html  
    noiseqbio                               html  
    normalization                           html  
    readData                                html  
** building package indices
** installing vignettes
   'NOISeq.Rnw' using 'UTF-8' 
** testing if installed package can be loaded
In R CMD INSTALL
install for x64
* installing *source* package 'NOISeq' ...
** testing if installed package can be loaded
* MD5 sums
packaged installation of 'NOISeq' as NOISeq_2.22.1.zip
* DONE (NOISeq)
In R CMD INSTALL
In R CMD INSTALL
* installing to library 'C:/Users/biocbuild/bbs-3.6-bioc/R/library'
package 'NOISeq' successfully unpacked and MD5 sums checked
In R CMD INSTALL