| Back to Multiple platform build/check report for BioC 3.6 |
|
This page was generated on 2018-04-12 13:35:42 -0400 (Thu, 12 Apr 2018).
| Package 735/1472 | Hostname | OS / Arch | INSTALL | BUILD | CHECK | BUILD BIN | ||||||
| KEGGprofile 1.20.0 Shilin Zhao
| malbec1 | Linux (Ubuntu 16.04.1 LTS) / x86_64 | OK | OK | OK | |||||||
| tokay1 | Windows Server 2012 R2 Standard / x64 | OK | OK | OK | OK | |||||||
| veracruz1 | OS X 10.11.6 El Capitan / x86_64 | OK | OK | [ OK ] | OK |
| Package: KEGGprofile |
| Version: 1.20.0 |
| Command: /Library/Frameworks/R.framework/Versions/Current/Resources/bin/R CMD check --no-vignettes --timings KEGGprofile_1.20.0.tar.gz |
| StartedAt: 2018-04-12 05:32:33 -0400 (Thu, 12 Apr 2018) |
| EndedAt: 2018-04-12 05:34:34 -0400 (Thu, 12 Apr 2018) |
| EllapsedTime: 120.8 seconds |
| RetCode: 0 |
| Status: OK |
| CheckDir: KEGGprofile.Rcheck |
| Warnings: 0 |
##############################################################################
##############################################################################
###
### Running command:
###
### /Library/Frameworks/R.framework/Versions/Current/Resources/bin/R CMD check --no-vignettes --timings KEGGprofile_1.20.0.tar.gz
###
##############################################################################
##############################################################################
* using log directory ‘/Users/biocbuild/bbs-3.6-bioc/meat/KEGGprofile.Rcheck’
* using R version 3.4.4 (2018-03-15)
* using platform: x86_64-apple-darwin15.6.0 (64-bit)
* using session charset: UTF-8
* using option ‘--no-vignettes’
* checking for file ‘KEGGprofile/DESCRIPTION’ ... OK
* checking extension type ... Package
* this is package ‘KEGGprofile’ version ‘1.20.0’
* checking package namespace information ... OK
* checking package dependencies ... OK
* checking if this is a source package ... OK
* checking if there is a namespace ... OK
* checking for hidden files and directories ... OK
* checking for portable file names ... OK
* checking for sufficient/correct file permissions ... OK
* checking whether package ‘KEGGprofile’ can be installed ... OK
* checking installed package size ... OK
* checking package directory ... OK
* checking ‘build’ directory ... OK
* checking DESCRIPTION meta-information ... OK
* checking top-level files ... OK
* checking for left-over files ... OK
* checking index information ... OK
* checking package subdirectories ... OK
* checking R files for non-ASCII characters ... OK
* checking R files for syntax errors ... OK
* checking whether the package can be loaded ... OK
* checking whether the package can be loaded with stated dependencies ... OK
* checking whether the package can be unloaded cleanly ... OK
* checking whether the namespace can be loaded with stated dependencies ... OK
* checking whether the namespace can be unloaded cleanly ... OK
* checking dependencies in R code ... OK
* checking S3 generic/method consistency ... OK
* checking replacement functions ... OK
* checking foreign function calls ... OK
* checking R code for possible problems ... OK
* checking Rd files ... OK
* checking Rd metadata ... OK
* checking Rd cross-references ... OK
* checking for missing documentation entries ... OK
* checking for code/documentation mismatches ... OK
* checking Rd \usage sections ... OK
* checking Rd contents ... OK
* checking for unstated dependencies in examples ... OK
* checking contents of ‘data’ directory ... OK
* checking data for non-ASCII characters ... OK
* checking data for ASCII and uncompressed saves ... OK
* checking sizes of PDF files under ‘inst/doc’ ... OK
* checking installed files from ‘inst/doc’ ... OK
* checking files in ‘vignettes’ ... OK
* checking examples ... OK
Examples with CPU or elapsed time > 5s
user system elapsed
plot_pathway 6.432 0.434 6.974
convertId 0.510 0.012 5.219
* checking for unstated dependencies in vignettes ... OK
* checking package vignettes in ‘inst/doc’ ... OK
* checking running R code from vignettes ... SKIPPED
* checking re-building of vignette outputs ... SKIPPED
* checking PDF version of manual ... OK
* DONE
Status: OK
KEGGprofile.Rcheck/00install.out
* installing *source* package ‘KEGGprofile’ ... ** R ** data ** inst ** preparing package for lazy loading ** help *** installing help indices ** building package indices ** installing vignettes ** testing if installed package can be loaded * DONE (KEGGprofile)
KEGGprofile.Rcheck/KEGGprofile-Ex.timings
| name | user | system | elapsed | |
| col_by_value | 0.019 | 0.002 | 0.021 | |
| convertId | 0.510 | 0.012 | 5.219 | |
| download_KEGGfile | 0.009 | 0.003 | 2.895 | |
| download_latest_pathway | 0.000 | 0.000 | 0.001 | |
| find_enriched_pathway | 2.307 | 0.087 | 2.440 | |
| newIdMatrix | 0.028 | 0.000 | 0.029 | |
| parse_XMLfile | 0.216 | 0.010 | 0.226 | |
| plot_pathway | 6.432 | 0.434 | 6.974 | |
| plot_pathway_cor | 2.510 | 0.094 | 2.662 | |
| plot_profile | 1.301 | 0.089 | 1.439 | |