| Back to Multiple platform build/check report for BioC 3.6 |
|
This page was generated on 2018-04-12 13:40:14 -0400 (Thu, 12 Apr 2018).
| Package 724/1472 | Hostname | OS / Arch | INSTALL | BUILD | CHECK | BUILD BIN | ||||||
| IVAS 1.98.0 Seonggyun Han
| malbec1 | Linux (Ubuntu 16.04.1 LTS) / x86_64 | OK | OK | OK | |||||||
| tokay1 | Windows Server 2012 R2 Standard / x64 | OK | OK | WARNINGS | OK | |||||||
| veracruz1 | OS X 10.11.6 El Capitan / x86_64 | OK | OK | [ OK ] | OK |
| Package: IVAS |
| Version: 1.98.0 |
| Command: /Library/Frameworks/R.framework/Versions/Current/Resources/bin/R CMD check --no-vignettes --timings IVAS_1.98.0.tar.gz |
| StartedAt: 2018-04-12 05:27:43 -0400 (Thu, 12 Apr 2018) |
| EndedAt: 2018-04-12 05:32:07 -0400 (Thu, 12 Apr 2018) |
| EllapsedTime: 264.3 seconds |
| RetCode: 0 |
| Status: OK |
| CheckDir: IVAS.Rcheck |
| Warnings: 0 |
##############################################################################
##############################################################################
###
### Running command:
###
### /Library/Frameworks/R.framework/Versions/Current/Resources/bin/R CMD check --no-vignettes --timings IVAS_1.98.0.tar.gz
###
##############################################################################
##############################################################################
* using log directory ‘/Users/biocbuild/bbs-3.6-bioc/meat/IVAS.Rcheck’
* using R version 3.4.4 (2018-03-15)
* using platform: x86_64-apple-darwin15.6.0 (64-bit)
* using session charset: UTF-8
* using option ‘--no-vignettes’
* checking for file ‘IVAS/DESCRIPTION’ ... OK
* checking extension type ... Package
* this is package ‘IVAS’ version ‘1.98.0’
* checking package namespace information ... OK
* checking package dependencies ... OK
* checking if this is a source package ... OK
* checking if there is a namespace ... OK
* checking for hidden files and directories ... OK
* checking for portable file names ... OK
* checking for sufficient/correct file permissions ... OK
* checking whether package ‘IVAS’ can be installed ... OK
* checking installed package size ... OK
* checking package directory ... OK
* checking ‘build’ directory ... OK
* checking DESCRIPTION meta-information ... OK
* checking top-level files ... OK
* checking for left-over files ... OK
* checking index information ... OK
* checking package subdirectories ... OK
* checking R files for non-ASCII characters ... OK
* checking R files for syntax errors ... OK
* checking whether the package can be loaded ... OK
* checking whether the package can be loaded with stated dependencies ... OK
* checking whether the package can be unloaded cleanly ... OK
* checking whether the namespace can be loaded with stated dependencies ... OK
* checking whether the namespace can be unloaded cleanly ... OK
* checking dependencies in R code ... OK
* checking S3 generic/method consistency ... OK
* checking replacement functions ... OK
* checking foreign function calls ... OK
* checking R code for possible problems ... OK
* checking Rd files ... OK
* checking Rd metadata ... OK
* checking Rd cross-references ... OK
* checking for missing documentation entries ... OK
* checking for code/documentation mismatches ... OK
* checking Rd \usage sections ... OK
* checking Rd contents ... OK
* checking for unstated dependencies in examples ... OK
* checking contents of ‘data’ directory ... OK
* checking data for non-ASCII characters ... OK
* checking data for ASCII and uncompressed saves ... OK
* checking sizes of PDF files under ‘inst/doc’ ... OK
* checking installed files from ‘inst/doc’ ... OK
* checking files in ‘vignettes’ ... OK
* checking examples ... OK
Examples with CPU or elapsed time > 5s
user system elapsed
ASdb-class 13.540 0.132 13.921
saveBplot 10.448 0.076 10.716
sQTLsFinder 8.481 0.054 8.625
CalSigSNP 6.257 0.036 6.398
RatioFromFPKM 5.198 0.037 5.322
* checking for unstated dependencies in vignettes ... OK
* checking package vignettes in ‘inst/doc’ ... OK
* checking running R code from vignettes ... SKIPPED
* checking re-building of vignette outputs ... SKIPPED
* checking PDF version of manual ... OK
* DONE
Status: OK
IVAS.Rcheck/00install.out
* installing *source* package ‘IVAS’ ... ** R ** data ** inst ** preparing package for lazy loading ** help *** installing help indices ** building package indices ** installing vignettes ** testing if installed package can be loaded * DONE (IVAS)
IVAS.Rcheck/IVAS-Ex.timings
| name | user | system | elapsed | |
| ASdb-class | 13.540 | 0.132 | 13.921 | |
| CalSigSNP | 6.257 | 0.036 | 6.398 | |
| RatioFromFPKM | 5.198 | 0.037 | 5.322 | |
| Splicingfinder | 3.980 | 0.023 | 4.070 | |
| chrseparate | 0.081 | 0.002 | 0.082 | |
| findAlternative | 0.571 | 0.007 | 0.588 | |
| findOversnp | 0.548 | 0.009 | 0.566 | |
| sQTLsFinder | 8.481 | 0.054 | 8.625 | |
| sampleexp | 0.005 | 0.001 | 0.006 | |
| samplesnp | 0.003 | 0.001 | 0.004 | |
| samplesnplocus | 0.002 | 0.001 | 0.004 | |
| saveBplot | 10.448 | 0.076 | 10.716 | |