| Back to Multiple platform build/check report for BioC 3.6 |
|
This page was generated on 2018-04-12 13:25:01 -0400 (Thu, 12 Apr 2018).
| Package 566/1472 | Hostname | OS / Arch | INSTALL | BUILD | CHECK | BUILD BIN | ||||||
| GenomicInteractions 1.12.0 Malcolm Perry
| malbec1 | Linux (Ubuntu 16.04.1 LTS) / x86_64 | OK | OK | OK | |||||||
| tokay1 | Windows Server 2012 R2 Standard / x64 | [ OK ] | OK | WARNINGS | OK | |||||||
| veracruz1 | OS X 10.11.6 El Capitan / x86_64 | OK | OK | OK | OK |
| Package: GenomicInteractions |
| Version: 1.12.0 |
| Command: rm -rf GenomicInteractions.buildbin-libdir && mkdir GenomicInteractions.buildbin-libdir && C:\cygwin\bin\curl.exe -O https://malbec1.bioconductor.org/BBS/3.6/bioc/src/contrib/GenomicInteractions_1.12.0.tar.gz && C:\Users\biocbuild\bbs-3.6-bioc\R\bin\R.exe CMD INSTALL --build --library=GenomicInteractions.buildbin-libdir --merge-multiarch GenomicInteractions_1.12.0.tar.gz && C:\Users\biocbuild\bbs-3.6-bioc\R\bin\R.exe CMD INSTALL GenomicInteractions_1.12.0.zip && rm GenomicInteractions_1.12.0.tar.gz GenomicInteractions_1.12.0.zip |
| StartedAt: 2018-04-11 18:56:28 -0400 (Wed, 11 Apr 2018) |
| EndedAt: 2018-04-11 18:58:38 -0400 (Wed, 11 Apr 2018) |
| EllapsedTime: 129.9 seconds |
| RetCode: 0 |
| Status: OK |
##############################################################################
##############################################################################
###
### Running command:
###
### rm -rf GenomicInteractions.buildbin-libdir && mkdir GenomicInteractions.buildbin-libdir && C:\cygwin\bin\curl.exe -O https://malbec1.bioconductor.org/BBS/3.6/bioc/src/contrib/GenomicInteractions_1.12.0.tar.gz && C:\Users\biocbuild\bbs-3.6-bioc\R\bin\R.exe CMD INSTALL --build --library=GenomicInteractions.buildbin-libdir --merge-multiarch GenomicInteractions_1.12.0.tar.gz && C:\Users\biocbuild\bbs-3.6-bioc\R\bin\R.exe CMD INSTALL GenomicInteractions_1.12.0.zip && rm GenomicInteractions_1.12.0.tar.gz GenomicInteractions_1.12.0.zip
###
##############################################################################
##############################################################################
% Total % Received % Xferd Average Speed Time Time Time Current
Dload Upload Total Spent Left Speed
0 0 0 0 0 0 0 0 --:--:-- --:--:-- --:--:-- 0
100 3313k 100 3313k 0 0 7175k 0 --:--:-- --:--:-- --:--:-- 7234k
install for i386
* installing *source* package 'GenomicInteractions' ...
** R
** data
** inst
** preparing package for lazy loading
Warning: replacing previous import 'BiocGenerics::Position' by 'ggplot2::Position' when loading 'GenomicInteractions'
Warning: replacing previous import 'BiocGenerics::sd' by 'stats::sd' when loading 'GenomicInteractions'
** help
*** installing help indices
converting help for package 'GenomicInteractions'
finding HTML links ... done
GInteractions-subsetByFeatures-methods
html
GenomicInteractions-class html
GenomicInteractions-package html
GenomicInteractions html
InteractionHelpers html
InteractionTrack-class html
InteractionTrack html
annotateAnchors html
annotateInteractions html
annotateRegions html
asBED-GInteractions-method html
availableDisplayPars html
calculateDistances html
categoriseInteractions html
countsBetweenAnchors-methods html
export.bed12 html
export.bedpe html
export.chiasig html
export.igraph html
get_binom_ligation_threshold html
get_self_ligation_threshold html
getters html
finding level-2 HTML links ... done
hg19.refseq.transcripts html
hic_example_data html
makeGenomicInteractionsFromFile html
mm9_refseq_promoters html
plotAvgViewpoint html
plotCisTrans html
plotCounts html
plotDists html
plotInteractionAnnotations html
plotSummaryStats html
plotViewpoint html
removeDups html
resetAnnotations html
sameStrand html
setters html
sum-GInteractions-method html
summariseByFeaturePairs html
summariseByFeatures html
thymus_enh html
updateObject-GenomicInteractions-method
html
viewPoint html
** building package indices
** installing vignettes
** testing if installed package can be loaded
Warning: replacing previous import 'BiocGenerics::Position' by 'ggplot2::Position' when loading 'GenomicInteractions'
Warning: replacing previous import 'BiocGenerics::sd' by 'stats::sd' when loading 'GenomicInteractions'
In R CMD INSTALL
install for x64
* installing *source* package 'GenomicInteractions' ...
** testing if installed package can be loaded
Warning: replacing previous import 'BiocGenerics::Position' by 'ggplot2::Position' when loading 'GenomicInteractions'
Warning: replacing previous import 'BiocGenerics::sd' by 'stats::sd' when loading 'GenomicInteractions'
* MD5 sums
packaged installation of 'GenomicInteractions' as GenomicInteractions_1.12.0.zip
* DONE (GenomicInteractions)
In R CMD INSTALL
In R CMD INSTALL
* installing to library 'C:/Users/biocbuild/bbs-3.6-bioc/R/library'
package 'GenomicInteractions' successfully unpacked and MD5 sums checked
In R CMD INSTALL