| Back to Multiple platform build/check report for BioC 3.6 | 
 | 
This page was generated on 2018-04-12 13:20:55 -0400 (Thu, 12 Apr 2018).
| Package 386/1472 | Hostname | OS / Arch | INSTALL | BUILD | CHECK | BUILD BIN | ||||||
| DOSE 3.4.0 Guangchuang Yu 
 | malbec1 | Linux (Ubuntu 16.04.1 LTS) / x86_64 | OK | OK | OK |  | ||||||
| tokay1 | Windows Server 2012 R2 Standard / x64 | [ OK ] | OK | OK | OK |  | ||||||
| veracruz1 | OS X 10.11.6 El Capitan / x86_64 | OK | OK | OK | OK |  | 
| Package: DOSE | 
| Version: 3.4.0 | 
| Command: rm -rf DOSE.buildbin-libdir && mkdir DOSE.buildbin-libdir && C:\cygwin\bin\curl.exe -O https://malbec1.bioconductor.org/BBS/3.6/bioc/src/contrib/DOSE_3.4.0.tar.gz && C:\Users\biocbuild\bbs-3.6-bioc\R\bin\R.exe CMD INSTALL --build --library=DOSE.buildbin-libdir --merge-multiarch DOSE_3.4.0.tar.gz && C:\Users\biocbuild\bbs-3.6-bioc\R\bin\R.exe CMD INSTALL DOSE_3.4.0.zip && rm DOSE_3.4.0.tar.gz DOSE_3.4.0.zip | 
| StartedAt: 2018-04-11 18:28:38 -0400 (Wed, 11 Apr 2018) | 
| EndedAt: 2018-04-11 18:31:28 -0400 (Wed, 11 Apr 2018) | 
| EllapsedTime: 170.1 seconds | 
| RetCode: 0 | 
| Status: OK | 
##############################################################################
##############################################################################
###
### Running command:
###
###   rm -rf DOSE.buildbin-libdir && mkdir DOSE.buildbin-libdir  && C:\cygwin\bin\curl.exe -O https://malbec1.bioconductor.org/BBS/3.6/bioc/src/contrib/DOSE_3.4.0.tar.gz && C:\Users\biocbuild\bbs-3.6-bioc\R\bin\R.exe CMD INSTALL --build --library=DOSE.buildbin-libdir --merge-multiarch DOSE_3.4.0.tar.gz && C:\Users\biocbuild\bbs-3.6-bioc\R\bin\R.exe CMD INSTALL DOSE_3.4.0.zip  && rm DOSE_3.4.0.tar.gz DOSE_3.4.0.zip
###
##############################################################################
##############################################################################
  % Total    % Received % Xferd  Average Speed   Time    Time     Time  Current
                                 Dload  Upload   Total   Spent    Left  Speed
  0     0    0     0    0     0      0      0 --:--:-- --:--:-- --:--:--     0
100 5141k  100 5141k    0     0  74.6M      0 --:--:-- --:--:-- --:--:-- 78.4M
install for i386
* installing *source* package 'DOSE' ...
** R
** data
** inst
** byte-compile and prepare package for lazy loading
** help
*** installing help indices
  converting help for package 'DOSE'
    finding HTML links ... done
    DOSE-package                            html  
    DataSet                                 html  
    EXTID2NAME                              html  
    GSEA_internal                           html  
    barplot.enrichResult                    html  
    clusterSim                              html  
    cnetplot-methods                        html  
    cnetplot_internal                       html  
    computeIC                               html  
    doSim                                   html  
    dotplot-methods                         html  
    enrichDGN                               html  
    enrichDGNv                              html  
    enrichDO                                html  
    enrichMap                               html  
    enrichNCG                               html  
    enrichResult-class                      html  
    enricher_internal                       html  
    fortify.enrichResult                    html  
    gene2DO                                 html  
    geneID                                  html  
    geneInCategory                          html  
    geneSim                                 html  
    gsInfo                                  html  
    gseDGN                                  html  
    gseDO                                   html  
    gseNCG                                  html  
    gseaResult-class                        html  
    gseaplot                                html  
    gsfilter                                html  
    list2graph                              html  
    mclusterSim                             html  
    netplot                                 html  
    plot-methods                            html  
    rebuildAnnoData                         html  
    reexports                               html  
    ridgeplot                               html  
    scaleNodeColor                          html  
    setReadable                             html  
    setting.graph.attributes                html  
    show-methods                            html  
    simplot                                 html  
    summary-methods                         html  
    theme_dose                              html  
    upsetplot-methods                       html  
** building package indices
** installing vignettes
** testing if installed package can be loaded
In R CMD INSTALL
install for x64
* installing *source* package 'DOSE' ...
** testing if installed package can be loaded
* MD5 sums
packaged installation of 'DOSE' as DOSE_3.4.0.zip
* DONE (DOSE)
In R CMD INSTALL
In R CMD INSTALL
* installing to library 'C:/Users/biocbuild/bbs-3.6-bioc/R/library'
package 'DOSE' successfully unpacked and MD5 sums checked
In R CMD INSTALL