| Back to Multiple platform build/check report for BioC 3.6 |
|
This page was generated on 2018-04-12 13:26:54 -0400 (Thu, 12 Apr 2018).
| Package 330/1472 | Hostname | OS / Arch | INSTALL | BUILD | CHECK | BUILD BIN | ||||||
| DAPAR 1.10.4 Samuel Wieczorek
| malbec1 | Linux (Ubuntu 16.04.1 LTS) / x86_64 | OK | OK | OK | |||||||
| tokay1 | Windows Server 2012 R2 Standard / x64 | [ OK ] | OK | OK | OK | |||||||
| veracruz1 | OS X 10.11.6 El Capitan / x86_64 | OK | OK | OK | OK |
| Package: DAPAR |
| Version: 1.10.4 |
| Command: rm -rf DAPAR.buildbin-libdir && mkdir DAPAR.buildbin-libdir && C:\cygwin\bin\curl.exe -O https://malbec1.bioconductor.org/BBS/3.6/bioc/src/contrib/DAPAR_1.10.4.tar.gz && C:\Users\biocbuild\bbs-3.6-bioc\R\bin\R.exe CMD INSTALL --build --library=DAPAR.buildbin-libdir --merge-multiarch DAPAR_1.10.4.tar.gz && C:\Users\biocbuild\bbs-3.6-bioc\R\bin\R.exe CMD INSTALL DAPAR_1.10.4.zip && rm DAPAR_1.10.4.tar.gz DAPAR_1.10.4.zip |
| StartedAt: 2018-04-11 18:56:53 -0400 (Wed, 11 Apr 2018) |
| EndedAt: 2018-04-11 18:59:43 -0400 (Wed, 11 Apr 2018) |
| EllapsedTime: 169.5 seconds |
| RetCode: 0 |
| Status: OK |
##############################################################################
##############################################################################
###
### Running command:
###
### rm -rf DAPAR.buildbin-libdir && mkdir DAPAR.buildbin-libdir && C:\cygwin\bin\curl.exe -O https://malbec1.bioconductor.org/BBS/3.6/bioc/src/contrib/DAPAR_1.10.4.tar.gz && C:\Users\biocbuild\bbs-3.6-bioc\R\bin\R.exe CMD INSTALL --build --library=DAPAR.buildbin-libdir --merge-multiarch DAPAR_1.10.4.tar.gz && C:\Users\biocbuild\bbs-3.6-bioc\R\bin\R.exe CMD INSTALL DAPAR_1.10.4.zip && rm DAPAR_1.10.4.tar.gz DAPAR_1.10.4.zip
###
##############################################################################
##############################################################################
% Total % Received % Xferd Average Speed Time Time Time Current
Dload Upload Total Spent Left Speed
0 0 0 0 0 0 0 0 --:--:-- --:--:-- --:--:-- 0
100 1445k 100 1445k 0 0 15.0M 0 --:--:-- --:--:-- --:--:-- 16.0M
install for i386
* installing *source* package 'DAPAR' ...
** R
** inst
** preparing package for lazy loading
** help
*** installing help indices
converting help for package 'DAPAR'
finding HTML links ... done
BuildAdjacencyMatrix html
BuildColumnToProteinDataset html
BuildColumnToProteinDataset_par html
CVDistD html
CVDistD_HC html
CountPep html
GOAnalysisSave html
finding level-2 HTML links ... done
GraphPepProt html
LH0 html
LH1 html
MeanPeptides html
StringBasedFiltering html
SumPeptides html
TopnPeptides html
barplotEnrichGO_HC html
barplotGroupGO_HC html
boxPlotD html
boxPlotD_HC html
compareNormalizationD html
compareNormalizationD_HC html
corrMatrixD html
corrMatrixD_HC html
createMSnset html
deleteLinesFromIndices html
densityPlotD html
densityPlotD_HC html
diffAna html
diffAnaComputeFDR html
diffAnaGetSignificant html
diffAnaLimma html
diffAnaSave html
diffAnaVolcanoplot_rCharts html
diffAnaWelch html
enrich_GO html
fudge2LRT html
getIndicesConditions html
getIndicesOfLinesToRemove html
getNumberOf html
getNumberOfEmptyLines html
getPaletteForLabels html
getPaletteForLabels_HC html
getPaletteForReplicates html
getPaletteForReplicates_HC html
getPourcentageOfMV html
getProcessingInfo html
getProteinsStats html
getQuantile4Imp html
group_GO html
heatmap.DAPAR html
heatmapD html
impute.detQuant html
impute.pa2 html
limmaCompleteTest html
listSheets html
mvFilter html
mvFilterFromIndices html
mvFilterGetIndices html
mvHisto html
mvHisto_HC html
mvImage html
mvImputation html
mvPerLinesHisto html
mvPerLinesHistoPerCondition html
mvPerLinesHistoPerCondition_HC html
mvPerLinesHisto_HC html
mvTypePlot html
my_hc_ExportMenu html
my_hc_chart html
nonzero html
normalizeD html
normalizeD2 html
pepAgregate html
pepa.test html
proportionConRev_HC html
readExcel html
removeLines html
samLRT html
scatterplotEnrichGO_HC html
translatedRandomBeta html
univ_AnnotDbPkg html
violinPlotD html
wrapper.CVDistD html
wrapper.CVDistD_HC html
wrapper.boxPlotD html
wrapper.boxPlotD_HC html
wrapper.compareNormalizationD html
wrapper.compareNormalizationD_HC html
wrapper.corrMatrixD html
wrapper.corrMatrixD_HC html
wrapper.dapar.impute.mi html
wrapper.densityPlotD html
wrapper.densityPlotD_HC html
wrapper.diffAnaLimma html
wrapper.diffAnaWelch html
wrapper.heatmapD html
wrapper.impute.detQuant html
wrapper.impute.pa html
wrapper.impute.pa2 html
wrapper.mvHisto html
wrapper.mvHisto_HC html
wrapper.mvImage html
wrapper.mvImputation html
wrapper.mvPerLinesHisto html
wrapper.mvPerLinesHistoPerCondition html
wrapper.mvPerLinesHistoPerCondition_HC
html
wrapper.mvPerLinesHisto_HC html
wrapper.mvTypePlot html
wrapper.normalizeD html
wrapper.normalizeD2 html
wrapper.violinPlotD html
wrapperCalibrationPlot html
writeMSnsetToExcel html
** building package indices
** installing vignettes
** testing if installed package can be loaded
In R CMD INSTALL
install for x64
* installing *source* package 'DAPAR' ...
** testing if installed package can be loaded
* MD5 sums
packaged installation of 'DAPAR' as DAPAR_1.10.4.zip
* DONE (DAPAR)
In R CMD INSTALL
In R CMD INSTALL
* installing to library 'C:/Users/biocbuild/bbs-3.6-bioc/R/library'
package 'DAPAR' successfully unpacked and MD5 sums checked
In R CMD INSTALL