| Back to Multiple platform build/check report for BioC 3.6 |
|
This page was generated on 2018-04-12 13:26:54 -0400 (Thu, 12 Apr 2018).
| Package 330/1472 | Hostname | OS / Arch | INSTALL | BUILD | CHECK | BUILD BIN | ||||||
| DAPAR 1.10.4 Samuel Wieczorek
| malbec1 | Linux (Ubuntu 16.04.1 LTS) / x86_64 | OK | OK | OK | |||||||
| tokay1 | Windows Server 2012 R2 Standard / x64 | OK | OK | [ OK ] | OK | |||||||
| veracruz1 | OS X 10.11.6 El Capitan / x86_64 | OK | OK | OK | OK |
| Package: DAPAR |
| Version: 1.10.4 |
| Command: rm -rf DAPAR.buildbin-libdir DAPAR.Rcheck && mkdir DAPAR.buildbin-libdir DAPAR.Rcheck && C:\Users\biocbuild\bbs-3.6-bioc\R\bin\R.exe CMD INSTALL --build --merge-multiarch --library=DAPAR.buildbin-libdir DAPAR_1.10.4.tar.gz >DAPAR.Rcheck\00install.out 2>&1 && cp DAPAR.Rcheck\00install.out DAPAR-install.out && C:\Users\biocbuild\bbs-3.6-bioc\R\bin\R.exe CMD check --library=DAPAR.buildbin-libdir --install="check:DAPAR-install.out" --force-multiarch --no-vignettes --timings DAPAR_1.10.4.tar.gz |
| StartedAt: 2018-04-11 23:21:00 -0400 (Wed, 11 Apr 2018) |
| EndedAt: 2018-04-11 23:33:23 -0400 (Wed, 11 Apr 2018) |
| EllapsedTime: 743.6 seconds |
| RetCode: 0 |
| Status: OK |
| CheckDir: DAPAR.Rcheck |
| Warnings: 0 |
##############################################################################
##############################################################################
###
### Running command:
###
### rm -rf DAPAR.buildbin-libdir DAPAR.Rcheck && mkdir DAPAR.buildbin-libdir DAPAR.Rcheck && C:\Users\biocbuild\bbs-3.6-bioc\R\bin\R.exe CMD INSTALL --build --merge-multiarch --library=DAPAR.buildbin-libdir DAPAR_1.10.4.tar.gz >DAPAR.Rcheck\00install.out 2>&1 && cp DAPAR.Rcheck\00install.out DAPAR-install.out && C:\Users\biocbuild\bbs-3.6-bioc\R\bin\R.exe CMD check --library=DAPAR.buildbin-libdir --install="check:DAPAR-install.out" --force-multiarch --no-vignettes --timings DAPAR_1.10.4.tar.gz
###
##############################################################################
##############################################################################
* using log directory 'C:/Users/biocbuild/bbs-3.6-bioc/meat/DAPAR.Rcheck'
* using R version 3.4.4 (2018-03-15)
* using platform: x86_64-w64-mingw32 (64-bit)
* using session charset: ISO8859-1
* using option '--no-vignettes'
* checking for file 'DAPAR/DESCRIPTION' ... OK
* checking extension type ... Package
* this is package 'DAPAR' version '1.10.4'
* checking package namespace information ... OK
* checking package dependencies ... OK
* checking if this is a source package ... OK
* checking if there is a namespace ... OK
* checking for hidden files and directories ... OK
* checking for portable file names ... OK
* checking whether package 'DAPAR' can be installed ... OK
* checking installed package size ... OK
* checking package directory ... OK
* checking 'build' directory ... OK
* checking DESCRIPTION meta-information ... OK
* checking top-level files ... OK
* checking for left-over files ... OK
* checking index information ... OK
* checking package subdirectories ... OK
* checking R files for non-ASCII characters ... OK
* checking R files for syntax errors ... OK
* loading checks for arch 'i386'
** checking whether the package can be loaded ... OK
** checking whether the package can be loaded with stated dependencies ... OK
** checking whether the package can be unloaded cleanly ... OK
** checking whether the namespace can be loaded with stated dependencies ... OK
** checking whether the namespace can be unloaded cleanly ... OK
* loading checks for arch 'x64'
** checking whether the package can be loaded ... OK
** checking whether the package can be loaded with stated dependencies ... OK
** checking whether the package can be unloaded cleanly ... OK
** checking whether the namespace can be loaded with stated dependencies ... OK
** checking whether the namespace can be unloaded cleanly ... OK
* checking dependencies in R code ... OK
* checking S3 generic/method consistency ... OK
* checking replacement functions ... OK
* checking foreign function calls ... OK
* checking R code for possible problems ... OK
* checking Rd files ... OK
* checking Rd metadata ... OK
* checking Rd cross-references ... OK
* checking for missing documentation entries ... OK
* checking for code/documentation mismatches ... OK
* checking Rd \usage sections ... OK
* checking Rd contents ... OK
* checking for unstated dependencies in examples ... OK
* checking installed files from 'inst/doc' ... OK
* checking files in 'vignettes' ... OK
* checking examples ...
** running examples for arch 'i386' ... OK
Examples with CPU or elapsed time > 5s
user system elapsed
compareNormalizationD_HC 25.18 0.03 25.21
wrapper.compareNormalizationD_HC 23.32 0.03 23.59
wrapper.dapar.impute.mi 17.91 0.01 17.92
enrich_GO 13.66 0.85 14.78
group_GO 9.16 0.25 9.42
BuildColumnToProteinDataset_par 0.72 0.00 11.89
** running examples for arch 'x64' ... OK
Examples with CPU or elapsed time > 5s
user system elapsed
wrapper.dapar.impute.mi 47.28 0.04 47.31
wrapper.compareNormalizationD_HC 38.69 0.04 38.74
compareNormalizationD_HC 30.91 0.09 31.00
enrich_GO 13.59 0.58 14.17
group_GO 11.11 0.63 11.74
mvImage 5.50 0.03 5.53
BuildColumnToProteinDataset_par 0.70 0.05 12.79
* checking for unstated dependencies in 'tests' ... OK
* checking tests ...
** running tests for arch 'i386' ...
Running 'testthat.R'
OK
** running tests for arch 'x64' ...
Running 'testthat.R'
OK
* checking for unstated dependencies in vignettes ... OK
* checking package vignettes in 'inst/doc' ... OK
* checking running R code from vignettes ... SKIPPED
* checking re-building of vignette outputs ... SKIPPED
* checking PDF version of manual ... OK
* DONE
Status: OK
DAPAR.Rcheck/00install.out
install for i386
* installing *source* package 'DAPAR' ...
** R
** inst
** preparing package for lazy loading
** help
*** installing help indices
converting help for package 'DAPAR'
finding HTML links ... done
BuildAdjacencyMatrix html
BuildColumnToProteinDataset html
BuildColumnToProteinDataset_par html
CVDistD html
CVDistD_HC html
CountPep html
GOAnalysisSave html
finding level-2 HTML links ... done
GraphPepProt html
LH0 html
LH1 html
MeanPeptides html
StringBasedFiltering html
SumPeptides html
TopnPeptides html
barplotEnrichGO_HC html
barplotGroupGO_HC html
boxPlotD html
boxPlotD_HC html
compareNormalizationD html
compareNormalizationD_HC html
corrMatrixD html
corrMatrixD_HC html
createMSnset html
deleteLinesFromIndices html
densityPlotD html
densityPlotD_HC html
diffAna html
diffAnaComputeFDR html
diffAnaGetSignificant html
diffAnaLimma html
diffAnaSave html
diffAnaVolcanoplot_rCharts html
diffAnaWelch html
enrich_GO html
fudge2LRT html
getIndicesConditions html
getIndicesOfLinesToRemove html
getNumberOf html
getNumberOfEmptyLines html
getPaletteForLabels html
getPaletteForLabels_HC html
getPaletteForReplicates html
getPaletteForReplicates_HC html
getPourcentageOfMV html
getProcessingInfo html
getProteinsStats html
getQuantile4Imp html
group_GO html
heatmap.DAPAR html
heatmapD html
impute.detQuant html
impute.pa2 html
limmaCompleteTest html
listSheets html
mvFilter html
mvFilterFromIndices html
mvFilterGetIndices html
mvHisto html
mvHisto_HC html
mvImage html
mvImputation html
mvPerLinesHisto html
mvPerLinesHistoPerCondition html
mvPerLinesHistoPerCondition_HC html
mvPerLinesHisto_HC html
mvTypePlot html
my_hc_ExportMenu html
my_hc_chart html
nonzero html
normalizeD html
normalizeD2 html
pepAgregate html
pepa.test html
proportionConRev_HC html
readExcel html
removeLines html
samLRT html
scatterplotEnrichGO_HC html
translatedRandomBeta html
univ_AnnotDbPkg html
violinPlotD html
wrapper.CVDistD html
wrapper.CVDistD_HC html
wrapper.boxPlotD html
wrapper.boxPlotD_HC html
wrapper.compareNormalizationD html
wrapper.compareNormalizationD_HC html
wrapper.corrMatrixD html
wrapper.corrMatrixD_HC html
wrapper.dapar.impute.mi html
wrapper.densityPlotD html
wrapper.densityPlotD_HC html
wrapper.diffAnaLimma html
wrapper.diffAnaWelch html
wrapper.heatmapD html
wrapper.impute.detQuant html
wrapper.impute.pa html
wrapper.impute.pa2 html
wrapper.mvHisto html
wrapper.mvHisto_HC html
wrapper.mvImage html
wrapper.mvImputation html
wrapper.mvPerLinesHisto html
wrapper.mvPerLinesHistoPerCondition html
wrapper.mvPerLinesHistoPerCondition_HC
html
wrapper.mvPerLinesHisto_HC html
wrapper.mvTypePlot html
wrapper.normalizeD html
wrapper.normalizeD2 html
wrapper.violinPlotD html
wrapperCalibrationPlot html
writeMSnsetToExcel html
** building package indices
** installing vignettes
** testing if installed package can be loaded
In R CMD INSTALL
install for x64
* installing *source* package 'DAPAR' ...
** testing if installed package can be loaded
* MD5 sums
packaged installation of 'DAPAR' as DAPAR_1.10.4.zip
* DONE (DAPAR)
In R CMD INSTALL
In R CMD INSTALL
|
DAPAR.Rcheck/tests_i386/testthat.Rout
R version 3.4.4 (2018-03-15) -- "Someone to Lean On"
Copyright (C) 2018 The R Foundation for Statistical Computing
Platform: i386-w64-mingw32/i386 (32-bit)
R is free software and comes with ABSOLUTELY NO WARRANTY.
You are welcome to redistribute it under certain conditions.
Type 'license()' or 'licence()' for distribution details.
R is a collaborative project with many contributors.
Type 'contributors()' for more information and
'citation()' on how to cite R or R packages in publications.
Type 'demo()' for some demos, 'help()' for on-line help, or
'help.start()' for an HTML browser interface to help.
Type 'q()' to quit R.
> library(testthat)
> library(DAPAR)
>
> test_check("DAPAR")
Procedure of Benjamini-Hochberg is used. pi0 is fixed to 1.
1 2 3 4 5
5 2 2 4 1 0
1 2 3 4 5
5 2 2 4 1 0
1 2 3 4 5
5 2 2 4 1 0
== testthat results ===========================================================
OK: 125 SKIPPED: 0 FAILED: 0
>
> proc.time()
user system elapsed
15.35 0.67 16.54
|
DAPAR.Rcheck/tests_x64/testthat.Rout
R version 3.4.4 (2018-03-15) -- "Someone to Lean On"
Copyright (C) 2018 The R Foundation for Statistical Computing
Platform: x86_64-w64-mingw32/x64 (64-bit)
R is free software and comes with ABSOLUTELY NO WARRANTY.
You are welcome to redistribute it under certain conditions.
Type 'license()' or 'licence()' for distribution details.
R is a collaborative project with many contributors.
Type 'contributors()' for more information and
'citation()' on how to cite R or R packages in publications.
Type 'demo()' for some demos, 'help()' for on-line help, or
'help.start()' for an HTML browser interface to help.
Type 'q()' to quit R.
> library(testthat)
> library(DAPAR)
>
> test_check("DAPAR")
Procedure of Benjamini-Hochberg is used. pi0 is fixed to 1.
1 2 3 4 5
5 2 2 4 1 0
1 2 3 4 5
5 2 2 4 1 0
1 2 3 4 5
5 2 2 4 1 0
== testthat results ===========================================================
OK: 125 SKIPPED: 0 FAILED: 0
>
> proc.time()
user system elapsed
20.56 0.43 21.12
|
|
DAPAR.Rcheck/examples_i386/DAPAR-Ex.timings
|
DAPAR.Rcheck/examples_x64/DAPAR-Ex.timings
|