| Back to the "Multiple platform build/check report" | A B C D E F G H I J K L M N O P Q R [S] T U V W X Y Z |
This page was generated on 2017-08-16 13:25:32 -0400 (Wed, 16 Aug 2017).
| Package 1253/1382 | Hostname | OS / Arch | INSTALL | BUILD | CHECK | BUILD BIN | |||||
| SpidermiR 1.6.3 Claudia Cava
| malbec2 | Linux (Ubuntu 16.04.1 LTS) / x86_64 | OK | OK | OK | ||||||
| tokay2 | Windows Server 2012 R2 Standard / x64 | OK | OK | [ OK ] | OK | ||||||
| veracruz2 | OS X 10.11.6 El Capitan / x86_64 | OK | OK | OK | OK |
| Package: SpidermiR |
| Version: 1.6.3 |
| Command: rm -rf SpidermiR.buildbin-libdir SpidermiR.Rcheck && mkdir SpidermiR.buildbin-libdir SpidermiR.Rcheck && C:\Users\biocbuild\bbs-3.5-bioc\R\bin\R.exe CMD INSTALL --build --merge-multiarch --library=SpidermiR.buildbin-libdir SpidermiR_1.6.3.tar.gz >SpidermiR.Rcheck\00install.out 2>&1 && cp SpidermiR.Rcheck\00install.out SpidermiR-install.out && C:\Users\biocbuild\bbs-3.5-bioc\R\bin\R.exe CMD check --library=SpidermiR.buildbin-libdir --install="check:SpidermiR-install.out" --force-multiarch --no-vignettes --timings SpidermiR_1.6.3.tar.gz |
| StartedAt: 2017-08-16 03:05:16 -0400 (Wed, 16 Aug 2017) |
| EndedAt: 2017-08-16 03:15:40 -0400 (Wed, 16 Aug 2017) |
| EllapsedTime: 623.4 seconds |
| RetCode: 0 |
| Status: OK |
| CheckDir: SpidermiR.Rcheck |
| Warnings: 0 |
##############################################################################
##############################################################################
###
### Running command:
###
### rm -rf SpidermiR.buildbin-libdir SpidermiR.Rcheck && mkdir SpidermiR.buildbin-libdir SpidermiR.Rcheck && C:\Users\biocbuild\bbs-3.5-bioc\R\bin\R.exe CMD INSTALL --build --merge-multiarch --library=SpidermiR.buildbin-libdir SpidermiR_1.6.3.tar.gz >SpidermiR.Rcheck\00install.out 2>&1 && cp SpidermiR.Rcheck\00install.out SpidermiR-install.out && C:\Users\biocbuild\bbs-3.5-bioc\R\bin\R.exe CMD check --library=SpidermiR.buildbin-libdir --install="check:SpidermiR-install.out" --force-multiarch --no-vignettes --timings SpidermiR_1.6.3.tar.gz
###
##############################################################################
##############################################################################
* using log directory 'C:/Users/biocbuild/bbs-3.5-bioc/meat/SpidermiR.Rcheck'
* using R version 3.4.1 (2017-06-30)
* using platform: x86_64-w64-mingw32 (64-bit)
* using session charset: ISO8859-1
* using option '--no-vignettes'
* checking for file 'SpidermiR/DESCRIPTION' ... OK
* checking extension type ... Package
* this is package 'SpidermiR' version '1.6.3'
* checking package namespace information ... OK
* checking package dependencies ... OK
* checking if this is a source package ... OK
* checking if there is a namespace ... OK
* checking for hidden files and directories ... OK
* checking for portable file names ... OK
* checking whether package 'SpidermiR' can be installed ... OK
* checking installed package size ... OK
* checking package directory ... OK
* checking 'build' directory ... OK
* checking DESCRIPTION meta-information ... OK
* checking top-level files ... OK
* checking for left-over files ... OK
* checking index information ... OK
* checking package subdirectories ... OK
* checking R files for non-ASCII characters ... OK
* checking R files for syntax errors ... OK
* loading checks for arch 'i386'
** checking whether the package can be loaded ... OK
** checking whether the package can be loaded with stated dependencies ... OK
** checking whether the package can be unloaded cleanly ... OK
** checking whether the namespace can be loaded with stated dependencies ... OK
** checking whether the namespace can be unloaded cleanly ... OK
* loading checks for arch 'x64'
** checking whether the package can be loaded ... OK
** checking whether the package can be loaded with stated dependencies ... OK
** checking whether the package can be unloaded cleanly ... OK
** checking whether the namespace can be loaded with stated dependencies ... OK
** checking whether the namespace can be unloaded cleanly ... OK
* checking dependencies in R code ... OK
* checking S3 generic/method consistency ... OK
* checking replacement functions ... OK
* checking foreign function calls ... OK
* checking R code for possible problems ... NOTE
.SpidermiRvisualize_gene: possible error in simpleNetwork(NetworkData,
linkColour = "gray", textColour = "black", zoom = TRUE): unused
argument (textColour = "black")
SpidermiRvisualize_plot_target: no visible binding for global variable
'miRNAs'
SpidermiRvisualize_plot_target: no visible binding for global variable
'mRNA_target'
Undefined global functions or variables:
mRNA_target miRNAs
* checking Rd files ... OK
* checking Rd metadata ... OK
* checking Rd cross-references ... OK
* checking for missing documentation entries ... OK
* checking for code/documentation mismatches ... OK
* checking Rd \usage sections ... OK
* checking Rd contents ... OK
* checking for unstated dependencies in examples ... OK
* checking contents of 'data' directory ... OK
* checking data for non-ASCII characters ... OK
* checking data for ASCII and uncompressed saves ... OK
* checking installed files from 'inst/doc' ... OK
* checking files in 'vignettes' ... OK
* checking examples ...
** running examples for arch 'i386' ... OK
Examples with CPU or elapsed time > 5s
user system elapsed
SpidermiRprepare_NET 10.14 3.03 13.56
SpidermiRdownload_net 5.86 1.95 8.39
SpidermiRanalyze_mirna_gene_complnet 5.44 0.79 6.99
SpidermiRdownload_miRNAextra_cir 4.42 1.16 5.98
SpidermiRanalyze_mirna_network 4.90 0.61 6.19
SpidermiRdownload_miRNAvalidate 2.75 0.17 25.76
** running examples for arch 'x64' ... OK
Examples with CPU or elapsed time > 5s
user system elapsed
SpidermiRprepare_NET 7.53 3.22 11.12
SpidermiRdownload_net 4.19 1.94 6.66
SpidermiRanalyze_mirna_gene_complnet 4.62 0.68 5.98
SpidermiRdownload_miRNAvalidate 3.47 0.17 10.39
* checking for unstated dependencies in 'tests' ... OK
* checking tests ...
** running tests for arch 'i386' ...
Running 'testthat.R'
OK
** running tests for arch 'x64' ...
Running 'testthat.R'
OK
* checking for unstated dependencies in vignettes ... OK
* checking package vignettes in 'inst/doc' ... OK
* checking running R code from vignettes ... SKIPPED
* checking re-building of vignette outputs ... SKIPPED
* checking PDF version of manual ... OK
* DONE
Status: 1 NOTE
See
'C:/Users/biocbuild/bbs-3.5-bioc/meat/SpidermiR.Rcheck/00check.log'
for details.
SpidermiR.Rcheck/00install.out:
install for i386 * installing *source* package 'SpidermiR' ... ** R ** data *** moving datasets to lazyload DB ** inst ** preparing package for lazy loading ** help *** installing help indices ** building package indices ** installing vignettes ** testing if installed package can be loaded install for x64 * installing *source* package 'SpidermiR' ... ** testing if installed package can be loaded * MD5 sums packaged installation of 'SpidermiR' as SpidermiR_1.6.3.zip * DONE (SpidermiR)
SpidermiR.Rcheck/examples_i386/SpidermiR-Ex.timings:
| name | user | system | elapsed | |
| Case_Study1_loading_1_network | 0 | 0 | 0 | |
| Case_Study1_loading_2_network | 0 | 0 | 0 | |
| Case_Study1_loading_3_network | 0 | 0 | 0 | |
| Case_Study1_loading_4_network | 0 | 0 | 0 | |
| Case_Study2_loading_1_network | 0 | 0 | 0 | |
| Case_Study2_loading_2_network | 0 | 0 | 0 | |
| Case_Study2_loading_3_network | 0 | 0 | 0 | |
| SpidermiRanalyze_Community_detection | 0.06 | 0.01 | 0.08 | |
| SpidermiRanalyze_Community_detection_bi | 0.33 | 0.02 | 0.34 | |
| SpidermiRanalyze_Community_detection_net | 0 | 0 | 0 | |
| SpidermiRanalyze_DEnetworkTCGA | 4.69 | 0.00 | 4.69 | |
| SpidermiRanalyze_degree_centrality | 0 | 0 | 0 | |
| SpidermiRanalyze_direct_net | 0.03 | 0.00 | 0.03 | |
| SpidermiRanalyze_direct_subnetwork | 0.03 | 0.00 | 0.03 | |
| SpidermiRanalyze_mirna_gene_complnet | 5.44 | 0.79 | 6.99 | |
| SpidermiRanalyze_mirna_network | 4.90 | 0.61 | 6.19 | |
| SpidermiRanalyze_mirnanet_pharm | 0 | 0 | 0 | |
| SpidermiRanalyze_subnetwork_neigh | 0 | 0 | 0 | |
| SpidermiRdownload_miRNAextra_cir | 4.42 | 1.16 | 5.98 | |
| SpidermiRdownload_miRNAprediction | 4.30 | 0.36 | 4.66 | |
| SpidermiRdownload_miRNAvalidate | 2.75 | 0.17 | 25.76 | |
| SpidermiRdownload_net | 5.86 | 1.95 | 8.39 | |
| SpidermiRdownload_pharmacomir | 0.34 | 0.07 | 0.66 | |
| SpidermiRprepare_NET | 10.14 | 3.03 | 13.56 | |
| SpidermiRquery_disease | 1.65 | 0.54 | 2.22 | |
| SpidermiRquery_networks_type | 0.21 | 0.11 | 0.72 | |
| SpidermiRquery_spec_networks | 0.07 | 0.00 | 0.41 | |
| SpidermiRquery_species | 0.03 | 0.00 | 0.26 | |
| SpidermiRvisualize_3Dbarplot | 0.14 | 0.00 | 0.14 | |
| SpidermiRvisualize_BI | 0.29 | 0.02 | 0.61 | |
| SpidermiRvisualize_adj_matrix | 0.09 | 0.03 | 0.12 | |
| SpidermiRvisualize_degree_dist | 0.01 | 0.00 | 0.02 | |
| SpidermiRvisualize_direction | 0.25 | 0.02 | 1.62 | |
| SpidermiRvisualize_mirnanet | 0.07 | 0.03 | 0.10 | |
| SpidermiRvisualize_plot_target | 1.08 | 0.00 | 1.07 | |
SpidermiR.Rcheck/examples_x64/SpidermiR-Ex.timings:
| name | user | system | elapsed | |
| Case_Study1_loading_1_network | 0 | 0 | 0 | |
| Case_Study1_loading_2_network | 0 | 0 | 0 | |
| Case_Study1_loading_3_network | 0 | 0 | 0 | |
| Case_Study1_loading_4_network | 0 | 0 | 0 | |
| Case_Study2_loading_1_network | 0 | 0 | 0 | |
| Case_Study2_loading_2_network | 0 | 0 | 0 | |
| Case_Study2_loading_3_network | 0 | 0 | 0 | |
| SpidermiRanalyze_Community_detection | 0.07 | 0.00 | 0.06 | |
| SpidermiRanalyze_Community_detection_bi | 0.29 | 0.00 | 0.30 | |
| SpidermiRanalyze_Community_detection_net | 0.02 | 0.00 | 0.01 | |
| SpidermiRanalyze_DEnetworkTCGA | 4.34 | 0.03 | 4.38 | |
| SpidermiRanalyze_degree_centrality | 0 | 0 | 0 | |
| SpidermiRanalyze_direct_net | 0.03 | 0.00 | 0.03 | |
| SpidermiRanalyze_direct_subnetwork | 0.04 | 0.00 | 0.03 | |
| SpidermiRanalyze_mirna_gene_complnet | 4.62 | 0.68 | 5.98 | |
| SpidermiRanalyze_mirna_network | 3.41 | 0.73 | 4.82 | |
| SpidermiRanalyze_mirnanet_pharm | 0 | 0 | 0 | |
| SpidermiRanalyze_subnetwork_neigh | 0 | 0 | 0 | |
| SpidermiRdownload_miRNAextra_cir | 2.86 | 0.92 | 4.03 | |
| SpidermiRdownload_miRNAprediction | 4.06 | 0.33 | 4.39 | |
| SpidermiRdownload_miRNAvalidate | 3.47 | 0.17 | 10.39 | |
| SpidermiRdownload_net | 4.19 | 1.94 | 6.66 | |
| SpidermiRdownload_pharmacomir | 0.24 | 0.08 | 0.55 | |
| SpidermiRprepare_NET | 7.53 | 3.22 | 11.12 | |
| SpidermiRquery_disease | 1.32 | 0.31 | 1.66 | |
| SpidermiRquery_networks_type | 0.16 | 0.08 | 0.48 | |
| SpidermiRquery_spec_networks | 0.05 | 0.00 | 0.46 | |
| SpidermiRquery_species | 0.00 | 0.00 | 0.32 | |
| SpidermiRvisualize_3Dbarplot | 0.15 | 0.00 | 0.16 | |
| SpidermiRvisualize_BI | 0.35 | 0.01 | 0.36 | |
| SpidermiRvisualize_adj_matrix | 0.11 | 0.00 | 0.11 | |
| SpidermiRvisualize_degree_dist | 0.01 | 0.00 | 0.01 | |
| SpidermiRvisualize_direction | 0.24 | 0.02 | 0.25 | |
| SpidermiRvisualize_mirnanet | 0.06 | 0.01 | 0.08 | |
| SpidermiRvisualize_plot_target | 1.08 | 0.00 | 1.08 | |