| Back to the "Multiple platform build/check report" | A B C D E F G H I J K L M N O P Q R [S] T U V W X Y Z | 
This page was generated on 2017-08-16 13:17:25 -0400 (Wed, 16 Aug 2017).
| Package 1253/1382 | Hostname | OS / Arch | INSTALL | BUILD | CHECK | BUILD BIN | |||||
| SpidermiR 1.6.3 Claudia Cava 
  | malbec2 | Linux (Ubuntu 16.04.1 LTS) / x86_64 | OK | OK | [ OK ] | ||||||
| tokay2 | Windows Server 2012 R2 Standard / x64 | OK | OK | OK | OK | ||||||
| veracruz2 | OS X 10.11.6 El Capitan / x86_64 | OK | OK | OK | OK | 
| Package: SpidermiR | 
| Version: 1.6.3 | 
| Command: /home/biocbuild/bbs-3.5-bioc/R/bin/R CMD check --no-vignettes --timings SpidermiR_1.6.3.tar.gz | 
| StartedAt: 2017-08-16 02:25:59 -0400 (Wed, 16 Aug 2017) | 
| EndedAt: 2017-08-16 02:31:19 -0400 (Wed, 16 Aug 2017) | 
| EllapsedTime: 320.0 seconds | 
| RetCode: 0 | 
| Status: OK | 
| CheckDir: SpidermiR.Rcheck | 
| Warnings: 0 | 
##############################################################################
##############################################################################
###
### Running command:
###
###   /home/biocbuild/bbs-3.5-bioc/R/bin/R CMD check --no-vignettes --timings SpidermiR_1.6.3.tar.gz
###
##############################################################################
##############################################################################
* using log directory ‘/home/biocbuild/bbs-3.5-bioc/meat/SpidermiR.Rcheck’
* using R version 3.4.1 (2017-06-30)
* using platform: x86_64-pc-linux-gnu (64-bit)
* using session charset: UTF-8
* using option ‘--no-vignettes’
* checking for file ‘SpidermiR/DESCRIPTION’ ... OK
* checking extension type ... Package
* this is package ‘SpidermiR’ version ‘1.6.3’
* checking package namespace information ... OK
* checking package dependencies ... OK
* checking if this is a source package ... OK
* checking if there is a namespace ... OK
* checking for hidden files and directories ... OK
* checking for portable file names ... OK
* checking for sufficient/correct file permissions ... OK
* checking whether package ‘SpidermiR’ can be installed ... OK
* checking installed package size ... OK
* checking package directory ... OK
* checking ‘build’ directory ... OK
* checking DESCRIPTION meta-information ... OK
* checking top-level files ... OK
* checking for left-over files ... OK
* checking index information ... OK
* checking package subdirectories ... OK
* checking R files for non-ASCII characters ... OK
* checking R files for syntax errors ... OK
* checking whether the package can be loaded ... OK
* checking whether the package can be loaded with stated dependencies ... OK
* checking whether the package can be unloaded cleanly ... OK
* checking whether the namespace can be loaded with stated dependencies ... OK
* checking whether the namespace can be unloaded cleanly ... OK
* checking dependencies in R code ... OK
* checking S3 generic/method consistency ... OK
* checking replacement functions ... OK
* checking foreign function calls ... OK
* checking R code for possible problems ... NOTE
.SpidermiRvisualize_gene: possible error in simpleNetwork(NetworkData,
  linkColour = "gray", textColour = "black", zoom = TRUE): unused
  argument (textColour = "black")
SpidermiRvisualize_plot_target: no visible binding for global variable
  ‘miRNAs’
SpidermiRvisualize_plot_target: no visible binding for global variable
  ‘mRNA_target’
Undefined global functions or variables:
  mRNA_target miRNAs
* checking Rd files ... OK
* checking Rd metadata ... OK
* checking Rd cross-references ... OK
* checking for missing documentation entries ... OK
* checking for code/documentation mismatches ... OK
* checking Rd \usage sections ... OK
* checking Rd contents ... OK
* checking for unstated dependencies in examples ... OK
* checking contents of ‘data’ directory ... OK
* checking data for non-ASCII characters ... OK
* checking data for ASCII and uncompressed saves ... OK
* checking installed files from ‘inst/doc’ ... OK
* checking files in ‘vignettes’ ... OK
* checking examples ... OK
Examples with CPU or elapsed time > 5s
                                   user system elapsed
SpidermiRdownload_miRNAprediction 4.964  0.592  28.692
SpidermiRdownload_miRNAvalidate   5.072  0.172  13.581
* checking for unstated dependencies in ‘tests’ ... OK
* checking tests ...
  Running ‘testthat.R’
 OK
* checking for unstated dependencies in vignettes ... OK
* checking package vignettes in ‘inst/doc’ ... OK
* checking running R code from vignettes ... SKIPPED
* checking re-building of vignette outputs ... SKIPPED
* checking PDF version of manual ... OK
* DONE
Status: 1 NOTE
See
  ‘/home/biocbuild/bbs-3.5-bioc/meat/SpidermiR.Rcheck/00check.log’
for details.
SpidermiR.Rcheck/00install.out:
* installing *source* package ‘SpidermiR’ ... ** R ** data *** moving datasets to lazyload DB ** inst ** preparing package for lazy loading ** help *** installing help indices ** building package indices ** installing vignettes ** testing if installed package can be loaded * DONE (SpidermiR)
SpidermiR.Rcheck/SpidermiR-Ex.timings:
| name | user | system | elapsed | |
| Case_Study1_loading_1_network | 0 | 0 | 0 | |
| Case_Study1_loading_2_network | 0 | 0 | 0 | |
| Case_Study1_loading_3_network | 0 | 0 | 0 | |
| Case_Study1_loading_4_network | 0.004 | 0.000 | 0.000 | |
| Case_Study2_loading_1_network | 0.000 | 0.000 | 0.001 | |
| Case_Study2_loading_2_network | 0.000 | 0.000 | 0.001 | |
| Case_Study2_loading_3_network | 0.000 | 0.000 | 0.001 | |
| SpidermiRanalyze_Community_detection | 0.040 | 0.004 | 0.045 | |
| SpidermiRanalyze_Community_detection_bi | 0.276 | 0.000 | 0.277 | |
| SpidermiRanalyze_Community_detection_net | 0.008 | 0.000 | 0.006 | |
| SpidermiRanalyze_DEnetworkTCGA | 4.112 | 0.004 | 4.117 | |
| SpidermiRanalyze_degree_centrality | 0.004 | 0.000 | 0.002 | |
| SpidermiRanalyze_direct_net | 0.024 | 0.000 | 0.026 | |
| SpidermiRanalyze_direct_subnetwork | 0.032 | 0.000 | 0.033 | |
| SpidermiRanalyze_mirna_gene_complnet | 3.204 | 0.016 | 4.931 | |
| SpidermiRanalyze_mirna_network | 2.136 | 0.016 | 3.701 | |
| SpidermiRanalyze_mirnanet_pharm | 0.000 | 0.004 | 0.002 | |
| SpidermiRanalyze_subnetwork_neigh | 0.004 | 0.000 | 0.004 | |
| SpidermiRdownload_miRNAextra_cir | 0.076 | 0.012 | 1.316 | |
| SpidermiRdownload_miRNAprediction | 4.964 | 0.592 | 28.692 | |
| SpidermiRdownload_miRNAvalidate | 5.072 | 0.172 | 13.581 | |
| SpidermiRdownload_net | 0.472 | 0.016 | 1.186 | |
| SpidermiRdownload_pharmacomir | 0.016 | 0.004 | 0.419 | |
| SpidermiRprepare_NET | 0.624 | 0.008 | 1.211 | |
| SpidermiRquery_disease | 0.040 | 0.000 | 0.337 | |
| SpidermiRquery_networks_type | 0.028 | 0.000 | 0.244 | |
| SpidermiRquery_spec_networks | 0.064 | 0.000 | 0.212 | |
| SpidermiRquery_species | 0.02 | 0.00 | 0.12 | |
| SpidermiRvisualize_3Dbarplot | 0.128 | 0.000 | 0.130 | |
| SpidermiRvisualize_BI | 0.208 | 0.000 | 0.231 | |
| SpidermiRvisualize_adj_matrix | 0.068 | 0.000 | 0.068 | |
| SpidermiRvisualize_degree_dist | 0.012 | 0.000 | 0.010 | |
| SpidermiRvisualize_direction | 0.180 | 0.016 | 0.320 | |
| SpidermiRvisualize_mirnanet | 0.052 | 0.008 | 0.058 | |
| SpidermiRvisualize_plot_target | 0.804 | 0.000 | 0.805 | |