FEM 3.3.1 Zhen Yang
 | Snapshot Date: 2017-04-22 17:18:01 -0400 (Sat, 22 Apr 2017) |  | URL: https://hedgehog.fhcrc.org/bioconductor/trunk/madman/Rpacks/FEM |  | Last Changed Rev: 124801 / Revision: 129046 |  | Last Changed Date: 2016-12-05 01:11:24 -0500 (Mon, 05 Dec 2016) |  
  | malbec2  | Linux (Ubuntu 16.04.1 LTS) / x86_64  |  OK  |  OK  |  WARNINGS  |  |   | 
| tokay2  | Windows Server 2012 R2 Standard / x64  |  OK  |  OK  |  WARNINGS  |  OK  |   | 
| toluca2  | Mac OS X Mavericks (10.9.5) / x86_64  |  OK  |  OK  |  WARNINGS  | [ OK ] |  | 
| veracruz2  | OS X 10.11.6 El Capitan / x86_64  |  OK  |  OK  |  WARNINGS  |  OK  |   | 
##############################################################################
##############################################################################
###
### Running command:
###
###   rm -rf FEM.buildbin-libdir && mkdir FEM.buildbin-libdir && /Users/biocbuild/BBS/utils/build-universal.sh FEM_3.3.1.tar.gz /Library/Frameworks/R.framework/Versions/Current/Resources/bin/R FEM.buildbin-libdir
###
##############################################################################
##############################################################################
>>>>>>> 
>>>>>>> INSTALLATION WITH 'R CMD INSTALL --preclean --no-multiarch --library=FEM.buildbin-libdir FEM_3.3.1.tar.gz'
>>>>>>> 
* installing *source* package ‘FEM’ ...
** R
** data
** inst
** preparing package for lazy loading
Warning: replacing previous import ‘igraph::edges’ by ‘graph::edges’ when loading ‘FEM’
Warning: replacing previous import ‘igraph::intersection’ by ‘graph::intersection’ when loading ‘FEM’
Warning: replacing previous import ‘igraph::degree’ by ‘graph::degree’ when loading ‘FEM’
Warning: replacing previous import ‘igraph::union’ by ‘graph::union’ when loading ‘FEM’
Warning: replacing previous import ‘limma::plotMA’ by ‘BiocGenerics::plotMA’ when loading ‘FEM’
Warning: replacing previous import ‘Matrix::colSums’ by ‘BiocGenerics::colSums’ when loading ‘FEM’
Warning: replacing previous import ‘Matrix::colMeans’ by ‘BiocGenerics::colMeans’ when loading ‘FEM’
Warning: replacing previous import ‘Matrix::rowMeans’ by ‘BiocGenerics::rowMeans’ when loading ‘FEM’
Warning: replacing previous import ‘Matrix::rowSums’ by ‘BiocGenerics::rowSums’ when loading ‘FEM’
Warning: replacing previous import ‘Matrix::which’ by ‘BiocGenerics::which’ when loading ‘FEM’
Warning: replacing previous import ‘igraph::normalize’ by ‘BiocGenerics::normalize’ when loading ‘FEM’
** help
*** installing help indices
** building package indices
** installing vignettes
** testing if installed package can be loaded
Warning: replacing previous import ‘igraph::edges’ by ‘graph::edges’ when loading ‘FEM’
Warning: replacing previous import ‘igraph::intersection’ by ‘graph::intersection’ when loading ‘FEM’
Warning: replacing previous import ‘igraph::degree’ by ‘graph::degree’ when loading ‘FEM’
Warning: replacing previous import ‘igraph::union’ by ‘graph::union’ when loading ‘FEM’
Warning: replacing previous import ‘limma::plotMA’ by ‘BiocGenerics::plotMA’ when loading ‘FEM’
Warning: replacing previous import ‘Matrix::colSums’ by ‘BiocGenerics::colSums’ when loading ‘FEM’
Warning: replacing previous import ‘Matrix::colMeans’ by ‘BiocGenerics::colMeans’ when loading ‘FEM’
Warning: replacing previous import ‘Matrix::rowMeans’ by ‘BiocGenerics::rowMeans’ when loading ‘FEM’
Warning: replacing previous import ‘Matrix::rowSums’ by ‘BiocGenerics::rowSums’ when loading ‘FEM’
Warning: replacing previous import ‘Matrix::which’ by ‘BiocGenerics::which’ when loading ‘FEM’
Warning: replacing previous import ‘igraph::normalize’ by ‘BiocGenerics::normalize’ when loading ‘FEM’
* DONE (FEM)