FEM 3.4.0 Zhen Yang
 | Snapshot Date: 2017-08-15 17:17:57 -0400 (Tue, 15 Aug 2017) |  | URL: https://hedgehog.fhcrc.org/bioconductor/branches/RELEASE_3_5/madman/Rpacks/FEM |  | Last Changed Rev: 129126 / Revision: 131943 |  | Last Changed Date: 2017-04-24 15:25:24 -0400 (Mon, 24 Apr 2017) |  
  | malbec2  | Linux (Ubuntu 16.04.1 LTS) / x86_64  |  OK  |  OK  |  WARNINGS  |  |   | 
| tokay2  | Windows Server 2012 R2 Standard / x64  |  OK  |  OK  |  WARNINGS  |  OK  |   | 
| veracruz2  | OS X 10.11.6 El Capitan / x86_64  | [ OK ] |  OK  |  WARNINGS  |  OK  |   | 
##############################################################################
##############################################################################
###
### Running command:
###
###   /Library/Frameworks/R.framework/Versions/Current/Resources/bin/R CMD INSTALL FEM
###
##############################################################################
##############################################################################
* installing to library ‘/Library/Frameworks/R.framework/Versions/3.4/Resources/library’
* installing *source* package ‘FEM’ ...
** R
** data
** inst
** preparing package for lazy loading
Warning: replacing previous import ‘igraph::edges’ by ‘graph::edges’ when loading ‘FEM’
Warning: replacing previous import ‘igraph::intersection’ by ‘graph::intersection’ when loading ‘FEM’
Warning: replacing previous import ‘igraph::degree’ by ‘graph::degree’ when loading ‘FEM’
Warning: replacing previous import ‘igraph::union’ by ‘graph::union’ when loading ‘FEM’
Warning: replacing previous import ‘limma::plotMA’ by ‘BiocGenerics::plotMA’ when loading ‘FEM’
Warning: replacing previous import ‘Matrix::colSums’ by ‘BiocGenerics::colSums’ when loading ‘FEM’
Warning: replacing previous import ‘Matrix::colMeans’ by ‘BiocGenerics::colMeans’ when loading ‘FEM’
Warning: replacing previous import ‘Matrix::rowMeans’ by ‘BiocGenerics::rowMeans’ when loading ‘FEM’
Warning: replacing previous import ‘Matrix::rowSums’ by ‘BiocGenerics::rowSums’ when loading ‘FEM’
Warning: replacing previous import ‘Matrix::which’ by ‘BiocGenerics::which’ when loading ‘FEM’
Warning: replacing previous import ‘igraph::normalize’ by ‘BiocGenerics::normalize’ when loading ‘FEM’
** help
*** installing help indices
** building package indices
** installing vignettes
** testing if installed package can be loaded
Warning: replacing previous import ‘igraph::edges’ by ‘graph::edges’ when loading ‘FEM’
Warning: replacing previous import ‘igraph::intersection’ by ‘graph::intersection’ when loading ‘FEM’
Warning: replacing previous import ‘igraph::degree’ by ‘graph::degree’ when loading ‘FEM’
Warning: replacing previous import ‘igraph::union’ by ‘graph::union’ when loading ‘FEM’
Warning: replacing previous import ‘limma::plotMA’ by ‘BiocGenerics::plotMA’ when loading ‘FEM’
Warning: replacing previous import ‘Matrix::colSums’ by ‘BiocGenerics::colSums’ when loading ‘FEM’
Warning: replacing previous import ‘Matrix::colMeans’ by ‘BiocGenerics::colMeans’ when loading ‘FEM’
Warning: replacing previous import ‘Matrix::rowMeans’ by ‘BiocGenerics::rowMeans’ when loading ‘FEM’
Warning: replacing previous import ‘Matrix::rowSums’ by ‘BiocGenerics::rowSums’ when loading ‘FEM’
Warning: replacing previous import ‘Matrix::which’ by ‘BiocGenerics::which’ when loading ‘FEM’
Warning: replacing previous import ‘igraph::normalize’ by ‘BiocGenerics::normalize’ when loading ‘FEM’
* DONE (FEM)