rcellminerData 1.5.2 Augustin Luna , Vinodh Rajapakse
 | Snapshot Date: 2016-05-28 09:20:19 -0700 (Sat, 28 May 2016) |  | URL: https://hedgehog.fhcrc.org/bioc-data/trunk/experiment/pkgs/rcellminerData |  | Last Changed Rev: 3773 / Revision: 3781 |  | Last Changed Date: 2016-05-15 13:21:08 -0700 (Sun, 15 May 2016) |  
  | zin1  | Linux (Ubuntu 16.04 LTS) / x86_64  |  OK  |  OK  |  WARNINGS  |  |   | 
| moscato1  | Windows Server 2008 R2 Standard (64-bit) / x64  | [ OK ] |  OK  |  WARNINGS  |  OK  |  | 
##############################################################################
##############################################################################
###
### Running command:
###
###   D:\biocbld\bbs-3.4-bioc\R\bin\R.exe --arch i386 CMD INSTALL --no-multiarch rcellminerData
###
##############################################################################
##############################################################################
* installing to library 'D:/biocbld/bbs-3.4-bioc/R/library'
* installing *source* package 'rcellminerData' ...
** data
*** moving datasets to lazyload DB
** inst
** help
*** installing help indices
** building package indices
** installing vignettes
** testing if installed package can be loaded
* DONE (rcellminerData)