rcellminerData 1.5.2 Augustin Luna , Vinodh Rajapakse
 | Snapshot Date: 2016-09-17 09:20:18 -0700 (Sat, 17 Sep 2016) |  | URL: https://hedgehog.fhcrc.org/bioc-data/trunk/experiment/pkgs/rcellminerData |  | Last Changed Rev: 3773 / Revision: 3889 |  | Last Changed Date: 2016-05-15 13:21:08 -0700 (Sun, 15 May 2016) |  
  | zin1  | Linux (Ubuntu 16.04 LTS) / x86_64  | [ OK ] |  OK  |  WARNINGS  |  |   | 
##############################################################################
##############################################################################
###
### Running command:
###
###   /home/biocbuild/bbs-3.4-bioc/R/bin/R CMD INSTALL rcellminerData
###
##############################################################################
##############################################################################
* installing to library ‘/home/biocbuild/bbs-3.4-bioc/R/library’
* installing *source* package ‘rcellminerData’ ...
** data
*** moving datasets to lazyload DB
** inst
** help
*** installing help indices
** building package indices
** installing vignettes
** testing if installed package can be loaded
* DONE (rcellminerData)