| SeqVarTools 1.11.4 Stephanie M. Gogarten , Xiuwen Zheng , Adrienne Stilp
 
 | Snapshot Date: 2016-09-19 19:15:14 -0700 (Mon, 19 Sep 2016) |  | URL: https://hedgehog.fhcrc.org/bioconductor/trunk/madman/Rpacks/SeqVarTools |  | Last Changed Rev: 120026 / Revision: 121152 |  | Last Changed Date: 2016-08-10 12:31:30 -0700 (Wed, 10 Aug 2016) | 
 | zin1 | Linux (Ubuntu 16.04 LTS) / x86_64 | OK | OK | OK |  |  | 
| moscato1 | Windows Server 2008 R2 Standard (64-bit) / x64 | [ OK ] | OK | OK | OK |  | 
| morelia | Mac OS X Mavericks (10.9.5) / x86_64 | OK | OK | OK | OK |  | 
##############################################################################
##############################################################################
###
### Running command:
###
###   rm -rf SeqVarTools.buildbin-libdir && mkdir SeqVarTools.buildbin-libdir  && C:\cygwin\bin\curl.exe -O http://zin1/BBS/3.4/bioc/src/contrib/SeqVarTools_1.11.4.tar.gz && D:\biocbld\bbs-3.4-bioc\R\bin\R.exe CMD INSTALL --build --library=SeqVarTools.buildbin-libdir --merge-multiarch SeqVarTools_1.11.4.tar.gz && D:\biocbld\bbs-3.4-bioc\R\bin\R.exe CMD INSTALL SeqVarTools_1.11.4.zip  && rm SeqVarTools_1.11.4.tar.gz SeqVarTools_1.11.4.zip
###
##############################################################################
##############################################################################
  % Total    % Received % Xferd  Average Speed   Time    Time     Time  Current
                                 Dload  Upload   Total   Spent    Left  Speed
  0     0    0     0    0     0      0      0 --:--:-- --:--:-- --:--:--     0
100  375k  100  375k    0     0  14.3M      0 --:--:-- --:--:-- --:--:-- 17.4M
install for i386
* installing *source* package 'SeqVarTools' ...
** R
** data
*** moving datasets to lazyload DB
** inst
** preparing package for lazy loading
** help
*** installing help indices
** building package indices
** installing vignettes
   'SeqVarTools.Rnw' 
** testing if installed package can be loaded
install for x64
* installing *source* package 'SeqVarTools' ...
** testing if installed package can be loaded
* MD5 sums
packaged installation of 'SeqVarTools' as SeqVarTools_1.11.4.zip
* DONE (SeqVarTools)
* installing to library 'D:/biocbld/bbs-3.4-bioc/R/library'
package 'SeqVarTools' successfully unpacked and MD5 sums checked