Back to Build/check report for BioC 3.23:   simplified   long
ABCDEFGHIJKLMNOPQR[S]TUVWXYZ

This page was generated on 2025-11-12 11:32 -0500 (Wed, 12 Nov 2025).

HostnameOSArch (*)R versionInstalled pkgs
nebbiolo1Linux (Ubuntu 24.04.3 LTS)x86_64R Under development (unstable) (2025-10-20 r88955) -- "Unsuffered Consequences" 4823
Click on any hostname to see more info about the system (e.g. compilers)      (*) as reported by 'uname -p', except on Windows and Mac OS X

Package 1897/2325HostnameOS / ArchINSTALLBUILDCHECKBUILD BIN
scGraphVerse 1.1.0  (landing page)
Francesco Cecere
Snapshot Date: 2025-11-11 13:40 -0500 (Tue, 11 Nov 2025)
git_url: https://git.bioconductor.org/packages/scGraphVerse
git_branch: devel
git_last_commit: 1e63abe
git_last_commit_date: 2025-10-29 11:38:49 -0500 (Wed, 29 Oct 2025)
nebbiolo1Linux (Ubuntu 24.04.3 LTS) / x86_64  OK    OK    OK  UNNEEDED, same version is already published


CHECK results for scGraphVerse on nebbiolo1

To the developers/maintainers of the scGraphVerse package:
- Allow up to 24 hours (and sometimes 48 hours) for your latest push to git@git.bioconductor.org:packages/scGraphVerse.git to reflect on this report. See Troubleshooting Build Report for more information.
- Use the following Renviron settings to reproduce errors and warnings.
- If 'R CMD check' started to fail recently on the Linux builder(s) over a missing dependency, add the missing dependency to 'Suggests:' in your DESCRIPTION file. See Renviron.bioc for more information.

raw results


Summary

Package: scGraphVerse
Version: 1.1.0
Command: /home/biocbuild/bbs-3.23-bioc/R/bin/R CMD check --install=check:scGraphVerse.install-out.txt --library=/home/biocbuild/bbs-3.23-bioc/R/site-library --timings scGraphVerse_1.1.0.tar.gz
StartedAt: 2025-11-12 03:37:03 -0500 (Wed, 12 Nov 2025)
EndedAt: 2025-11-12 03:59:08 -0500 (Wed, 12 Nov 2025)
EllapsedTime: 1324.6 seconds
RetCode: 0
Status:   OK  
CheckDir: scGraphVerse.Rcheck
Warnings: 0

Command output

##############################################################################
##############################################################################
###
### Running command:
###
###   /home/biocbuild/bbs-3.23-bioc/R/bin/R CMD check --install=check:scGraphVerse.install-out.txt --library=/home/biocbuild/bbs-3.23-bioc/R/site-library --timings scGraphVerse_1.1.0.tar.gz
###
##############################################################################
##############################################################################


* using log directory ‘/home/biocbuild/bbs-3.23-bioc/meat/scGraphVerse.Rcheck’
* using R Under development (unstable) (2025-10-20 r88955)
* using platform: x86_64-pc-linux-gnu
* R was compiled by
    gcc (Ubuntu 13.3.0-6ubuntu2~24.04) 13.3.0
    GNU Fortran (Ubuntu 13.3.0-6ubuntu2~24.04) 13.3.0
* running under: Ubuntu 24.04.3 LTS
* using session charset: UTF-8
* checking for file ‘scGraphVerse/DESCRIPTION’ ... OK
* this is package ‘scGraphVerse’ version ‘1.1.0’
* package encoding: UTF-8
* checking package namespace information ... OK
* checking package dependencies ... INFO
Imports includes 21 non-default packages.
Importing from so many packages makes the package vulnerable to any of
them becoming unavailable.  Move as many as possible to Suggests and
use conditionally.
* checking if this is a source package ... OK
* checking if there is a namespace ... OK
* checking for hidden files and directories ... OK
* checking for portable file names ... OK
* checking for sufficient/correct file permissions ... OK
* checking whether package ‘scGraphVerse’ can be installed ... OK
* used C compiler: ‘gcc (Ubuntu 13.3.0-6ubuntu2~24.04) 13.3.0’
* checking installed package size ... OK
* checking package directory ... OK
* checking ‘build’ directory ... OK
* checking DESCRIPTION meta-information ... OK
* checking top-level files ... OK
* checking for left-over files ... OK
* checking index information ... OK
* checking package subdirectories ... OK
* checking code files for non-ASCII characters ... OK
* checking R files for syntax errors ... OK
* checking whether the package can be loaded ... OK
* checking whether the package can be loaded with stated dependencies ... OK
* checking whether the package can be unloaded cleanly ... OK
* checking whether the namespace can be loaded with stated dependencies ... OK
* checking whether the namespace can be unloaded cleanly ... OK
* checking loading without being on the library search path ... OK
* checking dependencies in R code ... OK
* checking S3 generic/method consistency ... OK
* checking replacement functions ... OK
* checking foreign function calls ... OK
* checking R code for possible problems ... OK
* checking Rd files ... OK
* checking Rd metadata ... OK
* checking Rd cross-references ... NOTE
Found the following Rd file(s) with Rd \link{} targets missing package
anchors:
  classify_edges.Rd: SummarizedExperiment-class
  community_path.Rd: SummarizedExperiment-class
  compare_consensus.Rd: SummarizedExperiment-class
  create_consensus.Rd: SummarizedExperiment-class
  cutoff_adjacency.Rd: MultiAssayExperiment-class,
    SummarizedExperiment-class
  earlyj.Rd: MultiAssayExperiment-class
  edge_mining.Rd: SummarizedExperiment-class
  generate_adjacency.Rd: SummarizedExperiment-class
  infer_networks.Rd: MultiAssayExperiment-class
  plotROC.Rd: SummarizedExperiment-class
  plotg.Rd: SummarizedExperiment-class
  pscores.Rd: SummarizedExperiment-class
  selgene.Rd: SingleCellExperiment-class
  symmetrize.Rd: SummarizedExperiment-class
  toy_counts.Rd: MultiAssayExperiment-class
Please provide package anchors for all Rd \link{} targets not in the
package itself and the base packages.
* checking for missing documentation entries ... OK
* checking for code/documentation mismatches ... OK
* checking Rd \usage sections ... OK
* checking Rd contents ... OK
* checking for unstated dependencies in examples ... OK
* checking contents of ‘data’ directory ... OK
* checking data for non-ASCII characters ... OK
* checking data for ASCII and uncompressed saves ... OK
* checking line endings in C/C++/Fortran sources/headers ... OK
* checking compiled code ... INFO
Note: information on .o files is not available
* checking files in ‘vignettes’ ... OK
* checking examples ... OK
Examples with CPU (user + system) or elapsed time > 5s
                            user system elapsed
stringdb_adjacency        51.417  1.953  76.230
community_similarity      28.373  1.413  37.824
edge_mining               27.841  1.141  35.025
community_path            27.960  0.737  36.541
plot_community_comparison 27.558  0.884  36.234
compute_community_metrics 27.379  0.993  36.524
compute_topology_metrics  26.813  1.021  36.088
plot_network_comparison   24.098  0.887  24.988
plotg                     23.539  0.532  24.071
compare_consensus         23.114  0.672  23.789
cutoff_adjacency          22.854  0.508  23.364
create_consensus          22.544  0.808  23.358
pscores                   22.861  0.315  23.175
classify_edges            19.909  0.186  20.096
symmetrize                10.358  0.227  10.585
plotROC                    8.989  0.336   9.324
generate_adjacency         8.024  0.897   8.102
build_network_se           7.478  0.115   7.594
infer_networks             6.453  0.042   6.496
toy_counts                 6.476  0.017   6.494
* checking for unstated dependencies in ‘tests’ ... OK
* checking tests ...
  Running ‘testthat.R’
 OK
* checking for unstated dependencies in vignettes ... OK
* checking package vignettes ... OK
* checking re-building of vignette outputs ... OK
* checking PDF version of manual ... OK
* DONE

Status: 1 NOTE
See
  ‘/home/biocbuild/bbs-3.23-bioc/meat/scGraphVerse.Rcheck/00check.log’
for details.


Installation output

scGraphVerse.Rcheck/00install.out

##############################################################################
##############################################################################
###
### Running command:
###
###   /home/biocbuild/bbs-3.23-bioc/R/bin/R CMD INSTALL scGraphVerse
###
##############################################################################
##############################################################################


* installing to library ‘/home/biocbuild/bbs-3.23-bioc/R/site-library’
* installing *source* package ‘scGraphVerse’ ...
** this is package ‘scGraphVerse’ version ‘1.1.0’
** using staged installation
** libs
using C compiler: ‘gcc (Ubuntu 13.3.0-6ubuntu2~24.04) 13.3.0’
gcc -std=gnu2x -I"/home/biocbuild/bbs-3.23-bioc/R/include" -DNDEBUG   -I/usr/local/include    -fpic  -g -O2  -Wall -Werror=format-security -c init.c -o init.o
gcc -std=gnu2x -I"/home/biocbuild/bbs-3.23-bioc/R/include" -DNDEBUG   -I/usr/local/include    -fpic  -g -O2  -Wall -Werror=format-security -c regTree.c -o regTree.o
regTree.c: In function ‘findBestSplit’:
regTree.c:232:15: warning: variable ‘lc’ set but not used [-Wunused-but-set-variable]
  232 |     int last, lc, nl, nr, npopl, npopr;
      |               ^~
regTree.c: In function ‘predictRegTree’:
regTree.c:418:19: warning: unused variable ‘cbestsplit’ [-Wunused-variable]
  418 |     int i, k, m, *cbestsplit, s;
      |                   ^~~~~~~~~~
gcc -std=gnu2x -I"/home/biocbuild/bbs-3.23-bioc/R/include" -DNDEBUG   -I/usr/local/include    -fpic  -g -O2  -Wall -Werror=format-security -c regrf.c -o regrf.o
regrf.c: In function ‘regRF’:
regrf.c:71:30: warning: unused variable ‘nodexts’ [-Wunused-variable]
   71 |     int *in, *nind, *nodex, *nodexts;
      |                              ^~~~~~~
regrf.c:71:22: warning: variable ‘nodex’ set but not used [-Wunused-but-set-variable]
   71 |     int *in, *nind, *nodex, *nodexts;
      |                      ^~~~~
regrf.c:69:10: warning: variable ‘oobpair’ set but not used [-Wunused-but-set-variable]
   69 |     int *oobpair, varImp, localImp, *varUsed, kk;
      |          ^~~~~~~
regrf.c:67:61: warning: variable ‘nPerm’ set but not used [-Wunused-but-set-variable]
   67 |     int k, m, mr, n, nOOB, j, jout, idx, ntest, last, ktmp, nPerm,
      |                                                             ^~~~~
regrf.c:67:31: warning: unused variable ‘jout’ [-Wunused-variable]
   67 |     int k, m, mr, n, nOOB, j, jout, idx, ntest, last, ktmp, nPerm,
      |                               ^~~~
regrf.c:67:22: warning: unused variable ‘nOOB’ [-Wunused-variable]
   67 |     int k, m, mr, n, nOOB, j, jout, idx, ntest, last, ktmp, nPerm,
      |                      ^~~~
regrf.c:67:15: warning: unused variable ‘mr’ [-Wunused-variable]
   67 |     int k, m, mr, n, nOOB, j, jout, idx, ntest, last, ktmp, nPerm,
      |               ^~
regrf.c:65:36: warning: unused variable ‘ytree’ [-Wunused-variable]
   65 |     double *yb, *xtmp, *xb, *ytr, *ytree, *tgini, *meanY, *varY, *ww;
      |                                    ^~~~~
regrf.c:65:30: warning: variable ‘ytr’ set but not used [-Wunused-but-set-variable]
   65 |     double *yb, *xtmp, *xb, *ytr, *ytree, *tgini, *meanY, *varY, *ww;
      |                              ^~~
regrf.c:65:18: warning: variable ‘xtmp’ set but not used [-Wunused-but-set-variable]
   65 |     double *yb, *xtmp, *xb, *ytr, *ytree, *tgini, *meanY, *varY, *ww;
      |                  ^~~~
regrf.c:63:58: warning: variable ‘resOOB’ set but not used [-Wunused-but-set-variable]
   63 |           *errb, resid=0.0, *ooberr, ooberrperm, delta, *resOOB;
      |                                                          ^~~~~~
regrf.c:63:50: warning: unused variable ‘delta’ [-Wunused-variable]
   63 |           *errb, resid=0.0, *ooberr, ooberrperm, delta, *resOOB;
      |                                                  ^~~~~
regrf.c:63:38: warning: unused variable ‘ooberrperm’ [-Wunused-variable]
   63 |           *errb, resid=0.0, *ooberr, ooberrperm, delta, *resOOB;
      |                                      ^~~~~~~~~~
regrf.c:63:30: warning: variable ‘ooberr’ set but not used [-Wunused-but-set-variable]
   63 |           *errb, resid=0.0, *ooberr, ooberrperm, delta, *resOOB;
      |                              ^~~~~~
regrf.c:63:18: warning: unused variable ‘resid’ [-Wunused-variable]
   63 |           *errb, resid=0.0, *ooberr, ooberrperm, delta, *resOOB;
      |                  ^~~~~
regrf.c:63:12: warning: variable ‘errb’ set but not used [-Wunused-but-set-variable]
   63 |           *errb, resid=0.0, *ooberr, ooberrperm, delta, *resOOB;
      |            ^~~~
regrf.c:62:53: warning: unused variable ‘r’ [-Wunused-variable]
   62 |     double errts = 0.0, averrb,  *meanYts, *varYts, r, *xrand,
      |                                                     ^
regrf.c:62:25: warning: variable ‘averrb’ set but not used [-Wunused-but-set-variable]
   62 |     double errts = 0.0, averrb,  *meanYts, *varYts, r, *xrand,
      |                         ^~~~~~
regrf.c:62:12: warning: unused variable ‘errts’ [-Wunused-variable]
   62 |     double errts = 0.0, averrb,  *meanYts, *varYts, r, *xrand,
      |            ^~~~~
gcc -std=gnu2x -shared -L/home/biocbuild/bbs-3.23-bioc/R/lib -L/usr/local/lib -o scGraphVerse.so init.o regTree.o regrf.o -L/home/biocbuild/bbs-3.23-bioc/R/lib -lR
installing to /home/biocbuild/bbs-3.23-bioc/R/site-library/00LOCK-scGraphVerse/00new/scGraphVerse/libs
** R
** data
** inst
** byte-compile and prepare package for lazy loading
** help
*** installing help indices
*** copying figures
** building package indices
** installing vignettes
** testing if installed package can be loaded from temporary location
** checking absolute paths in shared objects and dynamic libraries
** testing if installed package can be loaded from final location
** testing if installed package keeps a record of temporary installation path
* DONE (scGraphVerse)

Tests output

scGraphVerse.Rcheck/tests/testthat.Rout


R Under development (unstable) (2025-10-20 r88955) -- "Unsuffered Consequences"
Copyright (C) 2025 The R Foundation for Statistical Computing
Platform: x86_64-pc-linux-gnu

R is free software and comes with ABSOLUTELY NO WARRANTY.
You are welcome to redistribute it under certain conditions.
Type 'license()' or 'licence()' for distribution details.

R is a collaborative project with many contributors.
Type 'contributors()' for more information and
'citation()' on how to cite R or R packages in publications.

Type 'demo()' for some demos, 'help()' for on-line help, or
'help.start()' for an HTML browser interface to help.
Type 'q()' to quit R.

> library(testthat)
> library(scGraphVerse)
> 
> test_check("scGraphVerse")
[ FAIL 0 | WARN 2227 | SKIP 10 | PASS 492 ]

══ Skipped tests (10) ══════════════════════════════════════════════════════════
• Complex internal function tested via cutoff_adjacency (1):
  'test-utilities.R:288:5'
• KEGG requires internet and annotation packages (1):
  'test-community-topology.R:228:5'
• Reactome requires internet and annotation packages (1):
  'test-community-topology.R:245:5'
• Seurat object creation requires full Seurat setup (1):
  'test-network-inference.R:749:5'
• Seurat objects require actual Seurat setup (1): 'test-utilities.R:198:5'
• robinCompare parameter compatibility varies by version (2):
  'test-community-topology.R:160:5', 'test-community-topology.R:263:5'
• spinglass can be slow and unstable in tests (1):
  'test-community-topology.R:383:5'
• {pcalg} is not installed (2): 'test-network-inference.R:845:5',
  'test-network-inference.R:883:5'

[ FAIL 0 | WARN 2227 | SKIP 10 | PASS 492 ]
> 
> proc.time()
   user  system elapsed 
209.741   8.011 217.095 

Example timings

scGraphVerse.Rcheck/scGraphVerse-Ex.timings

nameusersystemelapsed
PCzinb0.9600.0150.973
build_network_se7.4780.1157.594
classify_edges19.909 0.18620.096
community_path27.960 0.73736.541
community_similarity28.373 1.41337.824
compare_consensus23.114 0.67223.789
compute_community_metrics27.379 0.99336.524
compute_topology_metrics26.813 1.02136.088
create_consensus22.544 0.80823.358
create_mae0.2490.0000.249
cutoff_adjacency22.854 0.50823.364
download_Atlas0.0880.0271.637
earlyj0.220.020.24
edge_mining27.841 1.14135.025
generate_adjacency8.0240.8978.102
infer_networks6.4530.0426.496
init_py0.3450.0940.594
plotROC8.9890.3369.324
plot_community_comparison27.558 0.88436.234
plot_network_comparison24.098 0.88724.988
plotg23.539 0.53224.071
pscores22.861 0.31523.175
selgene0.0170.0010.018
stringdb_adjacency51.417 1.95376.230
symmetrize10.358 0.22710.585
toy_adj_matrix0.0040.0030.007
toy_counts6.4760.0176.494
zinb_simdata0.0070.0020.009