Back to Build/check report for BioC 3.23:   simplified   long
ABCDEFGHIJKLMNOPQ[R]STUVWXYZ

This page was generated on 2025-11-13 11:32 -0500 (Thu, 13 Nov 2025).

HostnameOSArch (*)R versionInstalled pkgs
kjohnson3macOS 13.7.7 Venturaarm64R Under development (unstable) (2025-11-04 r88984) -- "Unsuffered Consequences" 4013
Click on any hostname to see more info about the system (e.g. compilers)      (*) as reported by 'uname -p', except on Windows and Mac OS X

Package 1681/2325HostnameOS / ArchINSTALLBUILDCHECKBUILD BIN
ramr 1.19.0  (landing page)
Oleksii Nikolaienko
Snapshot Date: 2025-11-12 13:40 -0500 (Wed, 12 Nov 2025)
git_url: https://git.bioconductor.org/packages/ramr
git_branch: devel
git_last_commit: d6a405c
git_last_commit_date: 2025-10-29 11:05:28 -0500 (Wed, 29 Oct 2025)
kjohnson3macOS 13.7.7 Ventura / arm64  OK    OK    OK    OK  NO, package depends on 'GenomicRanges' which is only available as a source package that needs compilation


CHECK results for ramr on kjohnson3

To the developers/maintainers of the ramr package:
- Allow up to 24 hours (and sometimes 48 hours) for your latest push to git@git.bioconductor.org:packages/ramr.git to reflect on this report. See Troubleshooting Build Report for more information.
- Use the following Renviron settings to reproduce errors and warnings.
- If 'R CMD check' started to fail recently on the Linux builder(s) over a missing dependency, add the missing dependency to 'Suggests:' in your DESCRIPTION file. See Renviron.bioc for more information.

raw results


Summary

Package: ramr
Version: 1.19.0
Command: /Library/Frameworks/R.framework/Resources/bin/R CMD check --install=check:ramr.install-out.txt --library=/Library/Frameworks/R.framework/Resources/library --no-vignettes --timings ramr_1.19.0.tar.gz
StartedAt: 2025-11-12 20:02:22 -0500 (Wed, 12 Nov 2025)
EndedAt: 2025-11-12 20:04:00 -0500 (Wed, 12 Nov 2025)
EllapsedTime: 97.6 seconds
RetCode: 0
Status:   OK  
CheckDir: ramr.Rcheck
Warnings: 0

Command output

##############################################################################
##############################################################################
###
### Running command:
###
###   /Library/Frameworks/R.framework/Resources/bin/R CMD check --install=check:ramr.install-out.txt --library=/Library/Frameworks/R.framework/Resources/library --no-vignettes --timings ramr_1.19.0.tar.gz
###
##############################################################################
##############################################################################


* using log directory ‘/Users/biocbuild/bbs-3.23-bioc/meat/ramr.Rcheck’
* using R Under development (unstable) (2025-11-04 r88984)
* using platform: aarch64-apple-darwin20
* R was compiled by
    Apple clang version 16.0.0 (clang-1600.0.26.6)
    GNU Fortran (GCC) 14.2.0
* running under: macOS Ventura 13.7.8
* using session charset: UTF-8
* using option ‘--no-vignettes’
* checking for file ‘ramr/DESCRIPTION’ ... OK
* this is package ‘ramr’ version ‘1.19.0’
* package encoding: UTF-8
* checking package namespace information ... OK
* checking package dependencies ... OK
* checking if this is a source package ... OK
* checking if there is a namespace ... OK
* checking for hidden files and directories ... OK
* checking for portable file names ... OK
* checking for sufficient/correct file permissions ... OK
* checking whether package ‘ramr’ can be installed ... OK
* used C++ compiler: ‘Apple clang version 15.0.0 (clang-1500.1.0.2.5)’
* used SDK: ‘MacOSX11.3.1.sdk’
* checking C++ specification ... OK
  Not all R platforms support C++20
* checking installed package size ... OK
* checking package directory ... OK
* checking ‘build’ directory ... OK
* checking DESCRIPTION meta-information ... OK
* checking top-level files ... OK
* checking for left-over files ... OK
* checking index information ... OK
* checking package subdirectories ... OK
* checking code files for non-ASCII characters ... OK
* checking R files for syntax errors ... OK
* checking whether the package can be loaded ... OK
* checking whether the package can be loaded with stated dependencies ... OK
* checking whether the package can be unloaded cleanly ... OK
* checking whether the namespace can be loaded with stated dependencies ... OK
* checking whether the namespace can be unloaded cleanly ... OK
* checking whether startup messages can be suppressed ... OK
* checking dependencies in R code ... OK
* checking S3 generic/method consistency ... OK
* checking replacement functions ... OK
* checking foreign function calls ... OK
* checking R code for possible problems ... OK
* checking Rd files ... OK
* checking Rd metadata ... OK
* checking Rd cross-references ... OK
* checking for missing documentation entries ... OK
* checking for code/documentation mismatches ... OK
* checking Rd \usage sections ... OK
* checking Rd contents ... OK
* checking for unstated dependencies in examples ... OK
* checking contents of ‘data’ directory ... OK
* checking data for non-ASCII characters ... OK
* checking data for ASCII and uncompressed saves ... OK
* checking line endings in C/C++/Fortran sources/headers ... OK
* checking line endings in Makefiles ... OK
* checking compilation flags in Makevars ... OK
* checking for GNU extensions in Makefiles ... OK
* checking for portable use of $(BLAS_LIBS) and $(LAPACK_LIBS) ... OK
* checking use of PKG_*FLAGS in Makefiles ... OK
* checking compiled code ... INFO
Note: information on .o files is not available
* checking files in ‘vignettes’ ... OK
* checking examples ... OK
Examples with CPU (user + system) or elapsed time > 5s
                 user system elapsed
getAMR.obsolete 5.204  0.514   3.697
* checking for unstated dependencies in ‘tests’ ... OK
* checking tests ...
  Running ‘runTests.R’
 OK
* checking for unstated dependencies in vignettes ... OK
* checking package vignettes ... OK
* checking running R code from vignettes ... SKIPPED
* checking re-building of vignette outputs ... SKIPPED
* checking PDF version of manual ... OK
* DONE

Status: OK


Installation output

ramr.Rcheck/00install.out

##############################################################################
##############################################################################
###
### Running command:
###
###   /Library/Frameworks/R.framework/Resources/bin/R CMD INSTALL ramr
###
##############################################################################
##############################################################################


* installing to library ‘/Library/Frameworks/R.framework/Versions/4.6-arm64/Resources/library’
* installing *source* package ‘ramr’ ...
** this is package ‘ramr’ version ‘1.19.0’
** using staged installation
** libs
using C++ compiler: ‘Apple clang version 15.0.0 (clang-1500.1.0.2.5)’
using C++20
using SDK: ‘MacOSX11.3.1.sdk’
clang++ -arch arm64 -std=gnu++20 -I"/Library/Frameworks/R.framework/Resources/include" -DNDEBUG  -I'/Library/Frameworks/R.framework/Versions/4.6-arm64/Resources/library/Rcpp/include' -I/opt/R/arm64/include    -fPIC  -falign-functions=64 -Wall -g -O2   -c RcppExports.cpp -o RcppExports.o
clang++ -arch arm64 -std=gnu++20 -I"/Library/Frameworks/R.framework/Resources/include" -DNDEBUG  -I'/Library/Frameworks/R.framework/Versions/4.6-arm64/Resources/library/Rcpp/include' -I/opt/R/arm64/include    -fPIC  -falign-functions=64 -Wall -g -O2   -c rcpp_compute_logp.cpp -o rcpp_compute_logp.o
rcpp_compute_logp.cpp:150:16: warning: unused variable 'nthreads' [-Wunused-variable]
  const size_t nthreads = thr->size() - 1;                                      // 'thr' always starts with 0 and ends with 'nrow'
               ^
1 warning generated.
clang++ -arch arm64 -std=gnu++20 -I"/Library/Frameworks/R.framework/Resources/include" -DNDEBUG  -I'/Library/Frameworks/R.framework/Versions/4.6-arm64/Resources/library/Rcpp/include' -I/opt/R/arm64/include    -fPIC  -falign-functions=64 -Wall -g -O2   -c rcpp_compute_xiqr.cpp -o rcpp_compute_xiqr.o
rcpp_compute_xiqr.cpp:37:16: warning: unused variable 'nthreads' [-Wunused-variable]
  const size_t nthreads = thr->size() - 1;                                      // 'thr' always starts with 0 and ends with 'nrow'
               ^
1 warning generated.
clang++ -arch arm64 -std=gnu++20 -I"/Library/Frameworks/R.framework/Resources/include" -DNDEBUG  -I'/Library/Frameworks/R.framework/Versions/4.6-arm64/Resources/library/Rcpp/include' -I/opt/R/arm64/include    -fPIC  -falign-functions=64 -Wall -g -O2   -c rcpp_create_granges.cpp -o rcpp_create_granges.o
clang++ -arch arm64 -std=gnu++20 -I"/Library/Frameworks/R.framework/Resources/include" -DNDEBUG  -I'/Library/Frameworks/R.framework/Versions/4.6-arm64/Resources/library/Rcpp/include' -I/opt/R/arm64/include    -fPIC  -falign-functions=64 -Wall -g -O2   -c rcpp_filter_threshold.cpp -o rcpp_filter_threshold.o
rcpp_filter_threshold.cpp:32:16: warning: unused variable 'nthreads' [-Wunused-variable]
  const size_t nthreads = thr->size() - 1;                                      // 'thr' always starts with 0 and ends with 'nrow'
               ^
1 warning generated.
clang++ -arch arm64 -std=gnu++20 -I"/Library/Frameworks/R.framework/Resources/include" -DNDEBUG  -I'/Library/Frameworks/R.framework/Versions/4.6-arm64/Resources/library/Rcpp/include' -I/opt/R/arm64/include    -fPIC  -falign-functions=64 -Wall -g -O2   -c rcpp_fit_beta.cpp -o rcpp_fit_beta.o
rcpp_fit_beta.cpp:28:16: warning: unused variable 'nthreads' [-Wunused-variable]
  const size_t nthreads = thr->size() - 1;                                      // 'thr' always starts with 0 and ends with 'nrow'
               ^
1 warning generated.
clang++ -arch arm64 -std=gnu++20 -I"/Library/Frameworks/R.framework/Resources/include" -DNDEBUG  -I'/Library/Frameworks/R.framework/Versions/4.6-arm64/Resources/library/Rcpp/include' -I/opt/R/arm64/include    -fPIC  -falign-functions=64 -Wall -g -O2   -c rcpp_fit_betabinom.cpp -o rcpp_fit_betabinom.o
clang++ -arch arm64 -std=gnu++20 -I"/Library/Frameworks/R.framework/Resources/include" -DNDEBUG  -I'/Library/Frameworks/R.framework/Versions/4.6-arm64/Resources/library/Rcpp/include' -I/opt/R/arm64/include    -fPIC  -falign-functions=64 -Wall -g -O2   -c rcpp_fit_binom.cpp -o rcpp_fit_binom.o
rcpp_fit_binom.cpp:33:16: warning: unused variable 'nthreads' [-Wunused-variable]
  const size_t nthreads = thr->size() - 1;                                      // 'thr' always starts with 0 and ends with 'nrow'
               ^
1 warning generated.
clang++ -arch arm64 -std=gnu++20 -I"/Library/Frameworks/R.framework/Resources/include" -DNDEBUG  -I'/Library/Frameworks/R.framework/Versions/4.6-arm64/Resources/library/Rcpp/include' -I/opt/R/arm64/include    -fPIC  -falign-functions=64 -Wall -g -O2   -c rcpp_generate_random_values.cpp -o rcpp_generate_random_values.o
clang++ -arch arm64 -std=gnu++20 -I"/Library/Frameworks/R.framework/Resources/include" -DNDEBUG  -I'/Library/Frameworks/R.framework/Versions/4.6-arm64/Resources/library/Rcpp/include' -I/opt/R/arm64/include    -fPIC  -falign-functions=64 -Wall -g -O2   -c rcpp_get_iqr.cpp -o rcpp_get_iqr.o
rcpp_get_iqr.cpp:35:16: warning: unused variable 'nthreads' [-Wunused-variable]
  const size_t nthreads = thr->size() - 1;                                      // 'thr' always starts with 0 and ends with 'nrow'
               ^
1 warning generated.
clang++ -arch arm64 -std=gnu++20 -I"/Library/Frameworks/R.framework/Resources/include" -DNDEBUG  -I'/Library/Frameworks/R.framework/Versions/4.6-arm64/Resources/library/Rcpp/include' -I/opt/R/arm64/include    -fPIC  -falign-functions=64 -Wall -g -O2   -c rcpp_get_meanvar.cpp -o rcpp_get_meanvar.o
rcpp_get_meanvar.cpp:62:16: warning: unused variable 'nthreads' [-Wunused-variable]
  const size_t nthreads = thr->size() - 1;                                      // 'thr' always starts with 0 and ends with 'nrow'
               ^
1 warning generated.
clang++ -arch arm64 -std=gnu++20 -I"/Library/Frameworks/R.framework/Resources/include" -DNDEBUG  -I'/Library/Frameworks/R.framework/Versions/4.6-arm64/Resources/library/Rcpp/include' -I/opt/R/arm64/include    -fPIC  -falign-functions=64 -Wall -g -O2   -c rcpp_helper_functions.cpp -o rcpp_helper_functions.o
clang++ -arch arm64 -std=gnu++20 -I"/Library/Frameworks/R.framework/Resources/include" -DNDEBUG  -I'/Library/Frameworks/R.framework/Versions/4.6-arm64/Resources/library/Rcpp/include' -I/opt/R/arm64/include    -fPIC  -falign-functions=64 -Wall -g -O2   -c rcpp_prepare_data.cpp -o rcpp_prepare_data.o
rcpp_prepare_data.cpp:87:16: warning: unused variable 'nthreads' [-Wunused-variable]
  const size_t nthreads = thr->size() - 1;                                      // 'thr' always starts with 0 and ends with 'nrow'
               ^
1 warning generated.
clang++ -arch arm64 -std=gnu++20 -I"/Library/Frameworks/R.framework/Resources/include" -DNDEBUG  -I'/Library/Frameworks/R.framework/Versions/4.6-arm64/Resources/library/Rcpp/include' -I/opt/R/arm64/include    -fPIC  -falign-functions=64 -Wall -g -O2   -c rcpp_test_omp.cpp -o rcpp_test_omp.o
clang++ -arch arm64 -std=gnu++20 -dynamiclib -Wl,-headerpad_max_install_names -undefined dynamic_lookup -L/Library/Frameworks/R.framework/Resources/lib -L/opt/R/arm64/lib -o ramr.so RcppExports.o rcpp_compute_logp.o rcpp_compute_xiqr.o rcpp_create_granges.o rcpp_filter_threshold.o rcpp_fit_beta.o rcpp_fit_betabinom.o rcpp_fit_binom.o rcpp_generate_random_values.o rcpp_get_iqr.o rcpp_get_meanvar.o rcpp_helper_functions.o rcpp_prepare_data.o rcpp_test_omp.o -F/Library/Frameworks/R.framework/.. -framework R
installing to /Library/Frameworks/R.framework/Versions/4.6-arm64/Resources/library/00LOCK-ramr/00new/ramr/libs
** R
** data
** inst
** byte-compile and prepare package for lazy loading
** help
*** installing help indices
** building package indices
** installing vignettes
** testing if installed package can be loaded from temporary location
** checking absolute paths in shared objects and dynamic libraries
** testing if installed package can be loaded from final location
** testing if installed package keeps a record of temporary installation path
* DONE (ramr)

Tests output

ramr.Rcheck/tests/runTests.Rout


R Under development (unstable) (2025-11-04 r88984) -- "Unsuffered Consequences"
Copyright (C) 2025 The R Foundation for Statistical Computing
Platform: aarch64-apple-darwin20

R is free software and comes with ABSOLUTELY NO WARRANTY.
You are welcome to redistribute it under certain conditions.
Type 'license()' or 'licence()' for distribution details.

R is a collaborative project with many contributors.
Type 'contributors()' for more information and
'citation()' on how to cite R or R packages in publications.

Type 'demo()' for some demos, 'help()' for on-line help, or
'help.start()' for an HTML browser interface to help.
Type 'q()' to quit R.

> BiocGenerics:::testPackage("ramr")
Preprocessing data [0.036s]
Computing IQR [0.004s]
Creating genomic ranges [0.014s]
Preprocessing data [0.031s]
Computing IQR [0.004s]
Creating genomic ranges [0.006s]
Loading required namespace: GenomeInfoDb
Preprocessing data [0.032s]
Fitting beta distribution [0.059s]
Creating genomic ranges [0.005s]
Preprocessing data [0.034s]
Fitting beta distribution [0.068s]
Creating genomic ranges [0.005s]
Preprocessing data [0.027s]
Computing IQR [0.001s]
Creating genomic ranges [0.005s]
Preprocessing data [0.027s]
Computing IQR [0.004s]
Creating genomic ranges [0.005s]
Preprocessing data [0.030s]
Computing IQR [0.002s]
Creating genomic ranges [0.005s]
Preprocessing data [0.027s]
Fitting beta distribution [0.059s]
Creating genomic ranges [0.005s]
Preprocessing data [0.026s]
Computing IQR [0.004s]
Creating genomic ranges [0.005s]
Preprocessing data [0.033s]
Fitting beta distribution [0.060s]
Creating genomic ranges [0.005s]
Preprocessing data [0.030s]
Fitting beta distribution [0.063s]
Creating genomic ranges [0.005s]
Preprocessing data [0.033s]
Fitting beta distribution [0.067s]
Creating genomic ranges [0.006s]
Preprocessing data [0.026s]
Fitting beta distribution [0.071s]
Creating genomic ranges [0.007s]
Preprocessing data [0.027s]
Fitting beta distribution [0.060s]
Creating genomic ranges [0.004s]
Preprocessing data [0.029s]
Fitting beta distribution [0.063s]
Creating genomic ranges [0.005s]
Preprocessing data [0.028s]
Fitting beta distribution [0.079s]
Creating genomic ranges [0.014s]
Preprocessing data [0.026s]
Fitting beta distribution [0.038s]
Creating genomic ranges [0.008s]
Preprocessing data [0.027s]
Fitting beta distribution [0.031s]
Creating genomic ranges [0.007s]
Identifying AMRsLoading required package: foreach
Loading required package: rngtools
 [2.375s]
Identifying AMRs [1.666s]
Identifying AMRs [2.881s]
Identifying AMRs [3.202s]
Identifying AMRs [1.389s]
Identifying AMRs [32.010s]
Preprocessing data [0.038s]
Plotting 5 genomic ranges Plotting 5 genomic ranges  20% 40% 60% 80%100%[0.363s]
Plotting 6 genomic ranges  17% 33% 50% 67% 83%100%[0.331s]
'nsamples' has been set to the maximum possible value of 143
'regions.per.sample' has been set to the maximum possible value of 1
'samples.per.region' has been set to the maximum possible value of 143
'regions.per.sample' has been set to the maximum possible value of 4
'regions.per.sample' has been set to the maximum possible value of 15
Preprocessing data [0.033s]
Simulating data [0.003s]
Introducing epimutations[0.027s]
Preprocessing data [0.031s]
Simulating data [0.003s]
Introducing epimutations[0.026s]
Preprocessing data [0.031s]
Simulating data [0.027s]
Preprocessing data [0.029s]
Simulating data [0.030s]
Preprocessing data [0.028s]
Simulating data [0.026s]
Preprocessing data [0.030s]
Simulating data [0.026s]
Simulating data [0.704s]
Introducing epimutations [0.307s]
Simulating data [0.443s]
Introducing epimutations [0.040s]


RUNIT TEST PROTOCOL -- Wed Nov 12 20:03:56 2025 
*********************************************** 
Number of test functions: 8 
Number of errors: 0 
Number of failures: 0 

 
1 Test Suite : 
ramr RUnit Tests - 8 test functions, 0 errors, 0 failures
Number of test functions: 8 
Number of errors: 0 
Number of failures: 0 
Warning messages:
1: In foreach::foreach(chunk = chunks, .combine = c) %dorng% matrixStats::rowMedians(betas[chunk,  :
  Foreach loop (doParallelMC) had changed the current RNG type: RNG was restored to same type, next state
2: In foreach::foreach(chunk = chunks, .combine = c) %dorng% matrixStats::rowIQRs(betas[chunk,  :
  Foreach loop (doParallelMC) had changed the current RNG type: RNG was restored to same type, next state
3: In foreach::foreach(column = colnames(betas.filtered)) %dorng% getMergedRanges(column) :
  Foreach loop (doParallelMC) had changed the current RNG type: RNG was restored to same type, next state
> 
> proc.time()
   user  system elapsed 
 79.265   7.968  52.743 

Example timings

ramr.Rcheck/ramr-Ex.timings

nameusersystemelapsed
getAMR0.2700.0070.315
getAMR.obsolete5.2040.5143.697
getUniverse0.1370.0030.140
plotAMR1.7270.0541.837
ramr.data0.6240.0100.657
simulateAMR0.1750.0020.179
simulateData0.6120.0130.650
simulateData.obsolete0.7180.3010.931