Back to Build/check report for BioC 3.23:   simplified   long
ABCDEFGHIJKL[M]NOPQRSTUVWXYZ

This page was generated on 2025-11-13 11:32 -0500 (Thu, 13 Nov 2025).

HostnameOSArch (*)R versionInstalled pkgs
kjohnson3macOS 13.7.7 Venturaarm64R Under development (unstable) (2025-11-04 r88984) -- "Unsuffered Consequences" 4013
Click on any hostname to see more info about the system (e.g. compilers)      (*) as reported by 'uname -p', except on Windows and Mac OS X

All results for package mixOmics


To the developers/maintainers of the mixOmics package:
- Allow up to 24 hours (and sometimes 48 hours) for your latest push to git@git.bioconductor.org:packages/mixOmics.git to reflect on this report. See Troubleshooting Build Report for more information.
- Use the following Renviron settings to reproduce errors and warnings.
- If 'R CMD check' started to fail recently on the Linux builder(s) over a missing dependency, add the missing dependency to 'Suggests:' in your DESCRIPTION file. See Renviron.bioc for more information.

raw results

Package 1314/2325HostnameOS / ArchINSTALLBUILDCHECKBUILD BIN
mixOmics 6.35.0  (landing page)
Eva Hamrud
Snapshot Date: 2025-11-12 13:40 -0500 (Wed, 12 Nov 2025)
git_url: https://git.bioconductor.org/packages/mixOmics
git_branch: devel
git_last_commit: 6f91947
git_last_commit_date: 2025-10-29 10:48:48 -0500 (Wed, 29 Oct 2025)
kjohnson3macOS 13.7.7 Ventura / arm64  OK    OK    OK    OK  YES



Results for Bioconductor software packages that depend directly on package mixOmics

QUICK STATSOS / ArchINSTALLBUILDCHECKBUILD BIN
kjohnson3macOS 13.7.7 Ventura / arm64
034
034
0112
004
Package 1/7HostnameOS / ArchINSTALLBUILDCHECKBUILD BIN
AlpsNMR 4.13.0  (landing page)
Sergio Oller Moreno
git_last_commit: 4ce0fcd
git_last_commit_date: 2025-10-29 11:04:39 -0500
kjohnson3macOS 13.7.7 Ventura / arm64  OK    OK    OK    OK  YES
Package 2/7HostnameOS / ArchINSTALLBUILDCHECKBUILD BIN
benchdamic 1.17.0  (landing page)
Matteo Calgaro
git_last_commit: 316209e
git_last_commit_date: 2025-10-29 11:13:17 -0500
kjohnson3macOS 13.7.7 Ventura / arm64  ERROR    ERROR  skippedskipped
Package 3/7HostnameOS / ArchINSTALLBUILDCHECKBUILD BIN
DepecheR 1.27.0  (landing page)
Jakob Theorell
git_last_commit: eb6e467
git_last_commit_date: 2025-10-29 10:50:39 -0500
kjohnson3macOS 13.7.7 Ventura / arm64  OK    OK    ERROR    OK  
Package 4/7HostnameOS / ArchINSTALLBUILDCHECKBUILD BIN
PLSDAbatch 1.7.0  (landing page)
Yiwen (Eva) Wang
git_last_commit: 744879e
git_last_commit_date: 2025-10-29 11:26:59 -0500
kjohnson3macOS 13.7.7 Ventura / arm64  OK    OK    OK    OK  YES
Package 5/7HostnameOS / ArchINSTALLBUILDCHECKBUILD BIN
POMA 1.21.0  (landing page)
Pol Castellano-Escuder
git_last_commit: e8ab1e6
git_last_commit_date: 2025-10-29 11:01:06 -0500
kjohnson3macOS 13.7.7 Ventura / arm64  ERROR    ERROR  skippedskipped
Package 6/7HostnameOS / ArchINSTALLBUILDCHECKBUILD BIN
RFLOMICS 1.3.0  (landing page)
Nadia Bessoltane
git_last_commit: a7a98e3
git_last_commit_date: 2025-10-29 11:35:35 -0500
kjohnson3macOS 13.7.7 Ventura / arm64  ERROR    ERROR  skippedskipped
Package 7/7HostnameOS / ArchINSTALLBUILDCHECKBUILD BIN
timeOmics 1.23.0  (landing page)
Antoine Bodein
git_last_commit: 5346f41
git_last_commit_date: 2025-10-29 10:58:20 -0500
kjohnson3macOS 13.7.7 Ventura / arm64  OK    OK    WARNINGS    OK  YES