Back to Build/check report for BioC 3.23:   simplified   long
ABCDEF[G]HIJKLMNOPQRSTUVWXYZ

This page was generated on 2025-11-13 11:32 -0500 (Thu, 13 Nov 2025).

HostnameOSArch (*)R versionInstalled pkgs
kjohnson3macOS 13.7.7 Venturaarm64R Under development (unstable) (2025-11-04 r88984) -- "Unsuffered Consequences" 4013
Click on any hostname to see more info about the system (e.g. compilers)      (*) as reported by 'uname -p', except on Windows and Mac OS X

All results for package graph


To the developers/maintainers of the graph package:
- Allow up to 24 hours (and sometimes 48 hours) for your latest push to git@git.bioconductor.org:packages/graph.git to reflect on this report. See Troubleshooting Build Report for more information.
- Use the following Renviron settings to reproduce errors and warnings.
- If 'R CMD check' started to fail recently on the Linux builder(s) over a missing dependency, add the missing dependency to 'Suggests:' in your DESCRIPTION file. See Renviron.bioc for more information.

raw results

Package 912/2325HostnameOS / ArchINSTALLBUILDCHECKBUILD BIN
graph 1.89.0  (landing page)
Bioconductor Package Maintainer
Snapshot Date: 2025-11-12 13:40 -0500 (Wed, 12 Nov 2025)
git_url: https://git.bioconductor.org/packages/graph
git_branch: devel
git_last_commit: dbe17f7
git_last_commit_date: 2025-10-29 09:42:14 -0500 (Wed, 29 Oct 2025)
kjohnson3macOS 13.7.7 Ventura / arm64  OK    OK    OK    OK  YES



Results for Bioconductor software packages that depend directly on package graph

QUICK STATSOS / ArchINSTALLBUILDCHECKBUILD BIN
kjohnson3macOS 13.7.7 Ventura / arm64
01457
11951
031038
0051
Package 1/72HostnameOS / ArchINSTALLBUILDCHECKBUILD BIN
AnnotationHubData 1.41.0  (landing page)
Bioconductor Package Maintainer
git_last_commit: 932837e
git_last_commit_date: 2025-10-29 10:27:35 -0500
kjohnson3macOS 13.7.7 Ventura / arm64  OK    OK    WARNINGS    OK  NO, package depends on 'GenomicRanges' which is only available as a source package that needs compilation
Package 2/72HostnameOS / ArchINSTALLBUILDCHECKBUILD BIN
apComplex 2.77.0  (landing page)
Denise Scholtens
git_last_commit: c10f18a
git_last_commit_date: 2025-10-29 09:55:56 -0500
kjohnson3macOS 13.7.7 Ventura / arm64  OK    OK    OK    OK  YES
Package 3/72HostnameOS / ArchINSTALLBUILDCHECKBUILD BIN
BgeeDB 2.37.0  (landing page)
Julien Wollbrett , Julien Roux , Andrea Komljenovic , Frederic Bastian
git_last_commit: ac04c8e
git_last_commit_date: 2025-10-29 10:31:46 -0500
kjohnson3macOS 13.7.7 Ventura / arm64  ERROR    ERROR  skippedskipped
Package 4/72HostnameOS / ArchINSTALLBUILDCHECKBUILD BIN
BiocCheck 1.47.1  (landing page)
Marcel Ramos
git_last_commit: 202c10d
git_last_commit_date: 2025-11-04 13:37:35 -0500
kjohnson3macOS 13.7.7 Ventura / arm64  OK    OK    OK    OK  YES
Package 5/72HostnameOS / ArchINSTALLBUILDCHECKBUILD BIN
BiocFHIR 1.13.0  (landing page)
Vincent Carey
git_last_commit: 4c84357
git_last_commit_date: 2025-10-29 11:19:42 -0500
kjohnson3macOS 13.7.7 Ventura / arm64  OK    OK    OK    OK  YES
Package 6/72HostnameOS / ArchINSTALLBUILDCHECKBUILD BIN
biocGraph 1.73.0  (landing page)
Florian Hahne
git_last_commit: 68d8be3
git_last_commit_date: 2025-10-29 09:59:36 -0500
kjohnson3macOS 13.7.7 Ventura / arm64  OK    OK    OK    OK  YES
Package 7/72HostnameOS / ArchINSTALLBUILDCHECKBUILD BIN
BiocPkgTools 1.29.0  (landing page)
Sean Davis
git_last_commit: a2f816c
git_last_commit_date: 2025-10-29 10:47:30 -0500
kjohnson3macOS 13.7.7 Ventura / arm64  OK    ERROR  skippedskipped
Package 8/72HostnameOS / ArchINSTALLBUILDCHECKBUILD BIN
biocViews 1.79.0  (landing page)
Bioconductor Package Maintainer
git_last_commit: c737240
git_last_commit_date: 2025-10-29 09:57:00 -0500
kjohnson3macOS 13.7.7 Ventura / arm64  OK    OK    OK    OK  YES
Package 9/72HostnameOS / ArchINSTALLBUILDCHECKBUILD BIN
BioMVCClass 1.79.0  (landing page)
Elizabeth Whalen
git_last_commit: 901e3c4
git_last_commit_date: 2025-10-29 09:58:24 -0500
kjohnson3macOS 13.7.7 Ventura / arm64  OK    OK    OK    OK  YES
Package 10/72HostnameOS / ArchINSTALLBUILDCHECKBUILD BIN
BioNet 1.71.0  (landing page)
Marcus Dittrich
git_last_commit: 9742714
git_last_commit_date: 2025-10-29 10:05:29 -0500
kjohnson3macOS 13.7.7 Ventura / arm64  OK    OK    OK    OK  YES
Package 11/72HostnameOS / ArchINSTALLBUILDCHECKBUILD BIN
BLMA 1.35.0  (landing page)
Van-Dung Pham
git_last_commit: 2a54068
git_last_commit_date: 2025-10-29 10:38:21 -0500
kjohnson3macOS 13.7.7 Ventura / arm64  OK    OK    OK    OK  YES
Package 12/72HostnameOS / ArchINSTALLBUILDCHECKBUILD BIN
bnem 1.19.0  (landing page)
Martin Pirkl
git_last_commit: c656bcb
git_last_commit_date: 2025-10-29 11:04:57 -0500
kjohnson3macOS 13.7.7 Ventura / arm64  ERROR    ERROR  skippedskipped
Package 13/72HostnameOS / ArchINSTALLBUILDCHECKBUILD BIN
CAMERA 1.67.0  (landing page)
Steffen Neumann
git_last_commit: 340928f
git_last_commit_date: 2025-10-29 10:02:23 -0500
kjohnson3macOS 13.7.7 Ventura / arm64  ERROR    ERROR  skippedskipped
Package 14/72HostnameOS / ArchINSTALLBUILDCHECKBUILD BIN
Category 2.77.0  (landing page)
Bioconductor Package Maintainer
git_last_commit: 6850286
git_last_commit_date: 2025-10-29 09:56:37 -0500
kjohnson3macOS 13.7.7 Ventura / arm64  OK    OK    OK    OK  YES
Package 15/72HostnameOS / ArchINSTALLBUILDCHECKBUILD BIN
categoryCompare 1.55.0  (landing page)
Robert M. Flight
git_last_commit: 22bf171
git_last_commit_date: 2025-10-29 10:11:00 -0500
kjohnson3macOS 13.7.7 Ventura / arm64  OK    OK    OK    OK  YES
Package 16/72HostnameOS / ArchINSTALLBUILDCHECKBUILD BIN
CellNOptR 1.57.0  (landing page)
Attila Gabor
git_last_commit: 1b9d01e
git_last_commit_date: 2025-10-29 10:09:33 -0500
kjohnson3macOS 13.7.7 Ventura / arm64  OK    OK    OK    OK  YES
Package 17/72HostnameOS / ArchINSTALLBUILDCHECKBUILD BIN
chimeraviz 1.37.0  (landing page)
Stian Lågstad
git_last_commit: 3490116
git_last_commit_date: 2025-10-29 10:35:50 -0500
kjohnson3macOS 13.7.7 Ventura / arm64  OK    OK    OK    OK  NO, package depends on 'GenomicRanges' which is only available as a source package that needs compilation
Package 18/72HostnameOS / ArchINSTALLBUILDCHECKBUILD BIN
ChIPpeakAnno 3.45.2  (landing page)
Jianhong Ou
git_last_commit: a293c4f
git_last_commit_date: 2025-11-11 20:01:42 -0500
kjohnson3macOS 13.7.7 Ventura / arm64  OK    OK    ERROR    OK  
Package 19/72HostnameOS / ArchINSTALLBUILDCHECKBUILD BIN
CHRONOS 1.39.0  (landing page)
Panos Balomenos
git_last_commit: 5dec64b
git_last_commit_date: 2025-10-29 10:32:09 -0500
kjohnson3macOS 13.7.7 Ventura / arm64  OK    TIMEOUT  skippedskipped
Package 20/72HostnameOS / ArchINSTALLBUILDCHECKBUILD BIN
clipper 1.51.0  (landing page)
Paolo Martini
git_last_commit: 09e9ef4
git_last_commit_date: 2025-10-29 10:13:24 -0500
kjohnson3macOS 13.7.7 Ventura / arm64  OK    OK    OK    OK  NO, package depends on 'qpgraph' which is only available as a source package that needs compilation
Package 21/72HostnameOS / ArchINSTALLBUILDCHECKBUILD BIN
CNORfeeder 1.51.0  (landing page)
Attila Gabor
git_last_commit: ec6ad0e
git_last_commit_date: 2025-10-29 10:14:15 -0500
kjohnson3macOS 13.7.7 Ventura / arm64  OK    OK    WARNINGS    OK  YES
Package 22/72HostnameOS / ArchINSTALLBUILDCHECKBUILD BIN
consICA 2.9.0  (landing page)
Petr V. Nazarov
git_last_commit: 093c307
git_last_commit_date: 2025-10-29 11:18:38 -0500
kjohnson3macOS 13.7.7 Ventura / arm64  OK    OK    OK    OK  YES
Package 23/72HostnameOS / ArchINSTALLBUILDCHECKBUILD BIN
CytoML 2.23.0  (landing page)
Mike Jiang
git_last_commit: 8f95dab
git_last_commit_date: 2025-10-29 10:33:02 -0500
kjohnson3macOS 13.7.7 Ventura / arm64  ERROR    ERROR  skippedskipped
Package 24/72HostnameOS / ArchINSTALLBUILDCHECKBUILD BIN
DEsubs 1.37.0  (landing page)
Aristidis G. Vrahatis , Panos Balomenos
git_last_commit: 795ef9b
git_last_commit_date: 2025-10-29 10:34:42 -0500
kjohnson3macOS 13.7.7 Ventura / arm64  ERROR    ERROR  skippedskipped
Package 25/72HostnameOS / ArchINSTALLBUILDCHECKBUILD BIN
EnrichDO 1.5.0  (landing page)
Hongyu Fu
git_last_commit: cb44ad0
git_last_commit_date: 2025-10-29 11:31:56 -0500
kjohnson3macOS 13.7.7 Ventura / arm64  OK    OK    OK    OK  YES
Package 26/72HostnameOS / ArchINSTALLBUILDCHECKBUILD BIN
EnrichmentBrowser 2.41.0  (landing page)
Ludwig Geistlinger
git_last_commit: eb4505a
git_last_commit_date: 2025-10-29 10:21:30 -0500
kjohnson3macOS 13.7.7 Ventura / arm64  ERROR    ERROR  skippedskipped
Package 27/72HostnameOS / ArchINSTALLBUILDCHECKBUILD BIN
epiNEM 1.35.0  (landing page)
Martin Pirkl
git_last_commit: d7bc809
git_last_commit_date: 2025-10-29 10:37:16 -0500
kjohnson3macOS 13.7.7 Ventura / arm64  OK    OK    OK    OK  YES
Package 28/72HostnameOS / ArchINSTALLBUILDCHECKBUILD BIN
EventPointer 3.19.0  (landing page)
Juan A. Ferrer-Bonsoms
git_last_commit: ab73f34
git_last_commit_date: 2025-10-29 10:37:08 -0500
kjohnson3macOS 13.7.7 Ventura / arm64  ERROR    ERROR  skippedskipped
Package 29/72HostnameOS / ArchINSTALLBUILDCHECKBUILD BIN
fgga 1.19.0  (landing page)
Flavio Spetale
git_last_commit: dbdfaea
git_last_commit_date: 2025-10-29 11:09:03 -0500
kjohnson3macOS 13.7.7 Ventura / arm64  OK    OK    OK    OK  YES
Package 30/72HostnameOS / ArchINSTALLBUILDCHECKBUILD BIN
flowClust 3.49.0  (landing page)
Greg Finak , Mike Jiang
git_last_commit: 24bd31c
git_last_commit_date: 2025-10-29 10:00:22 -0500
kjohnson3macOS 13.7.7 Ventura / arm64  ERROR    ERROR  skippedskipped
Package 31/72HostnameOS / ArchINSTALLBUILDCHECKBUILD BIN
flowMerge 2.59.0  (landing page)
Greg Finak
git_last_commit: 07705b4
git_last_commit_date: 2025-10-29 10:03:02 -0500
kjohnson3macOS 13.7.7 Ventura / arm64  ERROR    ERROR  skippedskipped
Package 32/72HostnameOS / ArchINSTALLBUILDCHECKBUILD BIN
flowWorkspace 4.23.0  (landing page)
Greg Finak , Mike Jiang
git_last_commit: 824996d
git_last_commit_date: 2025-10-29 10:07:43 -0500
kjohnson3macOS 13.7.7 Ventura / arm64  ERROR    ERROR  skippedskipped
Package 33/72HostnameOS / ArchINSTALLBUILDCHECKBUILD BIN
gage 2.61.0  (landing page)
Weijun Luo
git_last_commit: e6e1013
git_last_commit_date: 2025-10-29 10:05:53 -0500
kjohnson3macOS 13.7.7 Ventura / arm64  OK    ERROR  skippedskipped
Package 34/72HostnameOS / ArchINSTALLBUILDCHECKBUILD BIN
GeneNetworkBuilder 1.53.0  (landing page)
Jianhong Ou
git_last_commit: 98b73cc
git_last_commit_date: 2025-10-29 10:11:49 -0500
kjohnson3macOS 13.7.7 Ventura / arm64  OK    OK    OK    OK  YES
Package 35/72HostnameOS / ArchINSTALLBUILDCHECKBUILD BIN
GenomicInteractionNodes 1.15.0  (landing page)
Jianhong Ou
git_last_commit: 8ee0b28
git_last_commit_date: 2025-10-29 11:16:22 -0500
kjohnson3macOS 13.7.7 Ventura / arm64  OK    OK    OK    OK  NO, package depends on 'GenomicRanges' which is only available as a source package that needs compilation
Package 36/72HostnameOS / ArchINSTALLBUILDCHECKBUILD BIN
GOstats 2.77.0  (landing page)
Bioconductor Package Maintainer
git_last_commit: d09aa16
git_last_commit_date: 2025-10-29 09:55:01 -0500
kjohnson3macOS 13.7.7 Ventura / arm64  OK    OK    OK    OK  YES
Package 37/72HostnameOS / ArchINSTALLBUILDCHECKBUILD BIN
GraphAT 1.83.0  (landing page)
Thomas LaFramboise
git_last_commit: 581549b
git_last_commit_date: 2025-10-29 09:55:09 -0500
kjohnson3macOS 13.7.7 Ventura / arm64  OK    OK    OK    OK  YES
Package 38/72HostnameOS / ArchINSTALLBUILDCHECKBUILD BIN
graphite 1.57.0  (landing page)
Gabriele Sales
git_last_commit: 0b372f1
git_last_commit_date: 2025-10-29 10:08:39 -0500
kjohnson3macOS 13.7.7 Ventura / arm64  OK    OK    OK    OK  YES
Package 39/72HostnameOS / ArchINSTALLBUILDCHECKBUILD BIN
GSEABase 1.73.0  (landing page)
Bioconductor Package Maintainer
git_last_commit: 40d4be6
git_last_commit_date: 2025-10-29 09:59:33 -0500
kjohnson3macOS 13.7.7 Ventura / arm64  OK    ERROR  skippedskipped
Package 40/72HostnameOS / ArchINSTALLBUILDCHECKBUILD BIN
hyperdraw 1.63.0  (landing page)
Paul Murrell
git_last_commit: 5f06f53
git_last_commit_date: 2025-10-29 10:04:13 -0500
kjohnson3macOS 13.7.7 Ventura / arm64  OK    OK    OK    OK  YES
Package 41/72HostnameOS / ArchINSTALLBUILDCHECKBUILD BIN
hypergraph 1.83.0  (landing page)
Bioconductor Package Maintainer
git_last_commit: febfb63
git_last_commit_date: 2025-10-29 09:56:34 -0500
kjohnson3macOS 13.7.7 Ventura / arm64  OK    OK    OK    OK  YES
Package 42/72HostnameOS / ArchINSTALLBUILDCHECKBUILD BIN
KEGGgraph 1.71.0  (landing page)
Jitao David Zhang
git_last_commit: 09a8170
git_last_commit_date: 2025-10-29 10:02:08 -0500
kjohnson3macOS 13.7.7 Ventura / arm64  OK    OK    OK    OK  YES
Package 43/72HostnameOS / ArchINSTALLBUILDCHECKBUILD BIN
keggorthology 2.63.0  (landing page)
VJ Carey
git_last_commit: 83d2b0c
git_last_commit_date: 2025-10-29 09:59:39 -0500
kjohnson3macOS 13.7.7 Ventura / arm64  OK    OK    OK    OK  YES
Package 44/72HostnameOS / ArchINSTALLBUILDCHECKBUILD BIN
MineICA 1.51.0  (landing page)
Anne Biton
git_last_commit: b926f54
git_last_commit_date: 2025-10-29 10:13:40 -0500
kjohnson3macOS 13.7.7 Ventura / arm64  ERROR    ERROR  skippedskipped
Package 45/72HostnameOS / ArchINSTALLBUILDCHECKBUILD BIN
mirIntegrator 1.41.0  (landing page)
Diana Diaz
git_last_commit: 85fa48a
git_last_commit_date: 2025-10-29 10:26:26 -0500
kjohnson3macOS 13.7.7 Ventura / arm64  OK    OK    OK    OK  YES
Package 46/72HostnameOS / ArchINSTALLBUILDCHECKBUILD BIN
MIRit 1.7.1  (landing page)
Jacopo Ronchi
git_last_commit: a0208d2
git_last_commit_date: 2025-11-05 08:05:07 -0500
kjohnson3macOS 13.7.7 Ventura / arm64  ERROR    ERROR  skippedskipped
Package 47/72HostnameOS / ArchINSTALLBUILDCHECKBUILD BIN
mnem 1.27.0  (landing page)
Martin Pirkl
git_last_commit: 0fd323e
git_last_commit_date: 2025-10-29 10:52:33 -0500
kjohnson3macOS 13.7.7 Ventura / arm64  OK    OK    OK    OK  YES
Package 48/72HostnameOS / ArchINSTALLBUILDCHECKBUILD BIN
MOSClip 1.5.0  (landing page)
Paolo Martini
git_last_commit: feb3c8b
git_last_commit_date: 2025-10-29 11:32:56 -0500
kjohnson3macOS 13.7.7 Ventura / arm64  OK    OK    OK    OK  NO, package depends on 'qpgraph' which is only available as a source package that needs compilation
Package 49/72HostnameOS / ArchINSTALLBUILDCHECKBUILD BIN
netresponse 1.71.0  (landing page)
Leo Lahti
git_last_commit: 8295054
git_last_commit_date: 2025-10-29 10:05:48 -0500
kjohnson3macOS 13.7.7 Ventura / arm64  OK    OK    OK    OK  YES
Package 50/72HostnameOS / ArchINSTALLBUILDCHECKBUILD BIN
ontoProc 2.5.0  (landing page)
Vincent Carey
git_last_commit: a09f239
git_last_commit_date: 2025-10-29 19:20:08 -0500
kjohnson3macOS 13.7.7 Ventura / arm64  OK    ERROR  skippedskipped
Package 51/72HostnameOS / ArchINSTALLBUILDCHECKBUILD BIN
openCyto 2.23.0  (landing page)
Mike Jiang
git_last_commit: 11bf474
git_last_commit_date: 2025-10-29 10:16:53 -0500
kjohnson3macOS 13.7.7 Ventura / arm64  ERROR    ERROR  skippedskipped
Package 52/72HostnameOS / ArchINSTALLBUILDCHECKBUILD BIN
oposSOM 2.29.0  (landing page)
Henry Loeffler-Wirth
git_last_commit: 5c4952e
git_last_commit_date: 2025-10-29 10:20:10 -0500
kjohnson3macOS 13.7.7 Ventura / arm64  OK    OK    WARNINGS    OK  YES
Package 53/72HostnameOS / ArchINSTALLBUILDCHECKBUILD BIN
OrganismDbi 1.53.2  (landing page)
Bioconductor Package Maintainer
git_last_commit: a63751b
git_last_commit_date: 2025-10-31 18:33:12 -0500
kjohnson3macOS 13.7.7 Ventura / arm64  OK    OK    OK    OK  NO, package depends on 'GenomicRanges' which is only available as a source package that needs compilation
Package 54/72HostnameOS / ArchINSTALLBUILDCHECKBUILD BIN
pathRender 1.79.0  (landing page)
Vince Carey
git_last_commit: d982243
git_last_commit_date: 2025-10-29 09:57:23 -0500
kjohnson3macOS 13.7.7 Ventura / arm64  OK    OK    OK    OK  YES
Package 55/72HostnameOS / ArchINSTALLBUILDCHECKBUILD BIN
pathview 1.51.0  (landing page)
Weijun Luo
git_last_commit: b31fe1e
git_last_commit_date: 2025-10-29 10:14:01 -0500
kjohnson3macOS 13.7.7 Ventura / arm64  OK    OK    WARNINGS    OK  YES
Package 56/72HostnameOS / ArchINSTALLBUILDCHECKBUILD BIN
Pigengene 1.37.0  (landing page)
Habil Zare
git_last_commit: b4e2edc
git_last_commit_date: 2025-10-29 10:32:29 -0500
kjohnson3macOS 13.7.7 Ventura / arm64  OK    OK    ERROR    OK  
Package 57/72HostnameOS / ArchINSTALLBUILDCHECKBUILD BIN
qpgraph 2.45.0  (landing page)
Robert Castelo
git_last_commit: eff82ca
git_last_commit_date: 2025-10-29 10:02:10 -0500
kjohnson3macOS 13.7.7 Ventura / arm64  OK    OK    OK    OK  NO, package depends on 'GenomicRanges' which is only available as a source package that needs compilation
Package 58/72HostnameOS / ArchINSTALLBUILDCHECKBUILD BIN
RbcBook1 1.79.0  (landing page)
Vince Carey
git_last_commit: f5a4884
git_last_commit_date: 2025-10-29 09:58:35 -0500
kjohnson3macOS 13.7.7 Ventura / arm64  OK    OK    WARNINGS    OK  YES
Package 59/72HostnameOS / ArchINSTALLBUILDCHECKBUILD BIN
RBGL 1.87.0  (landing page)
Bioconductor Package Maintainer
git_last_commit: 9b0a331
git_last_commit_date: 2025-10-29 09:54:01 -0500
kjohnson3macOS 13.7.7 Ventura / arm64  OK    OK    OK    OK  YES
Package 60/72HostnameOS / ArchINSTALLBUILDCHECKBUILD BIN
RCy3 2.31.0  (landing page)
Alex Pico
git_last_commit: f7dcce5
git_last_commit_date: 2025-10-29 10:28:27 -0500
kjohnson3macOS 13.7.7 Ventura / arm64  OK    OK    OK    OK  YES
Package 61/72HostnameOS / ArchINSTALLBUILDCHECKBUILD BIN
RCyjs 2.33.0  (landing page)
Paul Shannon
git_last_commit: 85acbb7
git_last_commit_date: 2025-10-29 10:25:28 -0500
kjohnson3macOS 13.7.7 Ventura / arm64  OK    OK    WARNINGS    OK  YES
Package 62/72HostnameOS / ArchINSTALLBUILDCHECKBUILD BIN
RGraph2js 1.39.0  (landing page)
Stephane Cano
git_last_commit: 4327aeb
git_last_commit_date: 2025-10-29 10:29:41 -0500
kjohnson3macOS 13.7.7 Ventura / arm64  OK    OK    OK    OK  YES
Package 63/72HostnameOS / ArchINSTALLBUILDCHECKBUILD BIN
Rgraphviz 2.55.0  (landing page)
Kasper Daniel Hansen
git_last_commit: 508dbe9
git_last_commit_date: 2025-10-29 09:42:22 -0500
kjohnson3macOS 13.7.7 Ventura / arm64  OK    OK    WARNINGS    OK  YES
Package 64/72HostnameOS / ArchINSTALLBUILDCHECKBUILD BIN
ROntoTools 2.39.0  (landing page)
Sorin Draghici
git_last_commit: 5a6e829
git_last_commit_date: 2025-10-29 10:14:20 -0500
kjohnson3macOS 13.7.7 Ventura / arm64  OK    OK    WARNINGS    OK  YES
Package 65/72HostnameOS / ArchINSTALLBUILDCHECKBUILD BIN
rsbml 2.69.0  (landing page)
Michael Lawrence
git_last_commit: 7c17b73
git_last_commit_date: 2025-10-29 09:59:55 -0500
kjohnson3macOS 13.7.7 Ventura / arm64... NOT SUPPORTED ...
Package 66/72HostnameOS / ArchINSTALLBUILDCHECKBUILD BIN
scGraphVerse 1.1.0  (landing page)
Francesco Cecere
git_last_commit: 1e63abe
git_last_commit_date: 2025-10-29 11:38:49 -0500
kjohnson3macOS 13.7.7 Ventura / arm64  OK    OK    ERROR    OK  
Package 67/72HostnameOS / ArchINSTALLBUILDCHECKBUILD BIN
SGCP 1.11.0  (landing page)
Niloofar AghaieAbiane
git_last_commit: d3ffc3a
git_last_commit_date: 2025-10-29 11:20:24 -0500
kjohnson3macOS 13.7.7 Ventura / arm64  OK    ERROR  skippedskipped
Package 68/72HostnameOS / ArchINSTALLBUILDCHECKBUILD BIN
SplicingGraphs 1.51.1  (landing page)
H. Pagès
git_last_commit: 8abbef9
git_last_commit_date: 2025-11-02 12:50:45 -0500
kjohnson3macOS 13.7.7 Ventura / arm64  OK    OK    WARNINGS    OK  NO, package depends on 'GenomicAlignments' which is only available as a source package that needs compilation
Package 69/72HostnameOS / ArchINSTALLBUILDCHECKBUILD BIN
SRAdb 1.73.0  (landing page)
Jack Zhu
git_last_commit: 0d39542
git_last_commit_date: 2025-10-29 10:04:50 -0500
kjohnson3macOS 13.7.7 Ventura / arm64  OK    OK    OK    OK  YES
Package 70/72HostnameOS / ArchINSTALLBUILDCHECKBUILD BIN
topGO 2.63.0  (landing page)
Federico Marini
git_last_commit: 35ec429
git_last_commit_date: 2025-10-29 09:59:04 -0500
kjohnson3macOS 13.7.7 Ventura / arm64  OK    OK    WARNINGS    OK  YES
Package 71/72HostnameOS / ArchINSTALLBUILDCHECKBUILD BIN
VariantFiltering 1.47.0  (landing page)
Robert Castelo
git_last_commit: 270d88d
git_last_commit_date: 2025-10-29 10:19:08 -0500
kjohnson3macOS 13.7.7 Ventura / arm64  ERROR    ERROR  skippedskipped
Package 72/72HostnameOS / ArchINSTALLBUILDCHECKBUILD BIN
vtpnet 0.51.0  (landing page)
VJ Carey
git_last_commit: 547ac9d
git_last_commit_date: 2025-10-29 10:15:00 -0500
kjohnson3macOS 13.7.7 Ventura / arm64  OK    OK    OK    OK  NO, package depends on 'GenomicRanges' which is only available as a source package that needs compilation