| Back to Build/check report for BioC 3.23: simplified long |
|
This page was generated on 2025-11-12 11:32 -0500 (Wed, 12 Nov 2025).
| Hostname | OS | Arch (*) | R version | Installed pkgs |
|---|---|---|---|---|
| nebbiolo1 | Linux (Ubuntu 24.04.3 LTS) | x86_64 | R Under development (unstable) (2025-10-20 r88955) -- "Unsuffered Consequences" | 4823 |
| Click on any hostname to see more info about the system (e.g. compilers) (*) as reported by 'uname -p', except on Windows and Mac OS X | ||||
| Package 119/2325 | Hostname | OS / Arch | INSTALL | BUILD | CHECK | BUILD BIN | ||||||||
| autonomics 1.19.0 (landing page) Aditya Bhagwat
| nebbiolo1 | Linux (Ubuntu 24.04.3 LTS) / x86_64 | OK | OK | OK | |||||||||
|
To the developers/maintainers of the autonomics package: - Allow up to 24 hours (and sometimes 48 hours) for your latest push to git@git.bioconductor.org:packages/autonomics.git to reflect on this report. See Troubleshooting Build Report for more information. - Use the following Renviron settings to reproduce errors and warnings. - If 'R CMD check' started to fail recently on the Linux builder(s) over a missing dependency, add the missing dependency to 'Suggests:' in your DESCRIPTION file. See Renviron.bioc for more information. |
| Package: autonomics |
| Version: 1.19.0 |
| Command: /home/biocbuild/bbs-3.23-bioc/R/bin/R CMD check --install=check:autonomics.install-out.txt --library=/home/biocbuild/bbs-3.23-bioc/R/site-library --timings autonomics_1.19.0.tar.gz |
| StartedAt: 2025-11-11 21:12:52 -0500 (Tue, 11 Nov 2025) |
| EndedAt: 2025-11-11 21:32:41 -0500 (Tue, 11 Nov 2025) |
| EllapsedTime: 1188.7 seconds |
| RetCode: 0 |
| Status: OK |
| CheckDir: autonomics.Rcheck |
| Warnings: 0 |
##############################################################################
##############################################################################
###
### Running command:
###
### /home/biocbuild/bbs-3.23-bioc/R/bin/R CMD check --install=check:autonomics.install-out.txt --library=/home/biocbuild/bbs-3.23-bioc/R/site-library --timings autonomics_1.19.0.tar.gz
###
##############################################################################
##############################################################################
* using log directory ‘/home/biocbuild/bbs-3.23-bioc/meat/autonomics.Rcheck’
* using R Under development (unstable) (2025-10-20 r88955)
* using platform: x86_64-pc-linux-gnu
* R was compiled by
gcc (Ubuntu 13.3.0-6ubuntu2~24.04) 13.3.0
GNU Fortran (Ubuntu 13.3.0-6ubuntu2~24.04) 13.3.0
* running under: Ubuntu 24.04.3 LTS
* using session charset: UTF-8
* checking for file ‘autonomics/DESCRIPTION’ ... OK
* checking extension type ... Package
* this is package ‘autonomics’ version ‘1.19.0’
* package encoding: UTF-8
* checking package namespace information ... OK
* checking package dependencies ... INFO
Imports includes 32 non-default packages.
Importing from so many packages makes the package vulnerable to any of
them becoming unavailable. Move as many as possible to Suggests and
use conditionally.
* checking if this is a source package ... OK
* checking if there is a namespace ... OK
* checking for hidden files and directories ... NOTE
Found the following hidden files and directories:
.BBSoptions
These were most likely included in error. See section ‘Package
structure’ in the ‘Writing R Extensions’ manual.
* checking for portable file names ... OK
* checking for sufficient/correct file permissions ... OK
* checking whether package ‘autonomics’ can be installed ... OK
* checking installed package size ... OK
* checking package directory ... OK
* checking ‘build’ directory ... OK
* checking DESCRIPTION meta-information ... OK
* checking top-level files ... OK
* checking for left-over files ... OK
* checking index information ... OK
* checking package subdirectories ... OK
* checking code files for non-ASCII characters ... OK
* checking R files for syntax errors ... OK
* checking whether the package can be loaded ... OK
* checking whether the package can be loaded with stated dependencies ... OK
* checking whether the package can be unloaded cleanly ... OK
* checking whether the namespace can be loaded with stated dependencies ... OK
* checking whether the namespace can be unloaded cleanly ... OK
* checking loading without being on the library search path ... OK
* checking dependencies in R code ... OK
* checking S3 generic/method consistency ... OK
* checking replacement functions ... OK
* checking foreign function calls ... OK
* checking R code for possible problems ... OK
* checking Rd files ... OK
* checking Rd metadata ... OK
* checking Rd cross-references ... NOTE
Non-topic package-anchored link(s) in Rd file 'reexports.Rd':
‘[magrittr:compound]{%<>%}’ ‘[magrittr:pipe]{%>%}’
‘[magrittr:aliases]{extract}’
See section 'Cross-references' in the 'Writing R Extensions' manual.
* checking for missing documentation entries ... OK
* checking for code/documentation mismatches ... OK
* checking Rd \usage sections ... OK
* checking Rd contents ... OK
* checking for unstated dependencies in examples ... OK
* checking files in ‘vignettes’ ... OK
* checking examples ... OK
Examples with CPU (user + system) or elapsed time > 5s
user system elapsed
write_xl 161.266 1.779 162.949
read_diann_proteingroups 98.784 1.294 95.223
awblinmod 41.553 0.229 40.570
read_rnaseq_counts 31.547 2.457 33.655
LINMOD 24.456 0.477 24.281
rm_diann_contaminants 19.782 0.473 18.979
plot_exprs 19.408 0.121 19.438
plot_exprs_per_coef 18.949 0.070 18.936
default_formula 18.052 0.421 18.050
analyze 14.132 0.209 14.222
read_somascan 13.633 0.305 13.884
read_metabolon 13.468 0.044 13.433
plot_volcano 13.364 0.084 13.400
plot_summary 13.056 0.035 13.004
fit_survival 10.355 0.082 10.439
plot_densities 10.035 0.052 10.011
explore-transforms 9.650 0.052 9.703
fcluster 9.080 0.034 9.022
plot_detections 8.151 0.109 8.183
ftype 8.022 0.020 7.640
biplot_covariates 6.785 0.011 6.758
plot_xy_density 6.225 0.062 6.287
reset_fit 5.745 0.240 5.867
read_fragpipe 5.852 0.097 5.634
plot_subgroup_points 5.725 0.021 5.688
* checking for unstated dependencies in ‘tests’ ... OK
* checking tests ...
Running ‘testthat.R’
OK
* checking for unstated dependencies in vignettes ... OK
* checking package vignettes ... OK
* checking re-building of vignette outputs ... OK
* checking PDF version of manual ... OK
* DONE
Status: 2 NOTEs
See
‘/home/biocbuild/bbs-3.23-bioc/meat/autonomics.Rcheck/00check.log’
for details.
autonomics.Rcheck/00install.out
############################################################################## ############################################################################## ### ### Running command: ### ### /home/biocbuild/bbs-3.23-bioc/R/bin/R CMD INSTALL autonomics ### ############################################################################## ############################################################################## * installing to library ‘/home/biocbuild/bbs-3.23-bioc/R/site-library’ * installing *source* package ‘autonomics’ ... ** this is package ‘autonomics’ version ‘1.19.0’ ** using staged installation ** R ** inst ** byte-compile and prepare package for lazy loading Note: wrong number of arguments to 'seq_along' Note: wrong number of arguments to 'sqrt' ** help *** installing help indices ** building package indices ** installing vignettes ** testing if installed package can be loaded from temporary location ** testing if installed package can be loaded from final location ** testing if installed package keeps a record of temporary installation path * DONE (autonomics)
autonomics.Rcheck/tests/testthat.Rout
R Under development (unstable) (2025-10-20 r88955) -- "Unsuffered Consequences"
Copyright (C) 2025 The R Foundation for Statistical Computing
Platform: x86_64-pc-linux-gnu
R is free software and comes with ABSOLUTELY NO WARRANTY.
You are welcome to redistribute it under certain conditions.
Type 'license()' or 'licence()' for distribution details.
R is a collaborative project with many contributors.
Type 'contributors()' for more information and
'citation()' on how to cite R or R packages in publications.
Type 'demo()' for some demos, 'help()' for on-line help, or
'help.start()' for an HTML browser interface to help.
Type 'q()' to quit R.
> library(testthat)
> library(autonomics)
Attaching package: 'autonomics'
The following objects are masked from 'package:stats':
biplot, loadings
The following object is masked from 'package:base':
beta
>
> test_check("autonomics")
[ FAIL 0 | WARN 3 | SKIP 0 | PASS 158 ]
[ FAIL 0 | WARN 3 | SKIP 0 | PASS 158 ]
>
> proc.time()
user system elapsed
143.529 4.600 145.700
autonomics.Rcheck/autonomics-Ex.timings
| name | user | system | elapsed | |
| AUTONOMICS_DATASETS | 0.001 | 0.001 | 0.001 | |
| COMPOUNDDISCOVERER_PATTERNS | 0.001 | 0.000 | 0.000 | |
| LINMOD | 24.456 | 0.477 | 24.281 | |
| LINMODENGINES | 0.000 | 0.000 | 0.001 | |
| MAXQUANT_PATTERNS | 0.000 | 0.001 | 0.001 | |
| TAXON_TO_ORGNAME | 0 | 0 | 0 | |
| TESTS | 0.001 | 0.001 | 0.000 | |
| X | 1.177 | 0.022 | 1.177 | |
| abstract_fit | 1.032 | 0.017 | 1.015 | |
| add_adjusted_pvalues | 0.502 | 0.019 | 0.523 | |
| add_assay_means | 0.355 | 0.014 | 0.369 | |
| add_facetvars | 1.463 | 0.039 | 1.463 | |
| add_opentargets_by_uniprot | 0.385 | 0.007 | 0.394 | |
| add_psp | 0.529 | 0.009 | 0.539 | |
| add_smiles | 0.479 | 0.011 | 0.467 | |
| all_non_numeric | 0.591 | 0.000 | 0.591 | |
| analysis | 0.372 | 0.003 | 0.375 | |
| analyze | 14.132 | 0.209 | 14.222 | |
| annotate_maxquant | 0.850 | 0.048 | 0.899 | |
| annotate_uniprot_rest | 0.351 | 0.008 | 2.030 | |
| assert_is_valid_sumexp | 0.566 | 0.023 | 0.567 | |
| awblinmod | 41.553 | 0.229 | 40.570 | |
| biplot | 3.658 | 0.024 | 3.662 | |
| biplot_corrections | 3.405 | 0.009 | 3.380 | |
| biplot_covariates | 6.785 | 0.011 | 6.758 | |
| block2limma | 0.002 | 0.000 | 0.002 | |
| block2lm | 0.003 | 0.000 | 0.003 | |
| block2lme | 0.000 | 0.001 | 0.002 | |
| block2lmer | 0.003 | 0.000 | 0.004 | |
| block_has_two_levels | 0.677 | 0.008 | 0.614 | |
| center | 1.712 | 0.007 | 1.707 | |
| code | 4.837 | 0.037 | 4.853 | |
| collapsed_entrezg_to_symbol | 0.905 | 0.051 | 0.956 | |
| contrast_subgroup_cols | 0.584 | 0.011 | 0.559 | |
| contrastdt | 0.600 | 0.003 | 0.604 | |
| count_in | 0.001 | 0.000 | 0.001 | |
| counts | 0.356 | 0.001 | 0.357 | |
| counts2cpm | 0.305 | 0.002 | 0.307 | |
| counts2tpm | 0.281 | 0.003 | 0.284 | |
| cpm | 0.346 | 0.001 | 0.347 | |
| create_design | 0.735 | 0.014 | 0.709 | |
| default_formula | 18.052 | 0.421 | 18.050 | |
| default_geom | 0.469 | 0.015 | 0.462 | |
| default_sfile | 0.001 | 0.000 | 0.001 | |
| demultiplex | 0.014 | 0.000 | 0.014 | |
| densities | 0.251 | 0.003 | 0.254 | |
| dequantify | 0.001 | 0.001 | 0.002 | |
| dequantify_compounddiscoverer | 0.001 | 0.000 | 0.001 | |
| dot-coxph | 0.355 | 0.017 | 0.372 | |
| dot-merge | 0.019 | 0.001 | 0.021 | |
| dot-read_maxquant_proteingroups | 0.113 | 0.004 | 0.117 | |
| download_data | 0.001 | 0.000 | 0.001 | |
| download_gtf | 0 | 0 | 0 | |
| download_mcclain21 | 0.001 | 0.000 | 0.001 | |
| dt2mat | 0.004 | 0.000 | 0.003 | |
| enrichment | 1.143 | 0.001 | 1.145 | |
| entrezg_to_symbol | 0.136 | 0.000 | 0.137 | |
| explore-transforms | 9.650 | 0.052 | 9.703 | |
| extract_contrast_features | 4.320 | 0.013 | 4.311 | |
| extract_rectangle | 0.101 | 0.013 | 0.114 | |
| factor.vars | 0.174 | 0.002 | 0.177 | |
| factorize | 0.770 | 0.009 | 0.779 | |
| fcluster | 9.080 | 0.034 | 9.022 | |
| fcor | 1.377 | 0.011 | 1.388 | |
| fdata | 0.488 | 0.007 | 0.494 | |
| fdr2p | 0.943 | 0.011 | 0.915 | |
| filter_exprs_replicated_in_some_subgroup | 1.025 | 0.010 | 0.929 | |
| filter_features | 0.468 | 0.015 | 0.461 | |
| filter_medoid | 0.592 | 0.001 | 0.593 | |
| filter_samples | 0.472 | 0.015 | 0.466 | |
| fit_survival | 10.355 | 0.082 | 10.439 | |
| fits | 0.301 | 0.008 | 0.310 | |
| fix_xlgenes | 0.002 | 0.000 | 0.002 | |
| flevels | 0.376 | 0.006 | 0.382 | |
| fnames | 0.455 | 0.010 | 0.466 | |
| formula2str | 0.000 | 0.000 | 0.001 | |
| ftype | 8.022 | 0.020 | 7.640 | |
| fvalues | 0.365 | 0.003 | 0.368 | |
| fvars | 0.370 | 0.017 | 0.387 | |
| genome_to_orgdb | 0.000 | 0.001 | 0.001 | |
| group_by_level | 0.001 | 0.000 | 0.002 | |
| guess_compounddiscoverer_quantity | 0.002 | 0.000 | 0.002 | |
| guess_fitsep | 0.459 | 0.048 | 0.507 | |
| guess_maxquant_quantity | 0.006 | 0.000 | 0.006 | |
| guess_sep | 0.480 | 0.011 | 0.469 | |
| has_multiple_levels | 0.054 | 0.001 | 0.055 | |
| hdlproteins | 0.048 | 0.015 | 0.066 | |
| impute | 3.289 | 0.016 | 3.306 | |
| invert_subgroups | 0.644 | 0.002 | 0.647 | |
| is_character_matrix | 0.131 | 0.001 | 0.132 | |
| is_collapsed_subset | 0 | 0 | 0 | |
| is_compounddiscoverer_output | 0.083 | 0.036 | 0.217 | |
| is_correlation_matrix | 0.002 | 0.000 | 0.002 | |
| is_diann_report | 0.120 | 0.006 | 0.097 | |
| is_fastadt | 0.062 | 0.000 | 0.058 | |
| is_file | 0.000 | 0.000 | 0.001 | |
| is_fraction | 0.000 | 0.001 | 0.002 | |
| is_fragpipe_tsv | 0.088 | 0.007 | 0.067 | |
| is_imputed | 0.697 | 0.002 | 0.694 | |
| is_maxquant_phosphosites | 0.080 | 0.006 | 0.063 | |
| is_maxquant_proteingroups | 0.080 | 0.004 | 0.059 | |
| is_positive_number | 0.002 | 0.000 | 0.002 | |
| is_scalar_subset | 0.294 | 0.001 | 0.295 | |
| is_sig | 1.355 | 0.005 | 1.361 | |
| is_valid_formula | 0.045 | 0.000 | 0.044 | |
| keep_estimable_features | 0.739 | 0.014 | 0.699 | |
| label2index | 0.001 | 0.000 | 0.001 | |
| list2mat | 0.001 | 0.000 | 0.001 | |
| log2counts | 0.355 | 0.000 | 0.354 | |
| log2cpm | 0.286 | 0.002 | 0.288 | |
| log2diffs | 0.291 | 0.001 | 0.292 | |
| log2proteins | 0.304 | 0.021 | 0.324 | |
| log2sites | 0.360 | 0.021 | 0.381 | |
| log2tpm | 0.292 | 0.001 | 0.293 | |
| log2transform | 4.885 | 0.014 | 4.954 | |
| logical2factor | 0.000 | 0.001 | 0.001 | |
| make_alpha_palette | 0.507 | 0.015 | 0.495 | |
| make_colors | 0.010 | 0.001 | 0.010 | |
| make_volcano_dt | 0.886 | 0.006 | 0.891 | |
| map_fvalues | 0.366 | 0.006 | 0.373 | |
| matrix2sumexp | 1.024 | 0.017 | 1.011 | |
| mclust_breaks | 0.526 | 0.027 | 0.553 | |
| merge_sample_file | 0.497 | 0.007 | 0.504 | |
| merge_sdata | 0.667 | 0.025 | 0.673 | |
| message_df | 0.005 | 0.000 | 0.005 | |
| model_coefs | 0.789 | 0.025 | 0.782 | |
| modelvar | 3.328 | 0.019 | 3.303 | |
| object1 | 0.672 | 0.006 | 0.677 | |
| order_on_p | 1.336 | 0.019 | 1.332 | |
| overall_parameters | 0.033 | 0.000 | 0.034 | |
| pca | 3.143 | 0.020 | 3.140 | |
| pg_to_canonical | 0.005 | 0.000 | 0.006 | |
| plot_coef_densities | 1.338 | 0.013 | 1.318 | |
| plot_contrast_venn | 2.365 | 0.020 | 2.296 | |
| plot_contrastogram | 2.870 | 0.028 | 2.826 | |
| plot_data | 1.648 | 0.010 | 1.635 | |
| plot_densities | 10.035 | 0.052 | 10.011 | |
| plot_design | 0.737 | 0.002 | 0.738 | |
| plot_detections | 8.151 | 0.109 | 8.183 | |
| plot_exprs | 19.408 | 0.121 | 19.438 | |
| plot_exprs_per_coef | 18.949 | 0.070 | 18.936 | |
| plot_fit_summary | 2.131 | 0.012 | 2.051 | |
| plot_heatmap | 1.875 | 0.003 | 1.883 | |
| plot_matrix | 0.492 | 0.014 | 0.468 | |
| plot_subgroup_points | 5.725 | 0.021 | 5.688 | |
| plot_summary | 13.056 | 0.035 | 13.004 | |
| plot_venn | 0.015 | 0.001 | 0.016 | |
| plot_venn_heatmap | 0.019 | 0.002 | 0.021 | |
| plot_violins | 4.920 | 0.040 | 4.936 | |
| plot_volcano | 13.364 | 0.084 | 13.400 | |
| plot_xy_density | 6.225 | 0.062 | 6.287 | |
| preprocess_rnaseq_counts | 0.318 | 0.001 | 0.319 | |
| pull_columns | 0.001 | 0.001 | 0.003 | |
| pvalues_estimable | 0.033 | 0.009 | 0.042 | |
| read_affymetrix | 0.001 | 0.000 | 0.000 | |
| read_diann_proteingroups | 98.784 | 1.294 | 95.223 | |
| read_fragpipe | 5.852 | 0.097 | 5.634 | |
| read_maxquant_phosphosites | 1.612 | 0.012 | 1.624 | |
| read_maxquant_proteingroups | 1.251 | 0.006 | 1.257 | |
| read_metabolon | 13.468 | 0.044 | 13.433 | |
| read_msigdt | 0.001 | 0.000 | 0.001 | |
| read_olink | 1.414 | 0.029 | 1.347 | |
| read_rectangles | 0.273 | 0.009 | 0.282 | |
| read_rnaseq_counts | 31.547 | 2.457 | 33.655 | |
| read_salmon | 0.001 | 0.000 | 0.000 | |
| read_somascan | 13.633 | 0.305 | 13.884 | |
| read_uniprotdt | 0.285 | 0.013 | 0.297 | |
| reset_fit | 5.745 | 0.240 | 5.867 | |
| rm_diann_contaminants | 19.782 | 0.473 | 18.979 | |
| rm_missing_in_some_samples | 0.464 | 0.017 | 0.460 | |
| rm_unmatched_samples | 0.817 | 0.029 | 0.846 | |
| sbind | 4.034 | 0.028 | 4.062 | |
| scaledlibsizes | 0.337 | 0.001 | 0.337 | |
| scoremat | 0.787 | 0.016 | 0.768 | |
| slevels | 0.411 | 0.003 | 0.414 | |
| snames | 0.381 | 0.002 | 0.383 | |
| split_extract_fixed | 0.484 | 0.015 | 0.476 | |
| split_samples | 1.161 | 0.018 | 1.156 | |
| stepauc | 0.365 | 0.010 | 0.375 | |
| stri_any_regex | 0.000 | 0.001 | 0.001 | |
| stri_detect_fixed_in_collapsed | 0.332 | 0.003 | 0.335 | |
| subgroup_matrix | 0.531 | 0.014 | 0.517 | |
| subtract_baseline | 4.841 | 0.080 | 4.819 | |
| sumexp_to_longdt | 1.818 | 0.076 | 1.838 | |
| sumexp_to_tsv | 0.508 | 0.016 | 0.523 | |
| sumexplist_to_longdt | 1.526 | 0.040 | 1.567 | |
| summarize_fit | 1.609 | 0.026 | 1.577 | |
| survobj | 0.136 | 0.001 | 0.136 | |
| svalues | 0.438 | 0.005 | 0.442 | |
| svars | 0.378 | 0.008 | 0.385 | |
| systematic_nas | 0.508 | 0.004 | 0.512 | |
| tag_features | 0.974 | 0.050 | 1.023 | |
| tag_hdlproteins | 0.492 | 0.009 | 0.500 | |
| taxon2org | 0.001 | 0.000 | 0.001 | |
| tpm | 0.428 | 0.002 | 0.430 | |
| uncollapse | 0.027 | 0.001 | 0.027 | |
| values | 0.399 | 0.002 | 0.402 | |
| varlevels_dont_clash | 0.016 | 0.002 | 0.019 | |
| venn_detects | 0.490 | 0.002 | 0.492 | |
| weights | 0.358 | 0.000 | 0.359 | |
| write_xl | 161.266 | 1.779 | 162.949 | |
| zero_to_na | 0.001 | 0.001 | 0.002 | |