| Back to Multiple platform build/check report for BioC 3.23: simplified long |
|
This page was generated on 2025-11-14 11:36 -0500 (Fri, 14 Nov 2025).
| Hostname | OS | Arch (*) | R version | Installed pkgs |
|---|---|---|---|---|
| nebbiolo1 | Linux (Ubuntu 24.04.3 LTS) | x86_64 | R Under development (unstable) (2025-10-20 r88955) -- "Unsuffered Consequences" | 4825 |
| kjohnson3 | macOS 13.7.7 Ventura | arm64 | R Under development (unstable) (2025-11-04 r88984) -- "Unsuffered Consequences" | 4547 |
| Click on any hostname to see more info about the system (e.g. compilers) (*) as reported by 'uname -p', except on Windows and Mac OS X | ||||
| Package 119/2325 | Hostname | OS / Arch | INSTALL | BUILD | CHECK | BUILD BIN | ||||||||
| autonomics 1.19.0 (landing page) Aditya Bhagwat
| nebbiolo1 | Linux (Ubuntu 24.04.3 LTS) / x86_64 | OK | OK | OK | |||||||||
| kjohnson3 | macOS 13.7.7 Ventura / arm64 | OK | OK | OK | OK | |||||||||
|
To the developers/maintainers of the autonomics package: - Allow up to 24 hours (and sometimes 48 hours) for your latest push to git@git.bioconductor.org:packages/autonomics.git to reflect on this report. See Troubleshooting Build Report for more information. - Use the following Renviron settings to reproduce errors and warnings. - If 'R CMD check' started to fail recently on the Linux builder(s) over a missing dependency, add the missing dependency to 'Suggests:' in your DESCRIPTION file. See Renviron.bioc for more information. |
| Package: autonomics |
| Version: 1.19.0 |
| Command: /Library/Frameworks/R.framework/Resources/bin/R CMD check --install=check:autonomics.install-out.txt --library=/Library/Frameworks/R.framework/Resources/library --no-vignettes --timings autonomics_1.19.0.tar.gz |
| StartedAt: 2025-11-13 18:34:02 -0500 (Thu, 13 Nov 2025) |
| EndedAt: 2025-11-13 18:41:32 -0500 (Thu, 13 Nov 2025) |
| EllapsedTime: 450.5 seconds |
| RetCode: 0 |
| Status: OK |
| CheckDir: autonomics.Rcheck |
| Warnings: 0 |
##############################################################################
##############################################################################
###
### Running command:
###
### /Library/Frameworks/R.framework/Resources/bin/R CMD check --install=check:autonomics.install-out.txt --library=/Library/Frameworks/R.framework/Resources/library --no-vignettes --timings autonomics_1.19.0.tar.gz
###
##############################################################################
##############################################################################
* using log directory ‘/Users/biocbuild/bbs-3.23-bioc/meat/autonomics.Rcheck’
* using R Under development (unstable) (2025-11-04 r88984)
* using platform: aarch64-apple-darwin20
* R was compiled by
Apple clang version 16.0.0 (clang-1600.0.26.6)
GNU Fortran (GCC) 14.2.0
* running under: macOS Ventura 13.7.8
* using session charset: UTF-8
* using option ‘--no-vignettes’
* checking for file ‘autonomics/DESCRIPTION’ ... OK
* checking extension type ... Package
* this is package ‘autonomics’ version ‘1.19.0’
* package encoding: UTF-8
* checking package namespace information ... OK
* checking package dependencies ... INFO
Imports includes 32 non-default packages.
Importing from so many packages makes the package vulnerable to any of
them becoming unavailable. Move as many as possible to Suggests and
use conditionally.
* checking if this is a source package ... OK
* checking if there is a namespace ... OK
* checking for hidden files and directories ... NOTE
Found the following hidden files and directories:
.BBSoptions
These were most likely included in error. See section ‘Package
structure’ in the ‘Writing R Extensions’ manual.
* checking for portable file names ... OK
* checking for sufficient/correct file permissions ... OK
* checking whether package ‘autonomics’ can be installed ... OK
* checking installed package size ... OK
* checking package directory ... OK
* checking ‘build’ directory ... OK
* checking DESCRIPTION meta-information ... OK
* checking top-level files ... OK
* checking for left-over files ... OK
* checking index information ... OK
* checking package subdirectories ... OK
* checking code files for non-ASCII characters ... OK
* checking R files for syntax errors ... OK
* checking whether the package can be loaded ... OK
* checking whether the package can be loaded with stated dependencies ... OK
* checking whether the package can be unloaded cleanly ... OK
* checking whether the namespace can be loaded with stated dependencies ... OK
* checking whether the namespace can be unloaded cleanly ... OK
* checking dependencies in R code ... OK
* checking S3 generic/method consistency ... OK
* checking replacement functions ... OK
* checking foreign function calls ... OK
* checking R code for possible problems ... OK
* checking Rd files ... OK
* checking Rd metadata ... OK
* checking Rd cross-references ... NOTE
Non-topic package-anchored link(s) in Rd file 'reexports.Rd':
‘[magrittr:compound]{%<>%}’ ‘[magrittr:pipe]{%>%}’
‘[magrittr:aliases]{extract}’
See section 'Cross-references' in the 'Writing R Extensions' manual.
* checking for missing documentation entries ... OK
* checking for code/documentation mismatches ... OK
* checking Rd \usage sections ... OK
* checking Rd contents ... OK
* checking for unstated dependencies in examples ... OK
* checking files in ‘vignettes’ ... OK
* checking examples ... OK
Examples with CPU (user + system) or elapsed time > 5s
user system elapsed
write_xl 57.796 2.722 64.938
read_diann_proteingroups 35.803 0.931 38.503
awblinmod 13.511 0.089 15.148
read_rnaseq_counts 10.455 0.784 12.045
rm_diann_contaminants 7.784 0.224 8.501
LINMOD 7.681 0.091 8.489
default_formula 6.881 0.306 7.579
plot_exprs 7.008 0.050 7.771
plot_exprs_per_coef 5.777 0.027 6.413
* checking for unstated dependencies in ‘tests’ ... OK
* checking tests ...
Running ‘testthat.R’
OK
* checking for unstated dependencies in vignettes ... OK
* checking package vignettes ... OK
* checking running R code from vignettes ... SKIPPED
* checking re-building of vignette outputs ... SKIPPED
* checking PDF version of manual ... OK
* DONE
Status: 2 NOTEs
See
‘/Users/biocbuild/bbs-3.23-bioc/meat/autonomics.Rcheck/00check.log’
for details.
autonomics.Rcheck/00install.out
############################################################################## ############################################################################## ### ### Running command: ### ### /Library/Frameworks/R.framework/Resources/bin/R CMD INSTALL autonomics ### ############################################################################## ############################################################################## * installing to library ‘/Library/Frameworks/R.framework/Versions/4.6-arm64/Resources/library’ * installing *source* package ‘autonomics’ ... ** this is package ‘autonomics’ version ‘1.19.0’ ** using staged installation ** R ** inst ** byte-compile and prepare package for lazy loading Note: wrong number of arguments to 'seq_along' Note: wrong number of arguments to 'sqrt' ** help *** installing help indices ** building package indices ** installing vignettes ** testing if installed package can be loaded from temporary location ** testing if installed package can be loaded from final location ** testing if installed package keeps a record of temporary installation path * DONE (autonomics)
autonomics.Rcheck/tests/testthat.Rout
R Under development (unstable) (2025-11-04 r88984) -- "Unsuffered Consequences"
Copyright (C) 2025 The R Foundation for Statistical Computing
Platform: aarch64-apple-darwin20
R is free software and comes with ABSOLUTELY NO WARRANTY.
You are welcome to redistribute it under certain conditions.
Type 'license()' or 'licence()' for distribution details.
R is a collaborative project with many contributors.
Type 'contributors()' for more information and
'citation()' on how to cite R or R packages in publications.
Type 'demo()' for some demos, 'help()' for on-line help, or
'help.start()' for an HTML browser interface to help.
Type 'q()' to quit R.
> library(testthat)
> library(autonomics)
Attaching package: 'autonomics'
The following objects are masked from 'package:stats':
biplot, loadings
The following object is masked from 'package:base':
beta
>
> test_check("autonomics")
[ FAIL 0 | WARN 3 | SKIP 0 | PASS 158 ]
[ FAIL 0 | WARN 3 | SKIP 0 | PASS 158 ]
>
> proc.time()
user system elapsed
56.866 3.733 65.829
autonomics.Rcheck/autonomics-Ex.timings
| name | user | system | elapsed | |
| AUTONOMICS_DATASETS | 0.000 | 0.000 | 0.001 | |
| COMPOUNDDISCOVERER_PATTERNS | 0.000 | 0.000 | 0.001 | |
| LINMOD | 7.681 | 0.091 | 8.489 | |
| LINMODENGINES | 0 | 0 | 0 | |
| MAXQUANT_PATTERNS | 0.000 | 0.000 | 0.001 | |
| TAXON_TO_ORGNAME | 0 | 0 | 0 | |
| TESTS | 0 | 0 | 0 | |
| X | 0.381 | 0.017 | 0.459 | |
| abstract_fit | 0.322 | 0.027 | 0.415 | |
| add_adjusted_pvalues | 0.168 | 0.004 | 0.191 | |
| add_assay_means | 0.121 | 0.003 | 0.131 | |
| add_facetvars | 0.431 | 0.020 | 0.502 | |
| add_opentargets_by_uniprot | 0.133 | 0.002 | 0.161 | |
| add_psp | 0.164 | 0.004 | 0.189 | |
| add_smiles | 0.162 | 0.016 | 0.200 | |
| all_non_numeric | 0.177 | 0.000 | 0.186 | |
| analysis | 0.131 | 0.001 | 0.146 | |
| analyze | 4.311 | 0.059 | 4.691 | |
| annotate_maxquant | 0.338 | 0.023 | 0.377 | |
| annotate_uniprot_rest | 0.101 | 0.009 | 2.441 | |
| assert_is_valid_sumexp | 0.181 | 0.017 | 0.238 | |
| awblinmod | 13.511 | 0.089 | 15.148 | |
| biplot | 1.192 | 0.021 | 1.308 | |
| biplot_corrections | 1.106 | 0.018 | 1.202 | |
| biplot_covariates | 2.231 | 0.020 | 2.387 | |
| block2limma | 0.001 | 0.001 | 0.001 | |
| block2lm | 0.001 | 0.000 | 0.001 | |
| block2lme | 0.001 | 0.000 | 0.001 | |
| block2lmer | 0.001 | 0.001 | 0.001 | |
| block_has_two_levels | 0.207 | 0.015 | 0.237 | |
| center | 0.603 | 0.005 | 0.650 | |
| code | 1.526 | 0.018 | 1.602 | |
| collapsed_entrezg_to_symbol | 0.359 | 0.022 | 0.387 | |
| contrast_subgroup_cols | 0.206 | 0.017 | 0.235 | |
| contrastdt | 0.197 | 0.001 | 0.203 | |
| count_in | 0.000 | 0.001 | 0.001 | |
| counts | 0.105 | 0.000 | 0.109 | |
| counts2cpm | 0.107 | 0.000 | 0.120 | |
| counts2tpm | 0.089 | 0.000 | 0.099 | |
| cpm | 0.110 | 0.001 | 0.115 | |
| create_design | 0.225 | 0.016 | 0.257 | |
| default_formula | 6.881 | 0.306 | 7.579 | |
| default_geom | 0.160 | 0.016 | 0.254 | |
| default_sfile | 0.001 | 0.000 | 0.000 | |
| demultiplex | 0.004 | 0.000 | 0.007 | |
| densities | 0.077 | 0.007 | 0.093 | |
| dequantify | 0.000 | 0.000 | 0.001 | |
| dequantify_compounddiscoverer | 0 | 0 | 0 | |
| dot-coxph | 0.144 | 0.021 | 0.181 | |
| dot-merge | 0.008 | 0.000 | 0.009 | |
| dot-read_maxquant_proteingroups | 0.046 | 0.002 | 0.058 | |
| download_data | 0 | 0 | 0 | |
| download_gtf | 0 | 0 | 0 | |
| download_mcclain21 | 0.000 | 0.001 | 0.000 | |
| dt2mat | 0.001 | 0.000 | 0.002 | |
| enrichment | 0.362 | 0.011 | 0.385 | |
| entrezg_to_symbol | 0.052 | 0.004 | 0.057 | |
| explore-transforms | 3.050 | 0.025 | 3.250 | |
| extract_contrast_features | 1.383 | 0.025 | 1.502 | |
| extract_rectangle | 0.045 | 0.015 | 0.062 | |
| factor.vars | 0.053 | 0.001 | 0.055 | |
| factorize | 0.246 | 0.004 | 0.275 | |
| fcluster | 2.891 | 0.019 | 3.110 | |
| fcor | 0.487 | 0.013 | 0.530 | |
| fdata | 0.168 | 0.005 | 0.196 | |
| fdr2p | 0.307 | 0.017 | 0.365 | |
| filter_exprs_replicated_in_some_subgroup | 0.308 | 0.019 | 0.405 | |
| filter_features | 0.165 | 0.016 | 0.204 | |
| filter_medoid | 0.185 | 0.001 | 0.199 | |
| filter_samples | 0.165 | 0.016 | 0.213 | |
| fit_survival | 3.486 | 0.054 | 3.876 | |
| fits | 0.092 | 0.001 | 0.093 | |
| fix_xlgenes | 0.001 | 0.000 | 0.001 | |
| flevels | 0.123 | 0.002 | 0.139 | |
| fnames | 0.165 | 0.002 | 0.189 | |
| formula2str | 0 | 0 | 0 | |
| ftype | 2.601 | 0.120 | 3.276 | |
| fvalues | 0.127 | 0.002 | 0.133 | |
| fvars | 0.122 | 0.002 | 0.144 | |
| genome_to_orgdb | 0 | 0 | 0 | |
| group_by_level | 0.001 | 0.000 | 0.001 | |
| guess_compounddiscoverer_quantity | 0 | 0 | 0 | |
| guess_fitsep | 0.169 | 0.003 | 0.202 | |
| guess_maxquant_quantity | 0.002 | 0.000 | 0.002 | |
| guess_sep | 0.164 | 0.016 | 0.200 | |
| has_multiple_levels | 0.017 | 0.000 | 0.018 | |
| hdlproteins | 0.022 | 0.011 | 0.043 | |
| impute | 1.100 | 0.013 | 1.216 | |
| invert_subgroups | 0.213 | 0.003 | 0.231 | |
| is_character_matrix | 0.051 | 0.000 | 0.052 | |
| is_collapsed_subset | 0.000 | 0.000 | 0.001 | |
| is_compounddiscoverer_output | 0.028 | 0.011 | 0.083 | |
| is_correlation_matrix | 0.001 | 0.000 | 0.005 | |
| is_diann_report | 0.057 | 0.005 | 0.080 | |
| is_fastadt | 0.020 | 0.001 | 0.021 | |
| is_file | 0 | 0 | 0 | |
| is_fraction | 0.001 | 0.000 | 0.000 | |
| is_fragpipe_tsv | 0.050 | 0.007 | 0.066 | |
| is_imputed | 0.245 | 0.002 | 0.284 | |
| is_maxquant_phosphosites | 0.036 | 0.003 | 0.039 | |
| is_maxquant_proteingroups | 0.033 | 0.004 | 0.038 | |
| is_positive_number | 0.001 | 0.000 | 0.001 | |
| is_scalar_subset | 0.106 | 0.002 | 0.131 | |
| is_sig | 0.459 | 0.003 | 0.513 | |
| is_valid_formula | 0.014 | 0.001 | 0.014 | |
| keep_estimable_features | 0.241 | 0.017 | 0.338 | |
| label2index | 0.001 | 0.001 | 0.001 | |
| list2mat | 0 | 0 | 0 | |
| log2counts | 0.119 | 0.001 | 0.131 | |
| log2cpm | 0.101 | 0.001 | 0.105 | |
| log2diffs | 0.100 | 0.002 | 0.116 | |
| log2proteins | 0.098 | 0.003 | 0.101 | |
| log2sites | 0.097 | 0.002 | 0.099 | |
| log2tpm | 0.121 | 0.000 | 0.133 | |
| log2transform | 1.632 | 0.014 | 1.760 | |
| logical2factor | 0.000 | 0.000 | 0.001 | |
| make_alpha_palette | 0.190 | 0.015 | 0.265 | |
| make_colors | 0.005 | 0.001 | 0.006 | |
| make_volcano_dt | 0.249 | 0.002 | 0.270 | |
| map_fvalues | 0.188 | 0.009 | 0.222 | |
| matrix2sumexp | 0.324 | 0.016 | 0.387 | |
| mclust_breaks | 0.238 | 0.023 | 0.289 | |
| merge_sample_file | 0.168 | 0.003 | 0.180 | |
| merge_sdata | 0.174 | 0.018 | 0.225 | |
| message_df | 0.000 | 0.000 | 0.001 | |
| model_coefs | 0.283 | 0.017 | 0.346 | |
| modelvar | 1.060 | 0.020 | 1.204 | |
| object1 | 0.223 | 0.005 | 0.246 | |
| order_on_p | 0.436 | 0.019 | 0.536 | |
| overall_parameters | 0.010 | 0.000 | 0.011 | |
| pca | 1.074 | 0.023 | 1.185 | |
| pg_to_canonical | 0.002 | 0.000 | 0.002 | |
| plot_coef_densities | 0.442 | 0.019 | 0.523 | |
| plot_contrast_venn | 0.769 | 0.022 | 0.958 | |
| plot_contrastogram | 1.047 | 0.053 | 1.265 | |
| plot_data | 0.551 | 0.025 | 0.692 | |
| plot_densities | 3.548 | 0.111 | 4.011 | |
| plot_design | 0.244 | 0.002 | 0.267 | |
| plot_detections | 2.524 | 0.013 | 2.767 | |
| plot_exprs | 7.008 | 0.050 | 7.771 | |
| plot_exprs_per_coef | 5.777 | 0.027 | 6.413 | |
| plot_fit_summary | 0.739 | 0.031 | 0.885 | |
| plot_heatmap | 0.626 | 0.006 | 0.700 | |
| plot_matrix | 0.169 | 0.017 | 0.216 | |
| plot_subgroup_points | 1.756 | 0.028 | 1.947 | |
| plot_summary | 3.967 | 0.034 | 4.364 | |
| plot_venn | 0.008 | 0.001 | 0.010 | |
| plot_venn_heatmap | 0.007 | 0.001 | 0.008 | |
| plot_violins | 1.566 | 0.048 | 1.723 | |
| plot_volcano | 4.110 | 0.033 | 4.552 | |
| plot_xy_density | 2.014 | 0.012 | 2.198 | |
| preprocess_rnaseq_counts | 0.100 | 0.001 | 0.107 | |
| pull_columns | 0.001 | 0.000 | 0.000 | |
| pvalues_estimable | 0.012 | 0.002 | 0.017 | |
| read_affymetrix | 0 | 0 | 0 | |
| read_diann_proteingroups | 35.803 | 0.931 | 38.503 | |
| read_fragpipe | 2.827 | 0.109 | 3.086 | |
| read_maxquant_phosphosites | 0.501 | 0.009 | 0.563 | |
| read_maxquant_proteingroups | 0.386 | 0.006 | 0.420 | |
| read_metabolon | 3.955 | 0.050 | 4.360 | |
| read_msigdt | 0.000 | 0.000 | 0.001 | |
| read_olink | 0.540 | 0.034 | 0.604 | |
| read_rectangles | 0.066 | 0.009 | 0.079 | |
| read_rnaseq_counts | 10.455 | 0.784 | 12.045 | |
| read_salmon | 0 | 0 | 0 | |
| read_somascan | 4.114 | 0.008 | 4.555 | |
| read_uniprotdt | 0.104 | 0.007 | 0.117 | |
| reset_fit | 1.435 | 0.027 | 1.597 | |
| rm_diann_contaminants | 7.784 | 0.224 | 8.501 | |
| rm_missing_in_some_samples | 0.165 | 0.016 | 0.251 | |
| rm_unmatched_samples | 0.198 | 0.002 | 0.220 | |
| sbind | 1.274 | 0.009 | 1.447 | |
| scaledlibsizes | 0.094 | 0.001 | 0.096 | |
| scoremat | 0.272 | 0.015 | 0.348 | |
| slevels | 0.127 | 0.002 | 0.135 | |
| snames | 0.148 | 0.002 | 0.155 | |
| split_extract_fixed | 0.152 | 0.017 | 0.185 | |
| split_samples | 0.374 | 0.014 | 0.433 | |
| stepauc | 0.102 | 0.000 | 0.103 | |
| stri_any_regex | 0 | 0 | 0 | |
| stri_detect_fixed_in_collapsed | 0.107 | 0.001 | 0.124 | |
| subgroup_matrix | 0.238 | 0.045 | 0.307 | |
| subtract_baseline | 1.555 | 0.027 | 1.718 | |
| sumexp_to_longdt | 0.593 | 0.029 | 0.705 | |
| sumexp_to_tsv | 0.181 | 0.002 | 0.196 | |
| sumexplist_to_longdt | 0.502 | 0.008 | 0.565 | |
| summarize_fit | 0.513 | 0.018 | 0.599 | |
| survobj | 0.041 | 0.000 | 0.044 | |
| svalues | 0.155 | 0.002 | 0.165 | |
| svars | 0.127 | 0.001 | 0.141 | |
| systematic_nas | 0.160 | 0.002 | 0.183 | |
| tag_features | 0.381 | 0.013 | 0.424 | |
| tag_hdlproteins | 0.214 | 0.012 | 0.227 | |
| taxon2org | 0.001 | 0.000 | 0.001 | |
| tpm | 0.118 | 0.001 | 0.119 | |
| uncollapse | 0.008 | 0.000 | 0.009 | |
| values | 0.185 | 0.003 | 0.188 | |
| varlevels_dont_clash | 0.011 | 0.000 | 0.010 | |
| venn_detects | 0.184 | 0.003 | 0.187 | |
| weights | 0.119 | 0.001 | 0.123 | |
| write_xl | 57.796 | 2.722 | 64.938 | |
| zero_to_na | 0.000 | 0.001 | 0.001 | |