| Back to Multiple platform build/check report for BioC 3.23: simplified long |
|
This page was generated on 2025-11-14 11:36 -0500 (Fri, 14 Nov 2025).
| Hostname | OS | Arch (*) | R version | Installed pkgs |
|---|---|---|---|---|
| nebbiolo1 | Linux (Ubuntu 24.04.3 LTS) | x86_64 | R Under development (unstable) (2025-10-20 r88955) -- "Unsuffered Consequences" | 4825 |
| kjohnson3 | macOS 13.7.7 Ventura | arm64 | R Under development (unstable) (2025-11-04 r88984) -- "Unsuffered Consequences" | 4547 |
| Click on any hostname to see more info about the system (e.g. compilers) (*) as reported by 'uname -p', except on Windows and Mac OS X | ||||
| Package 2037/2325 | Hostname | OS / Arch | INSTALL | BUILD | CHECK | BUILD BIN | ||||||||
| SpaNorm 1.5.0 (landing page) Dharmesh D. Bhuva
| nebbiolo1 | Linux (Ubuntu 24.04.3 LTS) / x86_64 | OK | OK | OK | |||||||||
| kjohnson3 | macOS 13.7.7 Ventura / arm64 | OK | OK | OK | OK | |||||||||
|
To the developers/maintainers of the SpaNorm package: - Allow up to 24 hours (and sometimes 48 hours) for your latest push to git@git.bioconductor.org:packages/SpaNorm.git to reflect on this report. See Troubleshooting Build Report for more information. - Use the following Renviron settings to reproduce errors and warnings. - If 'R CMD check' started to fail recently on the Linux builder(s) over a missing dependency, add the missing dependency to 'Suggests:' in your DESCRIPTION file. See Renviron.bioc for more information. |
| Package: SpaNorm |
| Version: 1.5.0 |
| Command: rm -rf SpaNorm.buildbin-libdir && mkdir SpaNorm.buildbin-libdir && /Users/biocbuild/BBS/utils/build-universal.sh SpaNorm_1.5.0.tar.gz /Library/Frameworks/R.framework/Resources/bin/R SpaNorm.buildbin-libdir |
| StartedAt: 2025-11-13 23:57:46 -0500 (Thu, 13 Nov 2025) |
| EndedAt: 2025-11-13 23:57:49 -0500 (Thu, 13 Nov 2025) |
| EllapsedTime: 3.1 seconds |
| RetCode: 0 |
| Status: OK |
| PackageFile: SpaNorm_1.5.0.tgz |
| PackageFileSize: 7.663 MiB |
############################################################################## ############################################################################## ### ### Running command: ### ### rm -rf SpaNorm.buildbin-libdir && mkdir SpaNorm.buildbin-libdir && /Users/biocbuild/BBS/utils/build-universal.sh SpaNorm_1.5.0.tar.gz /Library/Frameworks/R.framework/Resources/bin/R SpaNorm.buildbin-libdir ### ############################################################################## ############################################################################## >>>>>>> >>>>>>> INSTALLATION WITH 'R CMD INSTALL --preclean --no-multiarch --library=SpaNorm.buildbin-libdir SpaNorm_1.5.0.tar.gz' >>>>>>> * installing *source* package ‘SpaNorm’ ... ** this is package ‘SpaNorm’ version ‘1.5.0’ ** using staged installation ** R ** data ** inst ** byte-compile and prepare package for lazy loading in method for ‘fastSizeFactors’ with signature ‘"SpatialExperiment"’: no definition for class “SpatialExperiment” in method for ‘filterGenes’ with signature ‘"SpatialExperiment","ANY"’: no definition for class “SpatialExperiment” in method for ‘filterGenes’ with signature ‘"Seurat","ANY"’: no definition for class “Seurat” in method for ‘SpaNorm’ with signature ‘"SpatialExperiment"’: no definition for class “SpatialExperiment” ** help *** installing help indices ** building package indices ** installing vignettes ** testing if installed package can be loaded from temporary location ** testing if installed package can be loaded from final location ** testing if installed package keeps a record of temporary installation path * DONE (SpaNorm)