Back to Build/check report for BioC 3.23:   simplified   long
ABCDEFGHIJKLMNOPQR[S]TUVWXYZ

This page was generated on 2025-11-13 11:32 -0500 (Thu, 13 Nov 2025).

HostnameOSArch (*)R versionInstalled pkgs
kjohnson3macOS 13.7.7 Venturaarm64R Under development (unstable) (2025-11-04 r88984) -- "Unsuffered Consequences" 4013
Click on any hostname to see more info about the system (e.g. compilers)      (*) as reported by 'uname -p', except on Windows and Mac OS X

Package 2133/2325HostnameOS / ArchINSTALLBUILDCHECKBUILD BIN
SWATH2stats 1.41.0  (landing page)
Peter Blattmann
Snapshot Date: 2025-11-12 13:40 -0500 (Wed, 12 Nov 2025)
git_url: https://git.bioconductor.org/packages/SWATH2stats
git_branch: devel
git_last_commit: e8d705a
git_last_commit_date: 2025-10-29 10:28:13 -0500 (Wed, 29 Oct 2025)
kjohnson3macOS 13.7.7 Ventura / arm64  OK    OK    OK    OK  YES


CHECK results for SWATH2stats on kjohnson3

To the developers/maintainers of the SWATH2stats package:
- Allow up to 24 hours (and sometimes 48 hours) for your latest push to git@git.bioconductor.org:packages/SWATH2stats.git to reflect on this report. See Troubleshooting Build Report for more information.
- Use the following Renviron settings to reproduce errors and warnings.
- If 'R CMD check' started to fail recently on the Linux builder(s) over a missing dependency, add the missing dependency to 'Suggests:' in your DESCRIPTION file. See Renviron.bioc for more information.

raw results


Summary

Package: SWATH2stats
Version: 1.41.0
Command: /Library/Frameworks/R.framework/Resources/bin/R CMD check --install=check:SWATH2stats.install-out.txt --library=/Library/Frameworks/R.framework/Resources/library --no-vignettes --timings SWATH2stats_1.41.0.tar.gz
StartedAt: 2025-11-12 20:33:14 -0500 (Wed, 12 Nov 2025)
EndedAt: 2025-11-12 20:34:25 -0500 (Wed, 12 Nov 2025)
EllapsedTime: 70.9 seconds
RetCode: 0
Status:   OK  
CheckDir: SWATH2stats.Rcheck
Warnings: 0

Command output

##############################################################################
##############################################################################
###
### Running command:
###
###   /Library/Frameworks/R.framework/Resources/bin/R CMD check --install=check:SWATH2stats.install-out.txt --library=/Library/Frameworks/R.framework/Resources/library --no-vignettes --timings SWATH2stats_1.41.0.tar.gz
###
##############################################################################
##############################################################################


* using log directory ‘/Users/biocbuild/bbs-3.23-bioc/meat/SWATH2stats.Rcheck’
* using R Under development (unstable) (2025-11-04 r88984)
* using platform: aarch64-apple-darwin20
* R was compiled by
    Apple clang version 16.0.0 (clang-1600.0.26.6)
    GNU Fortran (GCC) 14.2.0
* running under: macOS Ventura 13.7.8
* using session charset: UTF-8
* using option ‘--no-vignettes’
* checking for file ‘SWATH2stats/DESCRIPTION’ ... OK
* checking extension type ... Package
* this is package ‘SWATH2stats’ version ‘1.41.0’
* package encoding: UTF-8
* checking package namespace information ... OK
* checking package dependencies ... INFO
Package which this enhances but not available for checking: ‘aLFQ’
* checking if this is a source package ... OK
* checking if there is a namespace ... OK
* checking for hidden files and directories ... OK
* checking for portable file names ... OK
* checking for sufficient/correct file permissions ... OK
* checking whether package ‘SWATH2stats’ can be installed ... OK
* checking installed package size ... OK
* checking package directory ... OK
* checking ‘build’ directory ... OK
* checking DESCRIPTION meta-information ... OK
* checking top-level files ... OK
* checking for left-over files ... OK
* checking index information ... OK
* checking package subdirectories ... OK
* checking code files for non-ASCII characters ... OK
* checking R files for syntax errors ... OK
* checking whether the package can be loaded ... OK
* checking whether the package can be loaded with stated dependencies ... OK
* checking whether the package can be unloaded cleanly ... OK
* checking whether the namespace can be loaded with stated dependencies ... OK
* checking whether the namespace can be unloaded cleanly ... OK
* checking dependencies in R code ... OK
* checking S3 generic/method consistency ... OK
* checking replacement functions ... OK
* checking foreign function calls ... OK
* checking R code for possible problems ... OK
* checking Rd files ... OK
* checking Rd metadata ... OK
* checking Rd cross-references ... OK
* checking for missing documentation entries ... OK
* checking for code/documentation mismatches ... OK
* checking Rd \usage sections ... OK
* checking Rd contents ... OK
* checking for unstated dependencies in examples ... OK
* checking contents of ‘data’ directory ... OK
* checking data for non-ASCII characters ... OK
* checking data for ASCII and uncompressed saves ... OK
* checking sizes of PDF files under ‘inst/doc’ ... OK
* checking files in ‘vignettes’ ... OK
* checking examples ... OK
* checking for unstated dependencies in ‘tests’ ... OK
* checking tests ...
  Running ‘test-all.R’
 OK
* checking for unstated dependencies in vignettes ... OK
* checking package vignettes ... OK
* checking running R code from vignettes ... SKIPPED
* checking re-building of vignette outputs ... SKIPPED
* checking PDF version of manual ... OK
* DONE

Status: OK


Installation output

SWATH2stats.Rcheck/00install.out

##############################################################################
##############################################################################
###
### Running command:
###
###   /Library/Frameworks/R.framework/Resources/bin/R CMD INSTALL SWATH2stats
###
##############################################################################
##############################################################################


* installing to library ‘/Library/Frameworks/R.framework/Versions/4.6-arm64/Resources/library’
* installing *source* package ‘SWATH2stats’ ...
** this is package ‘SWATH2stats’ version ‘1.41.0’
** using staged installation
** R
** data
** inst
** byte-compile and prepare package for lazy loading
** help
*** installing help indices
** building package indices
** installing vignettes
** testing if installed package can be loaded from temporary location
** testing if installed package can be loaded from final location
** testing if installed package keeps a record of temporary installation path
* DONE (SWATH2stats)

Tests output

SWATH2stats.Rcheck/tests/test-all.Rout


R Under development (unstable) (2025-11-04 r88984) -- "Unsuffered Consequences"
Copyright (C) 2025 The R Foundation for Statistical Computing
Platform: aarch64-apple-darwin20

R is free software and comes with ABSOLUTELY NO WARRANTY.
You are welcome to redistribute it under certain conditions.
Type 'license()' or 'licence()' for distribution details.

R is a collaborative project with many contributors.
Type 'contributors()' for more information and
'citation()' on how to cite R or R packages in publications.

Type 'demo()' for some demos, 'help()' for on-line help, or
'help.start()' for an HTML browser interface to help.
Type 'q()' to quit R.

> library(testthat)
> test_check("SWATH2stats")
Loading required package: SWATH2stats
[1] "peterb_J131223_054"
[1] "peterb_L150425_011_SW"
[1] "peterb_L150514_002_SW"
[ FAIL 0 | WARN 74 | SKIP 0 | PASS 113 ]

[ FAIL 0 | WARN 74 | SKIP 0 | PASS 113 ]
> 
> proc.time()
   user  system elapsed 
  5.428   0.315   9.289 

Example timings

SWATH2stats.Rcheck/SWATH2stats-Ex.timings

nameusersystemelapsed
JPP_update0.0550.0020.068
add_genesymbol0.0020.0000.003
assess_decoy_rate0.0440.0020.050
assess_fdr_byrun0.1300.0030.136
assess_fdr_overall0.2340.0030.246
convert4MSstats0.2840.0040.304
convert4PECA0.0640.0010.067
convert4aLFQ0.3010.0070.314
convert4mapDIA0.1360.0060.151
convert4pythonscript0.0530.0010.058
convert_protein_ids000
count_analytes0.0580.0030.067
disaggregate0.0810.0060.088
filter_all_peptides0.0500.0040.053
filter_mscore0.0670.0020.071
filter_mscore_condition0.0600.0020.091
filter_mscore_fdr0.1280.0160.147
filter_mscore_freqobs0.0620.0030.072
filter_on_max_peptides0.0600.0020.063
filter_on_min_peptides0.0610.0030.075
filter_proteotypic_peptides0.0490.0020.051
import_data0.2040.0060.219
load_mart0.4310.0563.761
mscore4assayfdr0.0980.0080.111
mscore4pepfdr0.1280.0110.152
mscore4protfdr0.0770.0030.090
plot.fdr_cube0.0680.0030.074
plot.fdr_table0.0590.0030.064
plot_correlation_between_samples0.2490.0110.277
plot_variation0.1920.0050.218
plot_variation_vs_total0.1760.0030.207
reduce_OpenSWATH_output0.0500.0010.057
removeDecoyProteins0.0500.0020.054
sample_annotation0.0650.0030.070
transform_MSstats_OpenSWATH0.0010.0000.002
unifyProteinGroupLabels0.0510.0020.062
validate_columns0.0000.0000.001
write_matrix_peptides0.0530.0010.054
write_matrix_proteins0.0590.0020.070