Back to Multiple platform build/check report for BioC 3.23:   simplified   long
ABCDEFGHIJKLMNOPQR[S]TUVWXYZ

This page was generated on 2025-11-14 11:36 -0500 (Fri, 14 Nov 2025).

HostnameOSArch (*)R versionInstalled pkgs
nebbiolo1Linux (Ubuntu 24.04.3 LTS)x86_64R Under development (unstable) (2025-10-20 r88955) -- "Unsuffered Consequences" 4825
kjohnson3macOS 13.7.7 Venturaarm64R Under development (unstable) (2025-11-04 r88984) -- "Unsuffered Consequences" 4547
Click on any hostname to see more info about the system (e.g. compilers)      (*) as reported by 'uname -p', except on Windows and Mac OS X

Package 2133/2325HostnameOS / ArchINSTALLBUILDCHECKBUILD BIN
SWATH2stats 1.41.0  (landing page)
Peter Blattmann
Snapshot Date: 2025-11-13 13:40 -0500 (Thu, 13 Nov 2025)
git_url: https://git.bioconductor.org/packages/SWATH2stats
git_branch: devel
git_last_commit: e8d705a
git_last_commit_date: 2025-10-29 10:28:13 -0500 (Wed, 29 Oct 2025)
nebbiolo1Linux (Ubuntu 24.04.3 LTS) / x86_64  OK    OK    ERROR  
kjohnson3macOS 13.7.7 Ventura / arm64  OK    OK    ERROR    OK  


CHECK results for SWATH2stats on nebbiolo1

To the developers/maintainers of the SWATH2stats package:
- Allow up to 24 hours (and sometimes 48 hours) for your latest push to git@git.bioconductor.org:packages/SWATH2stats.git to reflect on this report. See Troubleshooting Build Report for more information.
- Use the following Renviron settings to reproduce errors and warnings.
- If 'R CMD check' started to fail recently on the Linux builder(s) over a missing dependency, add the missing dependency to 'Suggests:' in your DESCRIPTION file. See Renviron.bioc for more information.

raw results


Summary

Package: SWATH2stats
Version: 1.41.0
Command: /home/biocbuild/bbs-3.23-bioc/R/bin/R CMD check --install=check:SWATH2stats.install-out.txt --library=/home/biocbuild/bbs-3.23-bioc/R/site-library --timings SWATH2stats_1.41.0.tar.gz
StartedAt: 2025-11-14 04:37:13 -0500 (Fri, 14 Nov 2025)
EndedAt: 2025-11-14 04:40:10 -0500 (Fri, 14 Nov 2025)
EllapsedTime: 177.2 seconds
RetCode: 1
Status:   ERROR  
CheckDir: SWATH2stats.Rcheck
Warnings: NA

Command output

##############################################################################
##############################################################################
###
### Running command:
###
###   /home/biocbuild/bbs-3.23-bioc/R/bin/R CMD check --install=check:SWATH2stats.install-out.txt --library=/home/biocbuild/bbs-3.23-bioc/R/site-library --timings SWATH2stats_1.41.0.tar.gz
###
##############################################################################
##############################################################################


* using log directory ‘/home/biocbuild/bbs-3.23-bioc/meat/SWATH2stats.Rcheck’
* using R Under development (unstable) (2025-10-20 r88955)
* using platform: x86_64-pc-linux-gnu
* R was compiled by
    gcc (Ubuntu 13.3.0-6ubuntu2~24.04) 13.3.0
    GNU Fortran (Ubuntu 13.3.0-6ubuntu2~24.04) 13.3.0
* running under: Ubuntu 24.04.3 LTS
* using session charset: UTF-8
* checking for file ‘SWATH2stats/DESCRIPTION’ ... OK
* checking extension type ... Package
* this is package ‘SWATH2stats’ version ‘1.41.0’
* package encoding: UTF-8
* checking package namespace information ... OK
* checking package dependencies ... INFO
Package which this enhances but not available for checking: ‘aLFQ’
* checking if this is a source package ... OK
* checking if there is a namespace ... OK
* checking for hidden files and directories ... OK
* checking for portable file names ... OK
* checking for sufficient/correct file permissions ... OK
* checking whether package ‘SWATH2stats’ can be installed ... OK
* checking installed package size ... OK
* checking package directory ... OK
* checking ‘build’ directory ... OK
* checking DESCRIPTION meta-information ... OK
* checking top-level files ... OK
* checking for left-over files ... OK
* checking index information ... OK
* checking package subdirectories ... OK
* checking code files for non-ASCII characters ... OK
* checking R files for syntax errors ... OK
* checking whether the package can be loaded ... OK
* checking whether the package can be loaded with stated dependencies ... OK
* checking whether the package can be unloaded cleanly ... OK
* checking whether the namespace can be loaded with stated dependencies ... OK
* checking whether the namespace can be unloaded cleanly ... OK
* checking loading without being on the library search path ... OK
* checking dependencies in R code ... OK
* checking S3 generic/method consistency ... OK
* checking replacement functions ... OK
* checking foreign function calls ... OK
* checking R code for possible problems ... OK
* checking Rd files ... OK
* checking Rd metadata ... OK
* checking Rd cross-references ... OK
* checking for missing documentation entries ... OK
* checking for code/documentation mismatches ... OK
* checking Rd \usage sections ... OK
* checking Rd contents ... OK
* checking for unstated dependencies in examples ... OK
* checking contents of ‘data’ directory ... OK
* checking data for non-ASCII characters ... OK
* checking data for ASCII and uncompressed saves ... OK
* checking sizes of PDF files under ‘inst/doc’ ...* checking files in ‘vignettes’ ... OK
* checking examples ... OK
* checking for unstated dependencies in ‘tests’ ... OK
* checking tests ...
  Running ‘test-all.R’
 ERROR
Running the tests in ‘tests/test-all.R’ failed.
Last 13 lines of output:
  [1] "peterb_L150425_011_SW"
  [1] "peterb_L150514_002_SW"
  [ FAIL 1 | WARN 65 | SKIP 0 | PASS 93 ]
  
  ══ Failed tests ════════════════════════════════════════════════════════════════
  ── Error ('test_convert.R:33:3'): data conversion ──────────────────────────────
  Error in `is_true()`: could not find function "is_true"
  Backtrace:
      ▆
   1. └─testthat::expect_that(...) at test_convert.R:33:3
  
  [ FAIL 1 | WARN 65 | SKIP 0 | PASS 93 ]
  Error:
  ! Test failures.
  Execution halted
* checking for unstated dependencies in vignettes ... OK
* checking package vignettes ... OK
* checking re-building of vignette outputs ... OK
* checking PDF version of manual ... OK
* DONE

Status: 1 ERROR
See
  ‘/home/biocbuild/bbs-3.23-bioc/meat/SWATH2stats.Rcheck/00check.log’
for details.


Installation output

SWATH2stats.Rcheck/00install.out

##############################################################################
##############################################################################
###
### Running command:
###
###   /home/biocbuild/bbs-3.23-bioc/R/bin/R CMD INSTALL SWATH2stats
###
##############################################################################
##############################################################################


* installing to library ‘/home/biocbuild/bbs-3.23-bioc/R/site-library’
* installing *source* package ‘SWATH2stats’ ...
** this is package ‘SWATH2stats’ version ‘1.41.0’
** using staged installation
** R
** data
** inst
** byte-compile and prepare package for lazy loading
** help
*** installing help indices
** building package indices
** installing vignettes
** testing if installed package can be loaded from temporary location
** testing if installed package can be loaded from final location
** testing if installed package keeps a record of temporary installation path
* DONE (SWATH2stats)

Tests output

SWATH2stats.Rcheck/tests/test-all.Rout.fail


R Under development (unstable) (2025-10-20 r88955) -- "Unsuffered Consequences"
Copyright (C) 2025 The R Foundation for Statistical Computing
Platform: x86_64-pc-linux-gnu

R is free software and comes with ABSOLUTELY NO WARRANTY.
You are welcome to redistribute it under certain conditions.
Type 'license()' or 'licence()' for distribution details.

R is a collaborative project with many contributors.
Type 'contributors()' for more information and
'citation()' on how to cite R or R packages in publications.

Type 'demo()' for some demos, 'help()' for on-line help, or
'help.start()' for an HTML browser interface to help.
Type 'q()' to quit R.

> library(testthat)
> test_check("SWATH2stats")
Loading required package: SWATH2stats
Saving _problems/test_convert-33.R
[1] "peterb_J131223_054"
[1] "peterb_L150425_011_SW"
[1] "peterb_L150514_002_SW"
[ FAIL 1 | WARN 65 | SKIP 0 | PASS 93 ]

══ Failed tests ════════════════════════════════════════════════════════════════
── Error ('test_convert.R:33:3'): data conversion ──────────────────────────────
Error in `is_true()`: could not find function "is_true"
Backtrace:
    ▆
 1. └─testthat::expect_that(...) at test_convert.R:33:3

[ FAIL 1 | WARN 65 | SKIP 0 | PASS 93 ]
Error:
! Test failures.
Execution halted

Example timings

SWATH2stats.Rcheck/SWATH2stats-Ex.timings

nameusersystemelapsed
JPP_update0.2260.0020.229
add_genesymbol0.0050.0010.005
assess_decoy_rate0.4660.0020.468
assess_fdr_byrun0.1530.0020.156
assess_fdr_overall0.1380.0080.146
convert4MSstats0.5960.0700.667
convert4PECA0.1460.0070.152
convert4aLFQ0.5730.0090.582
convert4mapDIA0.3130.0100.323
convert4pythonscript0.1090.0010.110
convert_protein_ids000
count_analytes0.1270.0000.126
disaggregate0.1860.0010.186
filter_all_peptides0.1230.0030.127
filter_mscore0.1580.0020.146
filter_mscore_condition0.1790.0190.182
filter_mscore_fdr0.3090.0110.319
filter_mscore_freqobs0.1540.0010.139
filter_on_max_peptides0.1740.0010.151
filter_on_min_peptides0.1700.0020.142
filter_proteotypic_peptides0.1280.0030.124
import_data0.4570.0170.473
load_mart1.2220.1534.877
mscore4assayfdr0.2920.0180.311
mscore4pepfdr0.2320.0000.232
mscore4protfdr0.1960.0020.197
plot.fdr_cube0.1290.0010.130
plot.fdr_table0.1330.0000.133
plot_correlation_between_samples1.0160.0361.052
plot_variation0.5110.0020.514
plot_variation_vs_total0.4590.0410.499
reduce_OpenSWATH_output0.1020.0020.104
removeDecoyProteins0.1070.0010.108
sample_annotation0.1310.0060.138
transform_MSstats_OpenSWATH0.0020.0010.003
unifyProteinGroupLabels0.1050.0030.107
validate_columns0.0000.0000.001
write_matrix_peptides0.1100.0000.111
write_matrix_proteins0.1090.0000.110