Back to Multiple platform build/check report for BioC 3.23:   simplified   long
ABCDEFGHIJKLMNOPQ[R]STUVWXYZ

This page was generated on 2025-11-15 11:34 -0500 (Sat, 15 Nov 2025).

HostnameOSArch (*)R versionInstalled pkgs
nebbiolo1Linux (Ubuntu 24.04.3 LTS)x86_64R Under development (unstable) (2025-10-20 r88955) -- "Unsuffered Consequences" 4826
kjohnson3macOS 13.7.7 Venturaarm64R Under development (unstable) (2025-11-04 r88984) -- "Unsuffered Consequences" 4561
Click on any hostname to see more info about the system (e.g. compilers)      (*) as reported by 'uname -p', except on Windows and Mac OS X

All results for package RaggedExperiment


To the developers/maintainers of the RaggedExperiment package:
- Allow up to 24 hours (and sometimes 48 hours) for your latest push to git@git.bioconductor.org:packages/RaggedExperiment.git to reflect on this report. See Troubleshooting Build Report for more information.
- Use the following Renviron settings to reproduce errors and warnings.
- If 'R CMD check' started to fail recently on the Linux builder(s) over a missing dependency, add the missing dependency to 'Suggests:' in your DESCRIPTION file. See Renviron.bioc for more information.

raw results

Package 1678/2325HostnameOS / ArchINSTALLBUILDCHECKBUILD BIN
RaggedExperiment 1.35.0  (landing page)
Marcel Ramos
Snapshot Date: 2025-11-14 13:40 -0500 (Fri, 14 Nov 2025)
git_url: https://git.bioconductor.org/packages/RaggedExperiment
git_branch: devel
git_last_commit: efd60e0
git_last_commit_date: 2025-10-29 10:37:59 -0500 (Wed, 29 Oct 2025)
nebbiolo1Linux (Ubuntu 24.04.3 LTS) / x86_64  OK    OK    OK  UNNEEDED, same version is already published
kjohnson3macOS 13.7.7 Ventura / arm64  OK    OK    OK    OK  NO, package depends on 'GenomicRanges' which is only available as a source package that needs compilation



Results for Bioconductor software packages that depend directly on package RaggedExperiment

QUICK STATSOS / ArchINSTALLBUILDCHECKBUILD BIN
nebbiolo1Linux (Ubuntu 24.04.3 LTS) / x86_64
006
015
0014
kjohnson3macOS 13.7.7 Ventura / arm64
006
015
0014
005
Package 1/6HostnameOS / ArchINSTALLBUILDCHECKBUILD BIN
cBioPortalData 2.23.2  (landing page)
Marcel Ramos
git_last_commit: 0773368
git_last_commit_date: 2025-11-07 13:23:07 -0500
nebbiolo1Linux (Ubuntu 24.04.3 LTS) / x86_64  OK    OK    OK  UNNEEDED, same version is already published
kjohnson3macOS 13.7.7 Ventura / arm64  OK    OK    OK    OK  NO, package depends on 'GenomicRanges' which is only available as a source package that needs compilation
Package 2/6HostnameOS / ArchINSTALLBUILDCHECKBUILD BIN
CNVRanger 1.27.0  (landing page)
Ludwig Geistlinger
git_last_commit: 16600ca
git_last_commit_date: 2025-10-29 10:49:57 -0500
nebbiolo1Linux (Ubuntu 24.04.3 LTS) / x86_64  OK    OK    OK  NO, package depends on 'GDSArray' which is not available
kjohnson3macOS 13.7.7 Ventura / arm64  OK    OK    OK    OK  NO, package depends on 'GenomicRanges' which is only available as a source package that needs compilation
Package 3/6HostnameOS / ArchINSTALLBUILDCHECKBUILD BIN
omicsPrint 1.31.0  (landing page)
Davy Cats
git_last_commit: a7fe1fa
git_last_commit_date: 2025-10-29 10:42:25 -0500
nebbiolo1Linux (Ubuntu 24.04.3 LTS) / x86_64  OK    OK    WARNINGS  UNNEEDED, same version is already published
kjohnson3macOS 13.7.7 Ventura / arm64  OK    OK    WARNINGS    OK  UNNEEDED, same version is already published
Package 4/6HostnameOS / ArchINSTALLBUILDCHECKBUILD BIN
RTCGAToolbox 2.41.0  (landing page)
Marcel Ramos
git_last_commit: d55f300
git_last_commit_date: 2025-10-29 10:26:09 -0500
nebbiolo1Linux (Ubuntu 24.04.3 LTS) / x86_64  OK    OK    OK  UNNEEDED, same version is already published
kjohnson3macOS 13.7.7 Ventura / arm64  OK    OK    OK    OK  NO, package depends on 'GenomicRanges' which is only available as a source package that needs compilation
Package 5/6HostnameOS / ArchINSTALLBUILDCHECKBUILD BIN
TCGAutils 1.31.3  (landing page)
Marcel Ramos
git_last_commit: c19b260
git_last_commit_date: 2025-11-11 17:30:56 -0500
nebbiolo1Linux (Ubuntu 24.04.3 LTS) / x86_64  OK    OK    OK  UNNEEDED, same version is already published
kjohnson3macOS 13.7.7 Ventura / arm64  OK    OK    OK    OK  NO, package depends on 'GenomicRanges' which is only available as a source package that needs compilation
Package 6/6HostnameOS / ArchINSTALLBUILDCHECKBUILD BIN
terraTCGAdata 1.15.1  (landing page)
Marcel Ramos
git_last_commit: 0a9bb05
git_last_commit_date: 2025-11-10 14:12:00 -0500
nebbiolo1Linux (Ubuntu 24.04.3 LTS) / x86_64  OK    ERROR  skipped
kjohnson3macOS 13.7.7 Ventura / arm64  OK    ERROR  skippedskipped