Back to Build/check report for BioC 3.23:   simplified   long
ABCDEFGHIJKLMNO[P]QRSTUVWXYZ

This page was generated on 2025-11-12 11:32 -0500 (Wed, 12 Nov 2025).

HostnameOSArch (*)R versionInstalled pkgs
nebbiolo1Linux (Ubuntu 24.04.3 LTS)x86_64R Under development (unstable) (2025-10-20 r88955) -- "Unsuffered Consequences" 4823
Click on any hostname to see more info about the system (e.g. compilers)      (*) as reported by 'uname -p', except on Windows and Mac OS X

Package 1574/2325HostnameOS / ArchINSTALLBUILDCHECKBUILD BIN
PhyloProfile 2.3.1  (landing page)
Vinh Tran
Snapshot Date: 2025-11-11 13:40 -0500 (Tue, 11 Nov 2025)
git_url: https://git.bioconductor.org/packages/PhyloProfile
git_branch: devel
git_last_commit: afcd9c4
git_last_commit_date: 2025-11-03 17:28:53 -0500 (Mon, 03 Nov 2025)
nebbiolo1Linux (Ubuntu 24.04.3 LTS) / x86_64  OK    OK    OK  UNNEEDED, same version is already published


CHECK results for PhyloProfile on nebbiolo1

To the developers/maintainers of the PhyloProfile package:
- Allow up to 24 hours (and sometimes 48 hours) for your latest push to git@git.bioconductor.org:packages/PhyloProfile.git to reflect on this report. See Troubleshooting Build Report for more information.
- Use the following Renviron settings to reproduce errors and warnings.
- If 'R CMD check' started to fail recently on the Linux builder(s) over a missing dependency, add the missing dependency to 'Suggests:' in your DESCRIPTION file. See Renviron.bioc for more information.

raw results


Summary

Package: PhyloProfile
Version: 2.3.1
Command: /home/biocbuild/bbs-3.23-bioc/R/bin/R CMD check --install=check:PhyloProfile.install-out.txt --library=/home/biocbuild/bbs-3.23-bioc/R/site-library --timings PhyloProfile_2.3.1.tar.gz
StartedAt: 2025-11-12 02:34:25 -0500 (Wed, 12 Nov 2025)
EndedAt: 2025-11-12 02:37:37 -0500 (Wed, 12 Nov 2025)
EllapsedTime: 191.3 seconds
RetCode: 0
Status:   OK  
CheckDir: PhyloProfile.Rcheck
Warnings: 0

Command output

##############################################################################
##############################################################################
###
### Running command:
###
###   /home/biocbuild/bbs-3.23-bioc/R/bin/R CMD check --install=check:PhyloProfile.install-out.txt --library=/home/biocbuild/bbs-3.23-bioc/R/site-library --timings PhyloProfile_2.3.1.tar.gz
###
##############################################################################
##############################################################################


* using log directory ‘/home/biocbuild/bbs-3.23-bioc/meat/PhyloProfile.Rcheck’
* using R Under development (unstable) (2025-10-20 r88955)
* using platform: x86_64-pc-linux-gnu
* R was compiled by
    gcc (Ubuntu 13.3.0-6ubuntu2~24.04) 13.3.0
    GNU Fortran (Ubuntu 13.3.0-6ubuntu2~24.04) 13.3.0
* running under: Ubuntu 24.04.3 LTS
* using session charset: UTF-8
* checking for file ‘PhyloProfile/DESCRIPTION’ ... OK
* this is package ‘PhyloProfile’ version ‘2.3.1’
* package encoding: UTF-8
* checking package namespace information ... OK
* checking package dependencies ... INFO
Imports includes 31 non-default packages.
Importing from so many packages makes the package vulnerable to any of
them becoming unavailable.  Move as many as possible to Suggests and
use conditionally.
* checking if this is a source package ... OK
* checking if there is a namespace ... OK
* checking for hidden files and directories ... OK
* checking for portable file names ... OK
* checking for sufficient/correct file permissions ... OK
* checking whether package ‘PhyloProfile’ can be installed ... OK
* checking installed package size ... OK
* checking package directory ... OK
* checking ‘build’ directory ... OK
* checking DESCRIPTION meta-information ... OK
* checking top-level files ... OK
* checking for left-over files ... OK
* checking index information ... OK
* checking package subdirectories ... OK
* checking code files for non-ASCII characters ... OK
* checking R files for syntax errors ... OK
* checking whether the package can be loaded ... OK
* checking whether the package can be loaded with stated dependencies ... OK
* checking whether the package can be unloaded cleanly ... OK
* checking whether the namespace can be loaded with stated dependencies ... OK
* checking whether the namespace can be unloaded cleanly ... OK
* checking loading without being on the library search path ... OK
* checking dependencies in R code ... OK
* checking S3 generic/method consistency ... OK
* checking replacement functions ... OK
* checking foreign function calls ... OK
* checking R code for possible problems ... OK
* checking Rd files ... OK
* checking Rd metadata ... OK
* checking Rd cross-references ... OK
* checking for missing documentation entries ... OK
* checking for code/documentation mismatches ... OK
* checking Rd \usage sections ... OK
* checking Rd contents ... OK
* checking for unstated dependencies in examples ... OK
* checking contents of ‘data’ directory ... OK
* checking data for non-ASCII characters ... OK
* checking data for ASCII and uncompressed saves ... OK
* checking files in ‘vignettes’ ... OK
* checking examples ... OK
Examples with CPU (user + system) or elapsed time > 5s
                     user system elapsed
heatmapPlottingFast 4.772  0.418   4.857
* checking for unstated dependencies in ‘tests’ ... OK
* checking tests ...
  Running ‘testthat.R’
 OK
* checking for unstated dependencies in vignettes ... OK
* checking package vignettes ... OK
* checking re-building of vignette outputs ... OK
* checking PDF version of manual ... OK
* DONE

Status: OK


Installation output

PhyloProfile.Rcheck/00install.out

##############################################################################
##############################################################################
###
### Running command:
###
###   /home/biocbuild/bbs-3.23-bioc/R/bin/R CMD INSTALL PhyloProfile
###
##############################################################################
##############################################################################


* installing to library ‘/home/biocbuild/bbs-3.23-bioc/R/site-library’
* installing *source* package ‘PhyloProfile’ ...
** this is package ‘PhyloProfile’ version ‘2.3.1’
** using staged installation
** R
** data
** inst
** byte-compile and prepare package for lazy loading
** help
*** installing help indices
** building package indices
** installing vignettes
** testing if installed package can be loaded from temporary location
** testing if installed package can be loaded from final location
** testing if installed package keeps a record of temporary installation path
* DONE (PhyloProfile)

Tests output

PhyloProfile.Rcheck/tests/testthat.Rout


R Under development (unstable) (2025-10-20 r88955) -- "Unsuffered Consequences"
Copyright (C) 2025 The R Foundation for Statistical Computing
Platform: x86_64-pc-linux-gnu

R is free software and comes with ABSOLUTELY NO WARRANTY.
You are welcome to redistribute it under certain conditions.
Type 'license()' or 'licence()' for distribution details.

R is a collaborative project with many contributors.
Type 'contributors()' for more information and
'citation()' on how to cite R or R packages in publications.

Type 'demo()' for some demos, 'help()' for on-line help, or
'help.start()' for an HTML browser interface to help.
Type 'q()' to quit R.

> library(testthat)
> library(PhyloProfile)
> 
> test_check("PhyloProfile")
[ FAIL 0 | WARN 0 | SKIP 0 | PASS 22 ]
> 
> proc.time()
   user  system elapsed 
  7.457   0.455   7.902 

Example timings

PhyloProfile.Rcheck/PhyloProfile-Ex.timings

nameusersystemelapsed
addDimRedTaxaColors0.7400.0310.771
addFeatureColors0.0290.0050.034
addRankDivisionPlot0.9880.0701.058
calcPresSpec0.0320.0020.034
checkColorPalette0.0000.0000.001
checkInputValidity0.0040.0000.004
checkNewick0.0020.0010.002
checkOmaID000
checkOverlapDomains0.0140.0000.014
clusterDataDend0.0150.0020.016
compareMedianTaxonGroups0.0210.0020.024
compareTaxonGroups0.5420.1420.685
createArchiPlot2.0610.0622.123
createDimRedPlotData0.5690.0240.594
createGeneAgePlot0.3170.0060.323
createLongMatrix0.0110.0080.018
createPercentageDistributionData0.0710.0040.076
createProfileFromOma000
createUnrootedTree0.0120.0010.013
createVarDistPlot0.2520.0040.257
createVariableDistributionData0.0060.0030.009
createVariableDistributionDataSubset0.0080.0000.007
dataCustomizedPlot0.0310.0000.031
dataFeatureTaxGroup0.0130.0000.013
dataMainPlot0.0370.0090.045
dataVarDistTaxGroup0.0040.0030.007
dimReduction0.5990.0120.612
estimateGeneAge0.1100.0060.117
fastaParser0.0300.0010.031
featureDistTaxPlot0.3120.0020.314
filterProfileData0.0980.0230.121
fromInputToProfile0.1520.0050.158
geneAgePlotDf0.0070.0000.008
generateSinglePlot0.4410.0050.446
getAllDomainsOma000
getAllFastaOma0.0000.0010.000
getCommonAncestor0.0250.0040.031
getCoreGene0.0760.0050.082
getDataClustering0.0130.0020.015
getDataForOneOma0.0000.0010.000
getDendrogram0.0400.0020.042
getDistanceMatrix0.0150.0010.016
getDomainFolder0.0010.0000.001
getFastaFromFasInput0.0130.0010.014
getFastaFromFile0.0080.0010.009
getFastaFromFolder0.0070.0000.007
getIDsRank0.0180.0010.020
getInputTaxaID0.0020.0010.003
getInputTaxaName0.0090.0010.009
getNameList0.0130.0220.035
getOmaDataForOneOrtholog000
getOmaDomainFromURL0.0010.0000.000
getOmaMembers0.0000.0010.000
getQualColForVector000
getSelectedFastaOma0.0000.0000.001
getSelectedTaxonNames0.0150.0010.016
getTaxHierarchy0.0110.0030.014
getTaxonomyInfo0.0110.0010.012
getTaxonomyMatrix0.0700.0850.155
getTaxonomyRanks0.0000.0010.000
gridArrangeSharedLegend0.0000.0010.000
groupLabelDimRedData0.0560.0050.062
heatmapPlotting0.3920.0010.392
heatmapPlottingFast4.7720.4184.857
highlightProfilePlot0.4600.0110.471
id2name0.0040.0000.004
joinPlotMergeLegends0.6850.0010.687
linearizeArchitecture0.0080.0000.008
mainTaxonomyRank0.0000.0000.001
modifyFeatureName0.0100.0170.027
pairDomainPlotting0.5220.0110.533
parseDomainInput0.0110.0150.027
parseInfoProfile0.0970.0140.110
plotDimRed0.9680.0170.984
plotDimRed3D0.8310.0110.843
prepareDimRedData0.0460.0060.052
processNcbiTaxonomy0.0000.0000.001
processOrthoID0.1370.0280.181
qualitativeColours0.0000.0000.001
rankIndexing0.0380.0020.041
reduceProfile0.0440.0000.045
resolveOverlapFeatures0.0140.0010.015
runPhyloProfile0.0790.0160.096
singleDomainPlotting0.2920.0260.319
sortDomains0.0060.0030.008
sortDomainsByList0.0100.0000.009
sortInputTaxa0.0250.0050.029
sortTaxaFromTree0.0080.0040.012
taxonomyTableCreator0.0840.0080.092
varDistTaxPlot1.2250.0101.235
wideToLong0.0100.0080.018
xmlParser0.0160.0030.019