Back to Build/check report for BioC 3.23:   simplified   long
ABCDEFGHIJKLMNO[P]QRSTUVWXYZ

This page was generated on 2025-11-13 11:32 -0500 (Thu, 13 Nov 2025).

HostnameOSArch (*)R versionInstalled pkgs
kjohnson3macOS 13.7.7 Venturaarm64R Under development (unstable) (2025-11-04 r88984) -- "Unsuffered Consequences" 4013
Click on any hostname to see more info about the system (e.g. compilers)      (*) as reported by 'uname -p', except on Windows and Mac OS X

Package 1574/2325HostnameOS / ArchINSTALLBUILDCHECKBUILD BIN
PhyloProfile 2.3.1  (landing page)
Vinh Tran
Snapshot Date: 2025-11-12 13:40 -0500 (Wed, 12 Nov 2025)
git_url: https://git.bioconductor.org/packages/PhyloProfile
git_branch: devel
git_last_commit: afcd9c4
git_last_commit_date: 2025-11-03 17:28:53 -0500 (Mon, 03 Nov 2025)
kjohnson3macOS 13.7.7 Ventura / arm64  OK    OK    OK    OK  YES


CHECK results for PhyloProfile on kjohnson3

To the developers/maintainers of the PhyloProfile package:
- Allow up to 24 hours (and sometimes 48 hours) for your latest push to git@git.bioconductor.org:packages/PhyloProfile.git to reflect on this report. See Troubleshooting Build Report for more information.
- Use the following Renviron settings to reproduce errors and warnings.
- If 'R CMD check' started to fail recently on the Linux builder(s) over a missing dependency, add the missing dependency to 'Suggests:' in your DESCRIPTION file. See Renviron.bioc for more information.

raw results


Summary

Package: PhyloProfile
Version: 2.3.1
Command: /Library/Frameworks/R.framework/Resources/bin/R CMD check --install=check:PhyloProfile.install-out.txt --library=/Library/Frameworks/R.framework/Resources/library --no-vignettes --timings PhyloProfile_2.3.1.tar.gz
StartedAt: 2025-11-12 19:53:08 -0500 (Wed, 12 Nov 2025)
EndedAt: 2025-11-12 19:54:29 -0500 (Wed, 12 Nov 2025)
EllapsedTime: 80.9 seconds
RetCode: 0
Status:   OK  
CheckDir: PhyloProfile.Rcheck
Warnings: 0

Command output

##############################################################################
##############################################################################
###
### Running command:
###
###   /Library/Frameworks/R.framework/Resources/bin/R CMD check --install=check:PhyloProfile.install-out.txt --library=/Library/Frameworks/R.framework/Resources/library --no-vignettes --timings PhyloProfile_2.3.1.tar.gz
###
##############################################################################
##############################################################################


* using log directory ‘/Users/biocbuild/bbs-3.23-bioc/meat/PhyloProfile.Rcheck’
* using R Under development (unstable) (2025-11-04 r88984)
* using platform: aarch64-apple-darwin20
* R was compiled by
    Apple clang version 16.0.0 (clang-1600.0.26.6)
    GNU Fortran (GCC) 14.2.0
* running under: macOS Ventura 13.7.8
* using session charset: UTF-8
* using option ‘--no-vignettes’
* checking for file ‘PhyloProfile/DESCRIPTION’ ... OK
* this is package ‘PhyloProfile’ version ‘2.3.1’
* package encoding: UTF-8
* checking package namespace information ... OK
* checking package dependencies ... INFO
Imports includes 31 non-default packages.
Importing from so many packages makes the package vulnerable to any of
them becoming unavailable.  Move as many as possible to Suggests and
use conditionally.
* checking if this is a source package ... OK
* checking if there is a namespace ... OK
* checking for hidden files and directories ... OK
* checking for portable file names ... OK
* checking for sufficient/correct file permissions ... OK
* checking whether package ‘PhyloProfile’ can be installed ... OK
* checking installed package size ... OK
* checking package directory ... OK
* checking ‘build’ directory ... OK
* checking DESCRIPTION meta-information ... OK
* checking top-level files ... OK
* checking for left-over files ... OK
* checking index information ... OK
* checking package subdirectories ... OK
* checking code files for non-ASCII characters ... OK
* checking R files for syntax errors ... OK
* checking whether the package can be loaded ... OK
* checking whether the package can be loaded with stated dependencies ... OK
* checking whether the package can be unloaded cleanly ... OK
* checking whether the namespace can be loaded with stated dependencies ... OK
* checking whether the namespace can be unloaded cleanly ... OK
* checking dependencies in R code ... OK
* checking S3 generic/method consistency ... OK
* checking replacement functions ... OK
* checking foreign function calls ... OK
* checking R code for possible problems ... OK
* checking Rd files ... OK
* checking Rd metadata ... OK
* checking Rd cross-references ... OK
* checking for missing documentation entries ... OK
* checking for code/documentation mismatches ... OK
* checking Rd \usage sections ... OK
* checking Rd contents ... OK
* checking for unstated dependencies in examples ... OK
* checking contents of ‘data’ directory ... OK
* checking data for non-ASCII characters ... OK
* checking data for ASCII and uncompressed saves ... OK
* checking files in ‘vignettes’ ... OK
* checking examples ... OK
* checking for unstated dependencies in ‘tests’ ... OK
* checking tests ...
  Running ‘testthat.R’
 OK
* checking for unstated dependencies in vignettes ... OK
* checking package vignettes ... OK
* checking running R code from vignettes ... SKIPPED
* checking re-building of vignette outputs ... SKIPPED
* checking PDF version of manual ... OK
* DONE

Status: OK


Installation output

PhyloProfile.Rcheck/00install.out

##############################################################################
##############################################################################
###
### Running command:
###
###   /Library/Frameworks/R.framework/Resources/bin/R CMD INSTALL PhyloProfile
###
##############################################################################
##############################################################################


* installing to library ‘/Library/Frameworks/R.framework/Versions/4.6-arm64/Resources/library’
* installing *source* package ‘PhyloProfile’ ...
** this is package ‘PhyloProfile’ version ‘2.3.1’
** using staged installation
** R
** data
** inst
** byte-compile and prepare package for lazy loading
** help
*** installing help indices
** building package indices
** installing vignettes
** testing if installed package can be loaded from temporary location
** testing if installed package can be loaded from final location
** testing if installed package keeps a record of temporary installation path
* DONE (PhyloProfile)

Tests output

PhyloProfile.Rcheck/tests/testthat.Rout


R Under development (unstable) (2025-11-04 r88984) -- "Unsuffered Consequences"
Copyright (C) 2025 The R Foundation for Statistical Computing
Platform: aarch64-apple-darwin20

R is free software and comes with ABSOLUTELY NO WARRANTY.
You are welcome to redistribute it under certain conditions.
Type 'license()' or 'licence()' for distribution details.

R is a collaborative project with many contributors.
Type 'contributors()' for more information and
'citation()' on how to cite R or R packages in publications.

Type 'demo()' for some demos, 'help()' for on-line help, or
'help.start()' for an HTML browser interface to help.
Type 'q()' to quit R.

> library(testthat)
> library(PhyloProfile)
> 
> test_check("PhyloProfile")
[ FAIL 0 | WARN 0 | SKIP 0 | PASS 22 ]
> 
> proc.time()
   user  system elapsed 
  3.098   0.197   3.450 

Example timings

PhyloProfile.Rcheck/PhyloProfile-Ex.timings

nameusersystemelapsed
addDimRedTaxaColors0.3460.0080.359
addFeatureColors0.0110.0010.012
addRankDivisionPlot0.3630.0120.391
calcPresSpec0.0140.0010.015
checkColorPalette000
checkInputValidity0.0020.0000.001
checkNewick0.0010.0000.001
checkOmaID000
checkOverlapDomains0.0050.0000.005
clusterDataDend0.0050.0010.006
compareMedianTaxonGroups0.0080.0010.009
compareTaxonGroups0.0100.0010.012
createArchiPlot0.9100.0140.948
createDimRedPlotData0.2910.0070.298
createGeneAgePlot0.1110.0010.112
createLongMatrix0.0090.0040.013
createPercentageDistributionData0.0260.0050.031
createProfileFromOma000
createUnrootedTree0.0050.0010.005
createVarDistPlot0.0870.0010.089
createVariableDistributionData0.0030.0020.004
createVariableDistributionDataSubset0.0020.0000.003
dataCustomizedPlot0.0100.0010.011
dataFeatureTaxGroup0.0040.0010.005
dataMainPlot0.0130.0040.017
dataVarDistTaxGroup0.0020.0000.002
dimReduction0.2940.0030.308
estimateGeneAge0.0460.0090.055
fastaParser0.0150.0010.016
featureDistTaxPlot0.1480.0030.151
filterProfileData0.0510.0330.086
fromInputToProfile0.0630.0060.076
geneAgePlotDf0.0020.0000.003
generateSinglePlot0.1560.0020.160
getAllDomainsOma000
getAllFastaOma000
getCommonAncestor0.0110.0020.013
getCoreGene0.0340.0040.037
getDataClustering0.0050.0020.008
getDataForOneOma000
getDendrogram0.0150.0010.016
getDistanceMatrix0.0050.0000.006
getDomainFolder000
getFastaFromFasInput0.0050.0000.006
getFastaFromFile0.0030.0010.004
getFastaFromFolder0.0020.0010.002
getIDsRank0.0060.0020.007
getInputTaxaID0.0010.0010.002
getInputTaxaName0.0040.0020.006
getNameList0.0070.0220.034
getOmaDataForOneOrtholog000
getOmaDomainFromURL0.0000.0000.001
getOmaMembers000
getQualColForVector0.0000.0000.001
getSelectedFastaOma000
getSelectedTaxonNames0.0060.0030.009
getTaxHierarchy0.0040.0010.005
getTaxonomyInfo0.0040.0020.005
getTaxonomyMatrix0.0320.1050.151
getTaxonomyRanks0.0000.0000.001
gridArrangeSharedLegend0.0000.0010.001
groupLabelDimRedData0.0250.0060.033
heatmapPlotting0.1380.0020.153
heatmapPlottingFast2.1900.0422.153
highlightProfilePlot0.1700.0070.186
id2name0.0020.0010.002
joinPlotMergeLegends0.2360.0010.246
linearizeArchitecture0.0030.0000.003
mainTaxonomyRank000
modifyFeatureName0.0060.0090.014
pairDomainPlotting0.1750.0010.199
parseDomainInput0.0060.0040.010
parseInfoProfile0.0400.0040.048
plotDimRed0.4100.0060.445
plotDimRed3D0.3990.0130.415
prepareDimRedData0.0170.0020.018
processNcbiTaxonomy000
processOrthoID0.0520.0270.106
qualitativeColours000
rankIndexing0.0180.0000.019
reduceProfile0.0130.0000.014
resolveOverlapFeatures0.0050.0010.006
runPhyloProfile0.0300.0180.050
singleDomainPlotting0.1050.0030.109
sortDomains0.0030.0000.003
sortDomainsByList0.0030.0000.003
sortInputTaxa0.0090.0030.012
sortTaxaFromTree0.0040.0000.003
taxonomyTableCreator0.0320.0020.034
varDistTaxPlot0.4000.0040.437
wideToLong0.0040.0030.007
xmlParser0.0060.0010.012