Back to Multiple platform build/check report for BioC 3.23:   simplified   long
ABCDEFGHIJKLMN[O]PQRSTUVWXYZ

This page was generated on 2025-11-28 11:37 -0500 (Fri, 28 Nov 2025).

HostnameOSArch (*)R versionInstalled pkgs
nebbiolo1Linux (Ubuntu 24.04.3 LTS)x86_64R Under development (unstable) (2025-10-20 r88955) -- "Unsuffered Consequences" 4866
lconwaymacOS 12.7.6 Montereyx86_64R Under development (unstable) (2025-10-21 r88958) -- "Unsuffered Consequences" 4614
kjohnson3macOS 13.7.7 Venturaarm64R Under development (unstable) (2025-11-04 r88984) -- "Unsuffered Consequences" 4571
Click on any hostname to see more info about the system (e.g. compilers)      (*) as reported by 'uname -p', except on Windows and Mac OS X

Package 1488/2328HostnameOS / ArchINSTALLBUILDCHECKBUILD BIN
OmnipathR 3.19.2  (landing page)
Denes Turei
Snapshot Date: 2025-11-27 13:40 -0500 (Thu, 27 Nov 2025)
git_url: https://git.bioconductor.org/packages/OmnipathR
git_branch: devel
git_last_commit: 0f1c5d0
git_last_commit_date: 2025-11-17 12:47:44 -0500 (Mon, 17 Nov 2025)
nebbiolo1Linux (Ubuntu 24.04.3 LTS) / x86_64  OK    OK    OK  UNNEEDED, same version is already published
lconwaymacOS 12.7.6 Monterey / x86_64  OK    OK    OK    OK  UNNEEDED, same version is already published
kjohnson3macOS 13.7.7 Ventura / arm64  OK    OK    OK    OK  UNNEEDED, same version is already published


CHECK results for OmnipathR on nebbiolo1

To the developers/maintainers of the OmnipathR package:
- Allow up to 24 hours (and sometimes 48 hours) for your latest push to git@git.bioconductor.org:packages/OmnipathR.git to reflect on this report. See Troubleshooting Build Report for more information.
- Use the following Renviron settings to reproduce errors and warnings.
- If 'R CMD check' started to fail recently on the Linux builder(s) over a missing dependency, add the missing dependency to 'Suggests:' in your DESCRIPTION file. See Renviron.bioc for more information.

raw results


Summary

Package: OmnipathR
Version: 3.19.2
Command: /home/biocbuild/bbs-3.23-bioc/R/bin/R CMD check --install=check:OmnipathR.install-out.txt --library=/home/biocbuild/bbs-3.23-bioc/R/site-library --timings OmnipathR_3.19.2.tar.gz
StartedAt: 2025-11-28 02:14:47 -0500 (Fri, 28 Nov 2025)
EndedAt: 2025-11-28 02:54:41 -0500 (Fri, 28 Nov 2025)
EllapsedTime: 2393.4 seconds
RetCode: 0
Status:   OK  
CheckDir: OmnipathR.Rcheck
Warnings: 0

Command output

##############################################################################
##############################################################################
###
### Running command:
###
###   /home/biocbuild/bbs-3.23-bioc/R/bin/R CMD check --install=check:OmnipathR.install-out.txt --library=/home/biocbuild/bbs-3.23-bioc/R/site-library --timings OmnipathR_3.19.2.tar.gz
###
##############################################################################
##############################################################################


* using log directory ‘/home/biocbuild/bbs-3.23-bioc/meat/OmnipathR.Rcheck’
* using R Under development (unstable) (2025-10-20 r88955)
* using platform: x86_64-pc-linux-gnu
* R was compiled by
    gcc (Ubuntu 13.3.0-6ubuntu2~24.04) 13.3.0
    GNU Fortran (Ubuntu 13.3.0-6ubuntu2~24.04) 13.3.0
* running under: Ubuntu 24.04.3 LTS
* using session charset: UTF-8
* checking for file ‘OmnipathR/DESCRIPTION’ ... OK
* checking extension type ... Package
* this is package ‘OmnipathR’ version ‘3.19.2’
* package encoding: UTF-8
* checking package namespace information ... OK
* checking package dependencies ... INFO
Imports includes 35 non-default packages.
Importing from so many packages makes the package vulnerable to any of
them becoming unavailable.  Move as many as possible to Suggests and
use conditionally.
* checking if this is a source package ... OK
* checking if there is a namespace ... OK
* checking for hidden files and directories ... OK
* checking for portable file names ... OK
* checking for sufficient/correct file permissions ... OK
* checking whether package ‘OmnipathR’ can be installed ... OK
* checking installed package size ... OK
* checking package directory ... OK
* checking DESCRIPTION meta-information ... OK
* checking top-level files ... OK
* checking for left-over files ... OK
* checking index information ... OK
* checking package subdirectories ... OK
* checking code files for non-ASCII characters ... OK
* checking R files for syntax errors ... OK
* checking whether the package can be loaded ... OK
* checking whether the package can be loaded with stated dependencies ... OK
* checking whether the package can be unloaded cleanly ... OK
* checking whether the namespace can be loaded with stated dependencies ... OK
* checking whether the namespace can be unloaded cleanly ... OK
* checking loading without being on the library search path ... OK
* checking whether startup messages can be suppressed ... NOTE
[2025-11-28 02:15:22] [TRACE]   [OmnipathR] Reading JSON from `/home/biocbuild/.cache/OmnipathR/cache.json` (encoding: UTF-8).
[2025-11-28 02:15:22] [TRACE]   [OmnipathR] JSON validation successful: TRUE
[2025-11-28 02:15:22] [INFO]    [OmnipathR] Initialized cache: `/home/biocbuild/.cache/OmnipathR`.
[2025-11-28 02:15:22] [INFO]    [OmnipathR] Package `OmnipathR` packaged: NA
[2025-11-28 02:15:22] [INFO]    [OmnipathR] Package `OmnipathR` date/publication: 2025-11-27
[2025-11-28 02:15:22] [INFO]    [OmnipathR] Package `OmnipathR` built: R 4.6.0; ; 2025-11-27 20:08:10 UTC; unix
[2025-11-28 02:15:22] [INFO]    [OmnipathR] Package `OmnipathR` version: 3.19.2
[2025-11-28 02:15:22] [INFO]    [OmnipathR] Package `OmnipathR` repository: Bioconductor 3.23
[2025-11-28 02:15:27] [INFO]    [OmnipathR] Session info: [version=R Under development (unstable) (2025-10-20 r88955); os=Ubuntu 24.04.3 LTS; system=x86_64, linux-gnu; ui=X11; language=(EN); collate=C; ctype=en_US.UTF-8; tz=America/New_York; date=2025-11-28; pandoc=2.7.3 @ /usr/bin/ (via rmarkdown); quarto=1.8.25 @ /usr/local/bin/quarto]
[2025-11-28 02:15:27] [INFO]    [OmnipathR] External libraries: [cairo=1.18.0; cairoFT=; pango=1.52.1; png=1.6.43; jpeg=8.0; tiff=LIBTIFF, Version 4.5.1; tcl=8.6; curl=8.5.0; zlib=1.3; bzlib=1.0.8, 13-Jul-2019; xz=5.4.5; deflate=1.19; zstd=1.5.5; PCRE=10.42 2022-12-11; ICU=74.2; TRE=TRE 0.8.0 R_fixes (BSD); iconv=glibc 2.39; readline=8.2; BLAS=/home/biocbuild/bbs-3.23-bioc/R/lib/libRblas.so; lapack=/usr/lib/x86_64-linux-gnu/lapack/liblapack.so.3.12.0; lapack_version=3.12.0]
[2025-11-28 02:15:27] [INFO]    [OmnipathR] Loaded packages: backports 1.5.0(2024-05-23); bit 4.6.0(2025-03-06); bit64 4.6.0-1(2025-01-16); blob 1.2.4(2023-03-17); cachem 1.1.0(2024-05-16); cellranger 1.1.0(2016-07-27); checkmate 2.3.3(2025-08-18); chromote 0.5.1(2025-04-24); cli 3.6.5(2025-04-23); crayon 1.5.3(2024-06-20); curl 7.0.0(2025-08-19); DBI 1.2.3(2024-06-02); digest 0.6.39(2025-11-19); dplyr 1.1.4(2023-11-17); evaluate 1.0.5(2025-08-27); fastmap 1.2.0(2024-05-15); fs 1.6.6(2025-04-12); generics 0.1.4(2025-05-09); glue 1.8.0(2024-09-30); hms 1.1.4(2025-10-17); htmltools 0.5.8.1(2024-04-04); httr 1.4.7(2023-08-15); httr2 1.2.1(2025-07-22); igraph 2.2.1(2025-10-27); jsonlite 2.0.0(2025-03-27); knitr 1.50(2025-03-16); later 1.4.4(2025-08-27); lifecycle 1.0.4(2023-11-07); logger 0.4.1(2025-09-11); lubridate 1.9.4(2024-12-08); magrittr 2.0.4(2025-09-12); memoise 2.0.1(2021-11-26); OmnipathR 3.19.2(2025-11-27); otel 0.2.0(2025-08-29); pillar 1.11.1(2025-09-17); pkgconfig 2.0.3(2019-09-22); prettyunits 1.2.0(2023-09-24); processx 3.8.6(2025-02-21); progress 1.2.3(2023-12-06); promises 1.5.0(2025-11-01); ps 1.9.1(2025-04-12); purrr 1.2.0(2025-11-04); R.methodsS3 1.8.2(2022-06-13); R.oo 1.27.1(2025-05-02); R.utils 2.13.0(2025-02-24); R6 2.6.1(2025-02-15); rappdirs 0.3.3(2021-01-31); Rcpp 1.1.0(2025-07-02); readr 2.1.6(2025-11-14); readxl 1.4.5(2025-03-07); rlang 1.1.6(2025-04-11); rmarkdown 2.30(2025-09-28); RSQLite 2.4.4(2025-11-10); rvest 1.0.5(2025-08-29); sessioninfo 1.2.3(2025-02-05); stringi 1.8.7(2025-03-27); stringr 1.6.0(2025-11-04); tibble 3.3.0(2025-06-08); tidyr 1.3.1(2024-01-24); tidyselect 1.2.1(2024-03-11); timechange 0.3.0(2024-01-18); tzdb 0.5.0(2025-03-15); vctrs 0.6.5(2023-12-01); websocket 1.4.4(2025-04-10); withr 3.0.2(2024-10-28); xfun 0.54(2025-10-30); XML 3.99-0.20(2025-11-08); xml2 1.5.0(2025-11-17); yaml 2.3.10(2024-07-26); zip 2.3.3(2025-05-13)
[2025-11-28 02:15:27] [INFO]    [OmnipathR] CURL: version: 8.5.0; headers: 8.5.0; ssl_version: OpenSSL/3.0.13; libz_version: 1.3; libssh_version: libssh/0.10.6/openssl/zlib; libidn_version: 2.3.7; host: x86_64-pc-linux-gnu; protocols: dict, file, ftp, ftps, gopher, gophers, http, https, imap, imaps, ldap, ldaps, mqtt, pop3, pop3s, rtmp, rtmpe, rtmps, rtmpt, rtmpte, rtmpts, rtsp, scp, sftp, smb, smbs, smtp, smtps, telnet, tftp; ipv6: TRUE; http2: TRUE; idn: TRUE; url_parser: TRUE
[2025-11-28 02:15:27] [TRACE]   [OmnipathR] Running on a build server, wiping cache.
[2025-11-28 02:15:27] [TRACE]   [OmnipathR] Cache is at `/home/biocbuild/.cache/OmnipathR`.
[2025-11-28 02:15:27] [TRACE]   [OmnipathR] Contains 1 files.
[2025-11-28 02:15:27] [TRACE]   [OmnipathR] Cache is locked: FALSE.
[2025-11-28 02:15:27] [TRACE]   [OmnipathR] Reading JSON from `/home/biocbuild/.cache/OmnipathR/cache.json` (encoding: UTF-8).
[2025-11-28 02:15:27] [TRACE]   [OmnipathR] JSON validation successful: TRUE
[2025-11-28 02:15:27] [SUCCESS] [OmnipathR] Removing all cache contents from `/home/biocbuild/.cache/OmnipathR`.
[2025-11-28 02:15:27] [TRACE]   [OmnipathR] Pandoc version: `2.7.3`.
[2025-11-28 02:15:27] [TRACE]   [OmnipathR] Reading JSON from `/home/biocbuild/bbs-3.23-bioc/R/site-library/OmnipathR/db/db_def.json` (encoding: UTF-8).
[2025-11-28 02:15:27] [TRACE]   [OmnipathR] JSON validation successful: TRUE
[2025-11-28 02:15:27] [TRACE]   [OmnipathR] Reading JSON from `/home/biocbuild/bbs-3.23-bioc/R/site-library/OmnipathR/internal/magic_bytes.json` (encoding: UTF-8).
[2025-11-28 02:15:27] [TRACE]   [OmnipathR] JSON validation successful: TRUE
[2025-11-28 02:15:27] [TRACE]   [OmnipathR] Reading JSON from `/home/biocbuild/bbs-3.23-bioc/R/site-library/OmnipathR/internal/urls.json` (encoding: UTF-8).
[2025-11-28 02:15:27] [TRACE]   [OmnipathR] JSON validation successful: TRUE
[2025-11-28 02:15:27] [TRACE]   [OmnipathR] Reading JSON from `/home/biocbuild/bbs-3.23-bioc/R/site-library/OmnipathR/internal/id_types.json` (encoding: UTF-8).
[2025-11-28 02:15:27] [TRACE]   [OmnipathR] JSON validation successful: TRUE
[2025-11-28 02:15:27] [TRACE]   [OmnipathR] Cache locked: FALSE

It looks like this package (or a package it requires) has a startup
message which cannot be suppressed: see ?packageStartupMessage.
* checking dependencies in R code ... OK
* checking S3 generic/method consistency ... OK
* checking replacement functions ... OK
* checking foreign function calls ... OK
* checking R code for possible problems ... NOTE
[2025-11-28 02:15:52] [TRACE]   [OmnipathR] Reading JSON from `/home/biocbuild/.cache/OmnipathR/cache.json` (encoding: UTF-8).
[2025-11-28 02:15:52] [TRACE]   [OmnipathR] JSON validation successful: TRUE
[2025-11-28 02:15:52] [INFO]    [OmnipathR] Initialized cache: `/home/biocbuild/.cache/OmnipathR`.
[2025-11-28 02:15:52] [INFO]    [OmnipathR] Package `OmnipathR` packaged: NA
[2025-11-28 02:15:52] [INFO]    [OmnipathR] Package `OmnipathR` date/publication: 2025-11-27
[2025-11-28 02:15:52] [INFO]    [OmnipathR] Package `OmnipathR` built: R 4.6.0; ; 2025-11-27 20:08:10 UTC; unix
[2025-11-28 02:15:52] [INFO]    [OmnipathR] Package `OmnipathR` version: 3.19.2
[2025-11-28 02:15:52] [INFO]    [OmnipathR] Package `OmnipathR` repository: Bioconductor 3.23
[2025-11-28 02:15:57] [INFO]    [OmnipathR] Session info: [version=R Under development (unstable) (2025-10-20 r88955); os=Ubuntu 24.04.3 LTS; system=x86_64, linux-gnu; ui=X11; language=(EN); collate=C; ctype=en_US.UTF-8; tz=America/New_York; date=2025-11-28; pandoc=2.7.3 @ /usr/bin/ (via rmarkdown); quarto=1.8.25 @ /usr/local/bin/quarto]
[2025-11-28 02:15:58] [INFO]    [OmnipathR] External libraries: [cairo=1.18.0; cairoFT=; pango=1.52.1; png=1.6.43; jpeg=8.0; tiff=LIBTIFF, Version 4.5.1; tcl=8.6; curl=8.5.0; zlib=1.3; bzlib=1.0.8, 13-Jul-2019; xz=5.4.5; deflate=1.19; zstd=1.5.5; PCRE=10.42 2022-12-11; ICU=74.2; TRE=TRE 0.8.0 R_fixes (BSD); iconv=glibc 2.39; readline=8.2; BLAS=/home/biocbuild/bbs-3.23-bioc/R/lib/libRblas.so; lapack=/usr/lib/x86_64-linux-gnu/lapack/liblapack.so.3.12.0; lapack_version=3.12.0]
[2025-11-28 02:15:58] [INFO]    [OmnipathR] Loaded packages: backports 1.5.0(2024-05-23); bit 4.6.0(2025-03-06); bit64 4.6.0-1(2025-01-16); blob 1.2.4(2023-03-17); cachem 1.1.0(2024-05-16); cellranger 1.1.0(2016-07-27); checkmate 2.3.3(2025-08-18); chromote 0.5.1(2025-04-24); cli 3.6.5(2025-04-23); crayon 1.5.3(2024-06-20); curl 7.0.0(2025-08-19); DBI 1.2.3(2024-06-02); digest 0.6.39(2025-11-19); dplyr 1.1.4(2023-11-17); evaluate 1.0.5(2025-08-27); fastmap 1.2.0(2024-05-15); fs 1.6.6(2025-04-12); generics 0.1.4(2025-05-09); glue 1.8.0(2024-09-30); hms 1.1.4(2025-10-17); htmltools 0.5.8.1(2024-04-04); httr 1.4.7(2023-08-15); httr2 1.2.1(2025-07-22); igraph 2.2.1(2025-10-27); jsonlite 2.0.0(2025-03-27); knitr 1.50(2025-03-16); later 1.4.4(2025-08-27); lifecycle 1.0.4(2023-11-07); logger 0.4.1(2025-09-11); lubridate 1.9.4(2024-12-08); magrittr 2.0.4(2025-09-12); memoise 2.0.1(2021-11-26); OmnipathR 3.19.2(2025-11-27); otel 0.2.0(2025-08-29); pillar 1.11.1(2025-09-17); pkgconfig 2.0.3(2019-09-22); prettyunits 1.2.0(2023-09-24); processx 3.8.6(2025-02-21); progress 1.2.3(2023-12-06); promises 1.5.0(2025-11-01); ps 1.9.1(2025-04-12); purrr 1.2.0(2025-11-04); R.methodsS3 1.8.2(2022-06-13); R.oo 1.27.1(2025-05-02); R.utils 2.13.0(2025-02-24); R6 2.6.1(2025-02-15); rappdirs 0.3.3(2021-01-31); Rcpp 1.1.0(2025-07-02); readr 2.1.6(2025-11-14); readxl 1.4.5(2025-03-07); rlang 1.1.6(2025-04-11); rmarkdown 2.30(2025-09-28); RSQLite 2.4.4(2025-11-10); rvest 1.0.5(2025-08-29); sessioninfo 1.2.3(2025-02-05); stringi 1.8.7(2025-03-27); stringr 1.6.0(2025-11-04); tibble 3.3.0(2025-06-08); tidyr 1.3.1(2024-01-24); tidyselect 1.2.1(2024-03-11); timechange 0.3.0(2024-01-18); tzdb 0.5.0(2025-03-15); vctrs 0.6.5(2023-12-01); websocket 1.4.4(2025-04-10); withr 3.0.2(2024-10-28); xfun 0.54(2025-10-30); XML 3.99-0.20(2025-11-08); xml2 1.5.0(2025-11-17); yaml 2.3.10(2024-07-26); zip 2.3.3(2025-05-13)
[2025-11-28 02:15:58] [INFO]    [OmnipathR] CURL: version: 8.5.0; headers: 8.5.0; ssl_version: OpenSSL/3.0.13; libz_version: 1.3; libssh_version: libssh/0.10.6/openssl/zlib; libidn_version: 2.3.7; host: x86_64-pc-linux-gnu; protocols: dict, file, ftp, ftps, gopher, gophers, http, https, imap, imaps, ldap, ldaps, mqtt, pop3, pop3s, rtmp, rtmpe, rtmps, rtmpt, rtmpte, rtmpts, rtsp, scp, sftp, smb, smbs, smtp, smtps, telnet, tftp; ipv6: TRUE; http2: TRUE; idn: TRUE; url_parser: TRUE
[2025-11-28 02:15:58] [TRACE]   [OmnipathR] Running on a build server, wiping cache.
[2025-11-28 02:15:58] [TRACE]   [OmnipathR] Cache is at `/home/biocbuild/.cache/OmnipathR`.
[2025-11-28 02:15:58] [TRACE]   [OmnipathR] Contains 1 files.
[2025-11-28 02:15:58] [TRACE]   [OmnipathR] Cache is locked: FALSE.
[2025-11-28 02:15:58] [TRACE]   [OmnipathR] Reading JSON from `/home/biocbuild/.cache/OmnipathR/cache.json` (encoding: UTF-8).
[2025-11-28 02:15:58] [TRACE]   [OmnipathR] JSON validation successful: TRUE
[2025-11-28 02:15:58] [SUCCESS] [OmnipathR] Removing all cache contents from `/home/biocbuild/.cache/OmnipathR`.
[2025-11-28 02:15:58] [TRACE]   [OmnipathR] Pandoc version: `2.7.3`.
[2025-11-28 02:15:58] [TRACE]   [OmnipathR] Reading JSON from `/home/biocbuild/bbs-3.23-bioc/R/site-library/OmnipathR/db/db_def.json` (encoding: UTF-8).
[2025-11-28 02:15:58] [TRACE]   [OmnipathR] JSON validation successful: TRUE
[2025-11-28 02:15:58] [TRACE]   [OmnipathR] Reading JSON from `/home/biocbuild/bbs-3.23-bioc/R/site-library/OmnipathR/internal/magic_bytes.json` (encoding: UTF-8).
[2025-11-28 02:15:58] [TRACE]   [OmnipathR] JSON validation successful: TRUE
[2025-11-28 02:15:58] [TRACE]   [OmnipathR] Reading JSON from `/home/biocbuild/bbs-3.23-bioc/R/site-library/OmnipathR/internal/urls.json` (encoding: UTF-8).
[2025-11-28 02:15:58] [TRACE]   [OmnipathR] JSON validation successful: TRUE
[2025-11-28 02:15:58] [TRACE]   [OmnipathR] Reading JSON from `/home/biocbuild/bbs-3.23-bioc/R/site-library/OmnipathR/internal/id_types.json` (encoding: UTF-8).
[2025-11-28 02:15:58] [TRACE]   [OmnipathR] JSON validation successful: TRUE
[2025-11-28 02:15:58] [TRACE]   [OmnipathR] Cache locked: FALSE
cosmos_ksn: no visible binding for global variable ‘enzyme_genesymbol’
Undefined global functions or variables:
  enzyme_genesymbol
* checking Rd files ... OK
* checking Rd metadata ... OK
* checking Rd cross-references ... OK
* checking for missing documentation entries ... OK
* checking for code/documentation mismatches ... OK
* checking Rd \usage sections ... OK
* checking Rd contents ... OK
* checking for unstated dependencies in examples ... OK
* checking R/sysdata.rda ... OK
* checking files in ‘vignettes’ ... OK
* checking examples ... OK
Examples with CPU (user + system) or elapsed time > 5s
                                       user system elapsed
annotation_categories                79.180  0.055  81.569
curated_ligrec_stats                 42.907  3.097 145.967
omnipath-interactions                41.140  2.821  82.259
filter_extra_attrs                   36.319  6.087  47.789
extra_attr_values                    23.223  2.853  32.114
extra_attrs_to_cols                  23.757  1.550  30.083
all_uniprots                         23.333  1.751  41.695
go_annot_download                    21.117  1.227  25.588
uniprot_organisms                    19.622  0.969  23.903
giant_component                      16.739  1.237  23.570
nichenet_gr_network_omnipath         16.265  1.039  20.600
extra_attrs                          15.084  1.706  19.351
has_extra_attrs                      12.912  1.678  14.738
filter_by_resource                   13.357  0.812  18.781
with_extra_attrs                     12.132  1.238  17.323
omnipath_for_cosmos                  12.437  0.721  44.852
find_all_paths                       11.826  0.838  14.350
nichenet_signaling_network_omnipath  11.129  0.601  16.062
pivot_annotations                     9.845  0.599  23.877
filter_intercell                      7.668  1.347  16.440
translate_ids_multi                   8.581  0.330  30.240
curated_ligand_receptor_interactions  6.984  0.621  22.397
print_interactions                    6.275  0.208  13.584
static_table                          5.852  0.231   6.856
enzsub_graph                          5.078  0.260  10.290
signed_ptms                           4.992  0.161   6.114
ensembl_id_mapping_table              3.739  0.253  30.305
intercell_consensus_filter            3.179  0.452   7.136
hpo_download                          3.421  0.209   5.086
kegg_conv                             2.425  0.243  16.675
print_path_vs                         2.542  0.093   6.684
kegg_picture                          1.530  0.543   6.482
kinasephos                            1.586  0.286  33.095
kegg_link                             1.616  0.217   6.963
annotated_network                     1.687  0.099   6.174
kegg_rm_prefix                        1.440  0.246   5.914
metalinksdb_sqlite                    1.369  0.273  16.003
kegg_find                             1.300  0.153  18.182
biomart_query                         1.203  0.108   5.040
translate_ids                         1.203  0.040  12.037
uniprot_full_id_mapping_table         1.026  0.058  13.522
omnipath_cache_load                   1.000  0.044   5.227
* checking for unstated dependencies in ‘tests’ ... OK
* checking tests ...
  Running ‘testthat.R’
 OK
* checking for unstated dependencies in vignettes ... OK
* checking package vignettes ... OK
* checking re-building of vignette outputs ... OK
* checking PDF version of manual ... OK
* DONE

Status: 2 NOTEs
See
  ‘/home/biocbuild/bbs-3.23-bioc/meat/OmnipathR.Rcheck/00check.log’
for details.


Installation output

OmnipathR.Rcheck/00install.out

##############################################################################
##############################################################################
###
### Running command:
###
###   /home/biocbuild/bbs-3.23-bioc/R/bin/R CMD INSTALL OmnipathR
###
##############################################################################
##############################################################################


* installing to library ‘/home/biocbuild/bbs-3.23-bioc/R/site-library’
* installing *source* package ‘OmnipathR’ ...
** this is package ‘OmnipathR’ version ‘3.19.2’
** using staged installation
** R
** inst
** byte-compile and prepare package for lazy loading
** help
*** installing help indices
*** copying figures
** building package indices
** installing vignettes
** testing if installed package can be loaded from temporary location
[2025-11-27 15:08:24] [TRACE]   [OmnipathR] Reading JSON from `/home/biocbuild/.cache/OmnipathR/cache.json` (encoding: UTF-8).
[2025-11-27 15:08:24] [TRACE]   [OmnipathR] JSON validation successful: TRUE
[2025-11-27 15:08:24] [INFO]    [OmnipathR] Initialized cache: `/home/biocbuild/.cache/OmnipathR`.
[2025-11-27 15:08:24] [INFO]    [OmnipathR] Package `OmnipathR` packaged: NA
[2025-11-27 15:08:24] [INFO]    [OmnipathR] Package `OmnipathR` date/publication: 2025-11-27
[2025-11-27 15:08:24] [INFO]    [OmnipathR] Package `OmnipathR` built: R 4.6.0; ; 2025-11-27 20:08:10 UTC; unix
[2025-11-27 15:08:24] [INFO]    [OmnipathR] Package `OmnipathR` version: 3.19.2
[2025-11-27 15:08:24] [INFO]    [OmnipathR] Package `OmnipathR` repository: Bioconductor 3.23
[2025-11-27 15:08:24] [INFO]    [OmnipathR] Session info: [version=R Under development (unstable) (2025-10-20 r88955); os=Ubuntu 24.04.3 LTS; system=x86_64, linux-gnu; ui=X11; language=(EN); collate=C; ctype=en_US.UTF-8; tz=America/New_York; date=2025-11-27; pandoc=2.7.3 @ /usr/bin/ (via rmarkdown); quarto=1.8.25 @ /usr/local/bin/quarto]
[2025-11-27 15:08:24] [INFO]    [OmnipathR] External libraries: [cairo=1.18.0; cairoFT=; pango=1.52.1; png=1.6.43; jpeg=8.0; tiff=LIBTIFF, Version 4.5.1; tcl=8.6; curl=8.5.0; zlib=1.3; bzlib=1.0.8, 13-Jul-2019; xz=5.4.5; deflate=1.19; zstd=1.5.5; PCRE=10.42 2022-12-11; ICU=74.2; TRE=TRE 0.8.0 R_fixes (BSD); iconv=glibc 2.39; readline=8.2; BLAS=/home/biocbuild/bbs-3.23-bioc/R/lib/libRblas.so; lapack=/usr/lib/x86_64-linux-gnu/lapack/liblapack.so.3.12.0; lapack_version=3.12.0]
[2025-11-27 15:08:24] [INFO]    [OmnipathR] Loaded packages: backports 1.5.0(2024-05-23); bit 4.6.0(2025-03-06); bit64 4.6.0-1(2025-01-16); blob 1.2.4(2023-03-17); cachem 1.1.0(2024-05-16); cellranger 1.1.0(2016-07-27); checkmate 2.3.3(2025-08-18); chromote 0.5.1(2025-04-24); cli 3.6.5(2025-04-23); crayon 1.5.3(2024-06-20); curl 7.0.0(2025-08-19); DBI 1.2.3(2024-06-02); digest 0.6.39(2025-11-19); dplyr 1.1.4(2023-11-17); evaluate 1.0.5(2025-08-27); fastmap 1.2.0(2024-05-15); fs 1.6.6(2025-04-12); generics 0.1.4(2025-05-09); glue 1.8.0(2024-09-30); hms 1.1.4(2025-10-17); htmltools 0.5.8.1(2024-04-04); httr 1.4.7(2023-08-15); httr2 1.2.1(2025-07-22); igraph 2.2.1(2025-10-27); jsonlite 2.0.0(2025-03-27); knitr 1.50(2025-03-16); later 1.4.4(2025-08-27); lifecycle 1.0.4(2023-11-07); logger 0.4.1(2025-09-11); lubridate 1.9.4(2024-12-08); magrittr 2.0.4(2025-09-12); memoise 2.0.1(2021-11-26); OmnipathR 3.19.2(2025-11-27); otel 0.2.0(2025-08-29); pillar 1.11.1(2025-09-17); pkgconfig 2.0.3(2019-09-22); prettyunits 1.2.0(2023-09-24); processx 3.8.6(2025-02-21); progress 1.2.3(2023-12-06); promises 1.5.0(2025-11-01); ps 1.9.1(2025-04-12); purrr 1.2.0(2025-11-04); R.methodsS3 1.8.2(2022-06-13); R.oo 1.27.1(2025-05-02); R.utils 2.13.0(2025-02-24); R6 2.6.1(2025-02-15); rappdirs 0.3.3(2021-01-31); Rcpp 1.1.0(2025-07-02); readr 2.1.6(2025-11-14); readxl 1.4.5(2025-03-07); rlang 1.1.6(2025-04-11); rmarkdown 2.30(2025-09-28); RSQLite 2.4.4(2025-11-10); rvest 1.0.5(2025-08-29); sessioninfo 1.2.3(2025-02-05); stringi 1.8.7(2025-03-27); stringr 1.6.0(2025-11-04); tibble 3.3.0(2025-06-08); tidyr 1.3.1(2024-01-24); tidyselect 1.2.1(2024-03-11); timechange 0.3.0(2024-01-18); tzdb 0.5.0(2025-03-15); vctrs 0.6.5(2023-12-01); websocket 1.4.4(2025-04-10); withr 3.0.2(2024-10-28); xfun 0.54(2025-10-30); XML 3.99-0.20(2025-11-08); xml2 1.5.0(2025-11-17); yaml 2.3.10(2024-07-26); zip 2.3.3(2025-05-13)
[2025-11-27 15:08:24] [INFO]    [OmnipathR] CURL: version: 8.5.0; headers: 8.5.0; ssl_version: OpenSSL/3.0.13; libz_version: 1.3; libssh_version: libssh/0.10.6/openssl/zlib; libidn_version: 2.3.7; host: x86_64-pc-linux-gnu; protocols: dict, file, ftp, ftps, gopher, gophers, http, https, imap, imaps, ldap, ldaps, mqtt, pop3, pop3s, rtmp, rtmpe, rtmps, rtmpt, rtmpte, rtmpts, rtsp, scp, sftp, smb, smbs, smtp, smtps, telnet, tftp; ipv6: TRUE; http2: TRUE; idn: TRUE; url_parser: TRUE
[2025-11-27 15:08:24] [TRACE]   [OmnipathR] Running on a build server, wiping cache.
[2025-11-27 15:08:24] [TRACE]   [OmnipathR] Cache is at `/home/biocbuild/.cache/OmnipathR`.
[2025-11-27 15:08:24] [TRACE]   [OmnipathR] Contains 7 files.
[2025-11-27 15:08:24] [TRACE]   [OmnipathR] Cache is locked: FALSE.
[2025-11-27 15:08:24] [TRACE]   [OmnipathR] Reading JSON from `/home/biocbuild/.cache/OmnipathR/cache.json` (encoding: UTF-8).
[2025-11-27 15:08:24] [TRACE]   [OmnipathR] JSON validation successful: TRUE
[2025-11-27 15:08:24] [SUCCESS] [OmnipathR] Removing all cache contents from `/home/biocbuild/.cache/OmnipathR`.
[2025-11-27 15:08:24] [TRACE]   [OmnipathR] Pandoc version: `2.7.3`.
[2025-11-27 15:08:24] [TRACE]   [OmnipathR] Reading JSON from `/home/biocbuild/bbs-3.23-bioc/R/site-library/00LOCK-OmnipathR/00new/OmnipathR/db/db_def.json` (encoding: UTF-8).
[2025-11-27 15:08:24] [TRACE]   [OmnipathR] JSON validation successful: TRUE
[2025-11-27 15:08:24] [TRACE]   [OmnipathR] Reading JSON from `/home/biocbuild/bbs-3.23-bioc/R/site-library/00LOCK-OmnipathR/00new/OmnipathR/internal/magic_bytes.json` (encoding: UTF-8).
[2025-11-27 15:08:24] [TRACE]   [OmnipathR] JSON validation successful: TRUE
[2025-11-27 15:08:24] [TRACE]   [OmnipathR] Reading JSON from `/home/biocbuild/bbs-3.23-bioc/R/site-library/00LOCK-OmnipathR/00new/OmnipathR/internal/urls.json` (encoding: UTF-8).
[2025-11-27 15:08:24] [TRACE]   [OmnipathR] JSON validation successful: TRUE
[2025-11-27 15:08:24] [TRACE]   [OmnipathR] Reading JSON from `/home/biocbuild/bbs-3.23-bioc/R/site-library/00LOCK-OmnipathR/00new/OmnipathR/internal/id_types.json` (encoding: UTF-8).
[2025-11-27 15:08:24] [TRACE]   [OmnipathR] JSON validation successful: TRUE
[2025-11-27 15:08:24] [TRACE]   [OmnipathR] Cache locked: FALSE
** testing if installed package can be loaded from final location
[2025-11-27 15:08:27] [TRACE]   [OmnipathR] Reading JSON from `/home/biocbuild/.cache/OmnipathR/cache.json` (encoding: UTF-8).
[2025-11-27 15:08:27] [TRACE]   [OmnipathR] JSON validation successful: TRUE
[2025-11-27 15:08:27] [INFO]    [OmnipathR] Initialized cache: `/home/biocbuild/.cache/OmnipathR`.
[2025-11-27 15:08:27] [INFO]    [OmnipathR] Package `OmnipathR` packaged: NA
[2025-11-27 15:08:27] [INFO]    [OmnipathR] Package `OmnipathR` date/publication: 2025-11-27
[2025-11-27 15:08:27] [INFO]    [OmnipathR] Package `OmnipathR` built: R 4.6.0; ; 2025-11-27 20:08:10 UTC; unix
[2025-11-27 15:08:27] [INFO]    [OmnipathR] Package `OmnipathR` version: 3.19.2
[2025-11-27 15:08:27] [INFO]    [OmnipathR] Package `OmnipathR` repository: Bioconductor 3.23
[2025-11-27 15:08:27] [INFO]    [OmnipathR] Session info: [version=R Under development (unstable) (2025-10-20 r88955); os=Ubuntu 24.04.3 LTS; system=x86_64, linux-gnu; ui=X11; language=(EN); collate=C; ctype=en_US.UTF-8; tz=America/New_York; date=2025-11-27; pandoc=2.7.3 @ /usr/bin/ (via rmarkdown); quarto=1.8.25 @ /usr/local/bin/quarto]
[2025-11-27 15:08:27] [INFO]    [OmnipathR] External libraries: [cairo=1.18.0; cairoFT=; pango=1.52.1; png=1.6.43; jpeg=8.0; tiff=LIBTIFF, Version 4.5.1; tcl=8.6; curl=8.5.0; zlib=1.3; bzlib=1.0.8, 13-Jul-2019; xz=5.4.5; deflate=1.19; zstd=1.5.5; PCRE=10.42 2022-12-11; ICU=74.2; TRE=TRE 0.8.0 R_fixes (BSD); iconv=glibc 2.39; readline=8.2; BLAS=/home/biocbuild/bbs-3.23-bioc/R/lib/libRblas.so; lapack=/usr/lib/x86_64-linux-gnu/lapack/liblapack.so.3.12.0; lapack_version=3.12.0]
[2025-11-27 15:08:28] [INFO]    [OmnipathR] Loaded packages: backports 1.5.0(2024-05-23); bit 4.6.0(2025-03-06); bit64 4.6.0-1(2025-01-16); blob 1.2.4(2023-03-17); cachem 1.1.0(2024-05-16); cellranger 1.1.0(2016-07-27); checkmate 2.3.3(2025-08-18); chromote 0.5.1(2025-04-24); cli 3.6.5(2025-04-23); crayon 1.5.3(2024-06-20); curl 7.0.0(2025-08-19); DBI 1.2.3(2024-06-02); digest 0.6.39(2025-11-19); dplyr 1.1.4(2023-11-17); evaluate 1.0.5(2025-08-27); fastmap 1.2.0(2024-05-15); fs 1.6.6(2025-04-12); generics 0.1.4(2025-05-09); glue 1.8.0(2024-09-30); hms 1.1.4(2025-10-17); htmltools 0.5.8.1(2024-04-04); httr 1.4.7(2023-08-15); httr2 1.2.1(2025-07-22); igraph 2.2.1(2025-10-27); jsonlite 2.0.0(2025-03-27); knitr 1.50(2025-03-16); later 1.4.4(2025-08-27); lifecycle 1.0.4(2023-11-07); logger 0.4.1(2025-09-11); lubridate 1.9.4(2024-12-08); magrittr 2.0.4(2025-09-12); memoise 2.0.1(2021-11-26); OmnipathR 3.19.2(2025-11-27); otel 0.2.0(2025-08-29); pillar 1.11.1(2025-09-17); pkgconfig 2.0.3(2019-09-22); prettyunits 1.2.0(2023-09-24); processx 3.8.6(2025-02-21); progress 1.2.3(2023-12-06); promises 1.5.0(2025-11-01); ps 1.9.1(2025-04-12); purrr 1.2.0(2025-11-04); R.methodsS3 1.8.2(2022-06-13); R.oo 1.27.1(2025-05-02); R.utils 2.13.0(2025-02-24); R6 2.6.1(2025-02-15); rappdirs 0.3.3(2021-01-31); Rcpp 1.1.0(2025-07-02); readr 2.1.6(2025-11-14); readxl 1.4.5(2025-03-07); rlang 1.1.6(2025-04-11); rmarkdown 2.30(2025-09-28); RSQLite 2.4.4(2025-11-10); rvest 1.0.5(2025-08-29); sessioninfo 1.2.3(2025-02-05); stringi 1.8.7(2025-03-27); stringr 1.6.0(2025-11-04); tibble 3.3.0(2025-06-08); tidyr 1.3.1(2024-01-24); tidyselect 1.2.1(2024-03-11); timechange 0.3.0(2024-01-18); tzdb 0.5.0(2025-03-15); vctrs 0.6.5(2023-12-01); websocket 1.4.4(2025-04-10); withr 3.0.2(2024-10-28); xfun 0.54(2025-10-30); XML 3.99-0.20(2025-11-08); xml2 1.5.0(2025-11-17); yaml 2.3.10(2024-07-26); zip 2.3.3(2025-05-13)
[2025-11-27 15:08:28] [INFO]    [OmnipathR] CURL: version: 8.5.0; headers: 8.5.0; ssl_version: OpenSSL/3.0.13; libz_version: 1.3; libssh_version: libssh/0.10.6/openssl/zlib; libidn_version: 2.3.7; host: x86_64-pc-linux-gnu; protocols: dict, file, ftp, ftps, gopher, gophers, http, https, imap, imaps, ldap, ldaps, mqtt, pop3, pop3s, rtmp, rtmpe, rtmps, rtmpt, rtmpte, rtmpts, rtsp, scp, sftp, smb, smbs, smtp, smtps, telnet, tftp; ipv6: TRUE; http2: TRUE; idn: TRUE; url_parser: TRUE
[2025-11-27 15:08:28] [TRACE]   [OmnipathR] Running on a build server, wiping cache.
[2025-11-27 15:08:28] [TRACE]   [OmnipathR] Cache is at `/home/biocbuild/.cache/OmnipathR`.
[2025-11-27 15:08:28] [TRACE]   [OmnipathR] Contains 1 files.
[2025-11-27 15:08:28] [TRACE]   [OmnipathR] Cache is locked: FALSE.
[2025-11-27 15:08:28] [TRACE]   [OmnipathR] Reading JSON from `/home/biocbuild/.cache/OmnipathR/cache.json` (encoding: UTF-8).
[2025-11-27 15:08:28] [TRACE]   [OmnipathR] JSON validation successful: TRUE
[2025-11-27 15:08:28] [SUCCESS] [OmnipathR] Removing all cache contents from `/home/biocbuild/.cache/OmnipathR`.
[2025-11-27 15:08:28] [TRACE]   [OmnipathR] Pandoc version: `2.7.3`.
[2025-11-27 15:08:28] [TRACE]   [OmnipathR] Reading JSON from `/home/biocbuild/bbs-3.23-bioc/R/site-library/OmnipathR/db/db_def.json` (encoding: UTF-8).
[2025-11-27 15:08:28] [TRACE]   [OmnipathR] JSON validation successful: TRUE
[2025-11-27 15:08:28] [TRACE]   [OmnipathR] Reading JSON from `/home/biocbuild/bbs-3.23-bioc/R/site-library/OmnipathR/internal/magic_bytes.json` (encoding: UTF-8).
[2025-11-27 15:08:28] [TRACE]   [OmnipathR] JSON validation successful: TRUE
[2025-11-27 15:08:28] [TRACE]   [OmnipathR] Reading JSON from `/home/biocbuild/bbs-3.23-bioc/R/site-library/OmnipathR/internal/urls.json` (encoding: UTF-8).
[2025-11-27 15:08:28] [TRACE]   [OmnipathR] JSON validation successful: TRUE
[2025-11-27 15:08:28] [TRACE]   [OmnipathR] Reading JSON from `/home/biocbuild/bbs-3.23-bioc/R/site-library/OmnipathR/internal/id_types.json` (encoding: UTF-8).
[2025-11-27 15:08:28] [TRACE]   [OmnipathR] JSON validation successful: TRUE
[2025-11-27 15:08:28] [TRACE]   [OmnipathR] Cache locked: FALSE
** testing if installed package keeps a record of temporary installation path
* DONE (OmnipathR)

Tests output

OmnipathR.Rcheck/tests/testthat.Rout


R Under development (unstable) (2025-10-20 r88955) -- "Unsuffered Consequences"
Copyright (C) 2025 The R Foundation for Statistical Computing
Platform: x86_64-pc-linux-gnu

R is free software and comes with ABSOLUTELY NO WARRANTY.
You are welcome to redistribute it under certain conditions.
Type 'license()' or 'licence()' for distribution details.

R is a collaborative project with many contributors.
Type 'contributors()' for more information and
'citation()' on how to cite R or R packages in publications.

Type 'demo()' for some demos, 'help()' for on-line help, or
'help.start()' for an HTML browser interface to help.
Type 'q()' to quit R.

> #!/usr/bin/env Rscript
> 
> #
> #  This file is part of the `OmnipathR` R package
> #
> #  Copyright
> #  2018-2024
> #  Saez Lab, Uniklinik RWTH Aachen, Heidelberg University
> #
> #  File author(s): Alberto Valdeolivas
> #                  Dénes Türei (turei.denes@gmail.com)
> #                  Attila Gábor
> #
> #  Distributed under the MIT (Expat) License.
> #  See accompanying file `LICENSE` or find a copy at
> #      https://directory.fsf.org/wiki/License:Expat
> #
> #  Website: https://r.omnipathdb.org/
> #  Git repo: https://github.com/saezlab/OmnipathR
> #
> 
> 
> library(testthat)
> library(OmnipathR)
[2025-11-28 02:35:20] [TRACE]   [OmnipathR] Reading JSON from `/home/biocbuild/.cache/OmnipathR/cache.json` (encoding: UTF-8).
[2025-11-28 02:35:20] [TRACE]   [OmnipathR] JSON validation successful: TRUE
[2025-11-28 02:35:21] [INFO]    [OmnipathR] Initialized cache: `/home/biocbuild/.cache/OmnipathR`.
[2025-11-28 02:35:21] [INFO]    [OmnipathR] Package `OmnipathR` packaged: NA
[2025-11-28 02:35:21] [INFO]    [OmnipathR] Package `OmnipathR` date/publication: 2025-11-27
[2025-11-28 02:35:21] [INFO]    [OmnipathR] Package `OmnipathR` built: R 4.6.0; ; 2025-11-27 20:08:10 UTC; unix
[2025-11-28 02:35:21] [INFO]    [OmnipathR] Package `OmnipathR` version: 3.19.2
[2025-11-28 02:35:21] [INFO]    [OmnipathR] Package `OmnipathR` repository: Bioconductor 3.23
[2025-11-28 02:35:21] [INFO]    [OmnipathR] Session info: [version=R Under development (unstable) (2025-10-20 r88955); os=Ubuntu 24.04.3 LTS; system=x86_64, linux-gnu; ui=X11; language=C; collate=C; ctype=en_US.UTF-8; tz=America/New_York; date=2025-11-28; pandoc=2.7.3 @ /usr/bin/ (via rmarkdown); quarto=1.8.25 @ /usr/local/bin/quarto]
[2025-11-28 02:35:21] [INFO]    [OmnipathR] External libraries: [cairo=1.18.0; cairoFT=; pango=1.52.1; png=1.6.43; jpeg=8.0; tiff=LIBTIFF, Version 4.5.1; tcl=8.6; curl=8.5.0; zlib=1.3; bzlib=1.0.8, 13-Jul-2019; xz=5.4.5; deflate=1.19; zstd=1.5.5; PCRE=10.42 2022-12-11; ICU=74.2; TRE=TRE 0.8.0 R_fixes (BSD); iconv=glibc 2.39; readline=8.2; BLAS=/home/biocbuild/bbs-3.23-bioc/R/lib/libRblas.so; lapack=/usr/lib/x86_64-linux-gnu/lapack/liblapack.so.3.12.0; lapack_version=3.12.0]
[2025-11-28 02:35:21] [INFO]    [OmnipathR] Loaded packages: backports 1.5.0(2024-05-23); bit 4.6.0(2025-03-06); bit64 4.6.0-1(2025-01-16); blob 1.2.4(2023-03-17); brio 1.1.5(2024-04-24); cachem 1.1.0(2024-05-16); cellranger 1.1.0(2016-07-27); checkmate 2.3.3(2025-08-18); cli 3.6.5(2025-04-23); crayon 1.5.3(2024-06-20); curl 7.0.0(2025-08-19); DBI 1.2.3(2024-06-02); digest 0.6.39(2025-11-19); dplyr 1.1.4(2023-11-17); evaluate 1.0.5(2025-08-27); fastmap 1.2.0(2024-05-15); fs 1.6.6(2025-04-12); generics 0.1.4(2025-05-09); glue 1.8.0(2024-09-30); hms 1.1.4(2025-10-17); htmltools 0.5.8.1(2024-04-04); httr 1.4.7(2023-08-15); httr2 1.2.1(2025-07-22); igraph 2.2.1(2025-10-27); jsonlite 2.0.0(2025-03-27); knitr 1.50(2025-03-16); later 1.4.4(2025-08-27); lifecycle 1.0.4(2023-11-07); logger 0.4.1(2025-09-11); lubridate 1.9.4(2024-12-08); magrittr 2.0.4(2025-09-12); memoise 2.0.1(2021-11-26); OmnipathR 3.19.2(2025-11-27); pillar 1.11.1(2025-09-17); pkgconfig 2.0.3(2019-09-22); prettyunits 1.2.0(2023-09-24); progress 1.2.3(2023-12-06); purrr 1.2.0(2025-11-04); R.methodsS3 1.8.2(2022-06-13); R.oo 1.27.1(2025-05-02); R.utils 2.13.0(2025-02-24); R6 2.6.1(2025-02-15); rappdirs 0.3.3(2021-01-31); Rcpp 1.1.0(2025-07-02); readr 2.1.6(2025-11-14); readxl 1.4.5(2025-03-07); rlang 1.1.6(2025-04-11); rmarkdown 2.30(2025-09-28); RSQLite 2.4.4(2025-11-10); rvest 1.0.5(2025-08-29); sessioninfo 1.2.3(2025-02-05); stringi 1.8.7(2025-03-27); stringr 1.6.0(2025-11-04); testthat 3.3.1(2025-11-25); tibble 3.3.0(2025-06-08); tidyr 1.3.1(2024-01-24); tidyselect 1.2.1(2024-03-11); timechange 0.3.0(2024-01-18); tzdb 0.5.0(2025-03-15); vctrs 0.6.5(2023-12-01); withr 3.0.2(2024-10-28); xfun 0.54(2025-10-30); XML 3.99-0.20(2025-11-08); xml2 1.5.0(2025-11-17); yaml 2.3.10(2024-07-26); zip 2.3.3(2025-05-13)
[2025-11-28 02:35:21] [INFO]    [OmnipathR] CURL: version: 8.5.0; headers: 8.5.0; ssl_version: OpenSSL/3.0.13; libz_version: 1.3; libssh_version: libssh/0.10.6/openssl/zlib; libidn_version: 2.3.7; host: x86_64-pc-linux-gnu; protocols: dict, file, ftp, ftps, gopher, gophers, http, https, imap, imaps, ldap, ldaps, mqtt, pop3, pop3s, rtmp, rtmpe, rtmps, rtmpt, rtmpte, rtmpts, rtsp, scp, sftp, smb, smbs, smtp, smtps, telnet, tftp; ipv6: TRUE; http2: TRUE; idn: TRUE; url_parser: TRUE
[2025-11-28 02:35:21] [TRACE]   [OmnipathR] Running on a build server, wiping cache.
[2025-11-28 02:35:21] [TRACE]   [OmnipathR] Cache is at `/home/biocbuild/.cache/OmnipathR`.
[2025-11-28 02:35:21] [TRACE]   [OmnipathR] Contains 22 files.
[2025-11-28 02:35:21] [TRACE]   [OmnipathR] Cache is locked: FALSE.
[2025-11-28 02:35:21] [TRACE]   [OmnipathR] Reading JSON from `/home/biocbuild/.cache/OmnipathR/cache.json` (encoding: UTF-8).
[2025-11-28 02:35:21] [TRACE]   [OmnipathR] JSON validation successful: TRUE
[2025-11-28 02:35:21] [SUCCESS] [OmnipathR] Removing all cache contents from `/home/biocbuild/.cache/OmnipathR`.
[2025-11-28 02:35:21] [TRACE]   [OmnipathR] Pandoc version: `2.7.3`.
[2025-11-28 02:35:21] [TRACE]   [OmnipathR] Reading JSON from `/home/biocbuild/bbs-3.23-bioc/R/site-library/OmnipathR/db/db_def.json` (encoding: UTF-8).
[2025-11-28 02:35:21] [TRACE]   [OmnipathR] JSON validation successful: TRUE
[2025-11-28 02:35:21] [TRACE]   [OmnipathR] Reading JSON from `/home/biocbuild/bbs-3.23-bioc/R/site-library/OmnipathR/internal/magic_bytes.json` (encoding: UTF-8).
[2025-11-28 02:35:21] [TRACE]   [OmnipathR] JSON validation successful: TRUE
[2025-11-28 02:35:21] [TRACE]   [OmnipathR] Reading JSON from `/home/biocbuild/bbs-3.23-bioc/R/site-library/OmnipathR/internal/urls.json` (encoding: UTF-8).
[2025-11-28 02:35:21] [TRACE]   [OmnipathR] JSON validation successful: TRUE
[2025-11-28 02:35:21] [TRACE]   [OmnipathR] Reading JSON from `/home/biocbuild/bbs-3.23-bioc/R/site-library/OmnipathR/internal/id_types.json` (encoding: UTF-8).
[2025-11-28 02:35:21] [TRACE]   [OmnipathR] JSON validation successful: TRUE
[2025-11-28 02:35:21] [TRACE]   [OmnipathR] Cache locked: FALSE
> 
> test_check('OmnipathR')
[ FAIL 0 | WARN 12 | SKIP 0 | PASS 38 ]

[ FAIL 0 | WARN 12 | SKIP 0 | PASS 38 ]
> 
> proc.time()
   user  system elapsed 
 45.016   2.718  90.294 

Example timings

OmnipathR.Rcheck/OmnipathR-Ex.timings

nameusersystemelapsed
OmnipathR0.0000.0010.001
all_uniprot_acs0.0160.0030.018
all_uniprots23.333 1.75141.695
ancestors0.0060.0010.008
annotated_network1.6870.0996.174
annotation_categories79.180 0.05581.569
annotation_resources0.1360.0141.112
annotations0.7600.0542.037
biomart_query1.2030.1085.040
bioplex10.0090.0010.010
bioplex20.0090.0000.009
bioplex30.0080.0000.009
bioplex_all0.0080.0010.009
bioplex_hct116_10.0090.0000.009
bma_motif_es0.7920.0791.995
bma_motif_vs0.3000.0111.287
chalmers_gem0.0100.0010.011
chalmers_gem_id_mapping_table0.0080.0010.010
chalmers_gem_id_type0.0020.0010.002
chalmers_gem_metabolites0.0070.0010.008
chalmers_gem_network0.0080.0010.009
chalmers_gem_raw0.0080.0000.008
chalmers_gem_reactions0.0070.0020.008
common_name0.1260.0060.133
complex_genes0.8290.0353.432
complex_resources0.0820.0081.043
complexes0.2160.0101.180
consensuspathdb_download0.0000.0010.000
consensuspathdb_raw_table0.0060.0020.008
cosmos_pkn0.0000.0000.001
curated_ligand_receptor_interactions 6.984 0.62122.397
curated_ligrec_stats 42.907 3.097145.967
database_summary1.6490.0813.995
descendants0.0090.0000.009
ensembl_dataset0.0510.0020.053
ensembl_id_mapping_table 3.739 0.25330.305
ensembl_id_type0.0050.0000.009
ensembl_name0.6220.0081.255
ensembl_organisms0.2460.0140.516
ensembl_organisms_raw0.2120.0160.452
ensembl_orthology0.0000.0010.001
enzsub_graph 5.078 0.26010.290
enzsub_resources0.1810.0061.092
enzyme_substrate2.1300.1234.096
evex_download0.0180.0000.019
evidences000
extra_attr_values23.223 2.85332.114
extra_attrs15.084 1.70619.351
extra_attrs_to_cols23.757 1.55030.083
filter_by_resource13.357 0.81218.781
filter_extra_attrs36.319 6.08747.789
filter_intercell 7.668 1.34716.440
filter_intercell_network0.0500.0040.062
find_all_paths11.826 0.83814.350
from_evidences0.0010.0000.000
get_db0.0000.0000.001
get_ontology_db0.0210.0030.025
giant_component16.739 1.23723.570
go_annot_download21.117 1.22725.588
go_annot_slim000
go_ontology_download0.0190.0010.020
guide2pharma_download0.0190.0030.021
harmonizome_download0.0210.0010.022
has_extra_attrs12.912 1.67814.738
hmdb_id_mapping_table0.0080.0010.009
hmdb_id_type0.0010.0010.003
hmdb_metabolite_fields0.0000.0000.001
hmdb_protein_fields000
hmdb_table0.0070.0020.008
homologene_download0.0090.0000.009
homologene_raw0.0580.0020.060
homologene_uniprot_orthology0.0080.0020.010
hpo_download3.4210.2095.086
htridb_download0.0150.0030.017
id_translation_resources0.0000.0000.001
id_types0.0900.0050.094
inbiomap_download0.0000.0000.001
inbiomap_raw0.0000.0000.001
interaction_datasets1.4130.1722.636
interaction_graph0.8250.0542.195
interaction_resources0.1940.0101.219
interaction_types0.1590.0110.225
intercell1.6500.1783.531
intercell_categories1.5870.1852.893
intercell_consensus_filter3.1790.4527.136
intercell_generic_categories0.2020.0240.426
intercell_network0.0240.0000.025
intercell_resources0.1910.0231.205
intercell_summary0.1780.0590.474
is_ontology_id0.0000.0000.001
is_swissprot0.1250.0240.295
is_trembl0.2380.0410.553
is_uniprot0.0230.0080.060
kegg_api_templates0.0040.0040.015
kegg_conv 2.425 0.24316.675
kegg_databases0.0010.0010.001
kegg_ddi1.2820.1392.712
kegg_find 1.300 0.15318.182
kegg_info0.0170.0020.019
kegg_link1.6160.2176.963
kegg_list0.9790.0601.905
kegg_open0.0080.0020.011
kegg_operations0.0000.0000.001
kegg_organism_codes0.0200.0680.088
kegg_organisms0.0190.0080.027
kegg_pathway_annotations0.0000.0010.000
kegg_pathway_download0.0100.0020.012
kegg_pathway_list0.0090.0000.009
kegg_pathways_download0.0000.0010.000
kegg_picture1.5300.5436.482
kegg_process0.0160.0030.019
kegg_query0.010.000.01
kegg_request0.0700.0070.078
kegg_rm_prefix1.4400.2465.914
kinasephos 1.586 0.28633.095
latin_name0.4430.0190.468
load_db0.0850.0090.095
metalinksdb_sqlite 1.369 0.27316.003
metalinksdb_table0.2110.0240.235
metalinksdb_tables0.0150.0040.019
ncbi_taxid0.3120.0220.333
nichenet_build_model000
nichenet_expression_data0.0100.0020.012
nichenet_gr_network0.0260.0040.030
nichenet_gr_network_evex0.0090.0010.010
nichenet_gr_network_harmonizome0.0080.0020.010
nichenet_gr_network_htridb0.010.000.01
nichenet_gr_network_omnipath16.265 1.03920.600
nichenet_gr_network_pathwaycommons0.0090.0010.010
nichenet_gr_network_regnetwork0.0090.0000.008
nichenet_gr_network_remap0.0080.0000.008
nichenet_gr_network_trrust0.0090.0000.008
nichenet_ligand_activities0.0000.0010.000
nichenet_ligand_target_links0.0000.0010.001
nichenet_ligand_target_matrix0.0000.0010.001
nichenet_lr_network0.0250.0000.025
nichenet_lr_network_guide2pharma0.0080.0000.008
nichenet_lr_network_omnipath0.0230.0030.025
nichenet_lr_network_ramilowski0.0500.0000.051
nichenet_main000
nichenet_networks0.0390.0030.042
nichenet_optimization0.0000.0010.000
nichenet_remove_orphan_ligands0.0220.0040.026
nichenet_results_dir000
nichenet_signaling_network0.0240.0010.025
nichenet_signaling_network_cpdb0.0080.0000.008
nichenet_signaling_network_evex0.0070.0010.008
nichenet_signaling_network_harmonizome0.0080.0000.008
nichenet_signaling_network_inbiomap0.0010.0000.001
nichenet_signaling_network_omnipath11.129 0.60116.062
nichenet_signaling_network_pathwaycommons0.0080.0010.009
nichenet_signaling_network_vinayagam0.0090.0000.008
nichenet_test000
nichenet_workarounds000
obo_parser0.1750.0270.526
oma_code0.1340.0030.136
oma_organisms0.0570.0060.063
oma_pairwise0.0090.0000.010
oma_pairwise_genesymbols0.0080.0000.009
oma_pairwise_translated0.0060.0020.008
omnipath-interactions41.140 2.82182.259
omnipath_cache_autoclean000
omnipath_cache_clean0.0110.0040.014
omnipath_cache_clean_db0.1460.0230.169
omnipath_cache_download_ready0.9080.0981.168
omnipath_cache_filter_versions0.2150.0190.348
omnipath_cache_get0.1380.0180.285
omnipath_cache_key0.0010.0000.002
omnipath_cache_latest_or_new0.0980.0130.157
omnipath_cache_load1.0000.0445.227
omnipath_cache_move_in0.2480.0320.297
omnipath_cache_remove0.2270.0180.259
omnipath_cache_save0.2920.0250.451
omnipath_cache_search0.0010.0000.001
omnipath_cache_set_ext0.1110.0180.143
omnipath_cache_update_status0.1370.0080.145
omnipath_cache_wipe0.0010.0000.000
omnipath_config_path0.0010.0000.001
omnipath_for_cosmos12.437 0.72144.852
omnipath_load_config000
omnipath_log0.0000.0000.001
omnipath_logfile0.0010.0000.002
omnipath_msg0.0040.0010.005
omnipath_query3.5550.1553.706
omnipath_reset_config000
omnipath_save_config0.0000.0000.001
omnipath_set_cachedir0.0220.0020.024
omnipath_set_console_loglevel0.0030.0010.003
omnipath_set_logfile_loglevel0.0040.0000.003
omnipath_set_loglevel0.0010.0010.002
omnipath_show_db0.0490.0120.062
omnipath_unlock_cache_db0.0010.0000.001
only_from000
ontology_ensure_id000
ontology_ensure_name0.0000.0000.001
ontology_name_id0.0010.0000.001
organism_for0.1740.0080.182
pathwaycommons_download0.0000.0010.000
pivot_annotations 9.845 0.59923.877
preppi_download0.0010.0000.001
preppi_filter0.0000.0010.001
print_bma_motif_es0.6550.0651.931
print_bma_motif_vs0.2440.0081.216
print_interactions 6.275 0.20813.584
print_path_es0.9010.0643.386
print_path_vs2.5420.0936.684
pubmed_open3.8430.1523.993
query_info0.4880.0160.778
ramilowski_download0.0000.0010.001
ramp_id_mapping_table0.0000.0000.001
ramp_id_type0.0030.0000.002
ramp_sqlite0.0010.0000.001
ramp_table0.0010.0000.001
ramp_tables0.0010.0000.001
recon3d0.0020.0000.002
recon3d_raw0.0010.0000.001
recon3d_raw_vmh0.0000.0000.001
regnetwork_directions0.0000.0000.001
regnetwork_download0.0000.0010.001
relations_list_to_table0.1440.0210.515
relations_table_to_graph000
relations_table_to_list0.0710.0160.222
remap_dorothea_download0.0010.0000.001
remap_filtered000
remap_tf_target_download0.0000.0010.000
resource_info0.5220.0510.880
resources0.1580.0081.133
resources_colname1.2090.0344.828
resources_in3.5430.0893.634
show_network000
signed_ptms4.9920.1616.114
simplify_intercell_network0.0000.0000.001
static_table5.8520.2316.856
static_tables0.0510.0040.064
stitch_actions0.0000.0000.001
stitch_links0.0000.0000.001
stitch_network0.0000.0010.000
stitch_remove_prefixes0.0070.0010.007
swap_relations0.0730.0110.208
swissprots_only0.1610.0000.162
tfcensus_download0.8190.0261.439
translate_ids 1.203 0.04012.037
translate_ids_multi 8.581 0.33030.240
trembls_only0.1310.0030.134
trrust_download0.0000.0010.001
uniprot_full_id_mapping_table 1.026 0.05813.522
uniprot_genesymbol_cleanup000
uniprot_id_mapping_table0.0000.0010.001
uniprot_id_type0.0020.0000.002
uniprot_idmapping_id_types0.5820.0321.349
uniprot_organisms19.622 0.96923.903
unique_intercell_network0.0010.0000.001
unnest_evidences000
uploadlists_id_type0.0020.0000.002
vinayagam_download0.0000.0010.001
walk_ontology_tree0.0010.0000.002
with_extra_attrs12.132 1.23817.323
with_references0.9920.0483.316
zenodo_download0.0010.0000.001