Back to Multiple platform build/check report for BioC 3.23:   simplified   long
AB[C]DEFGHIJKLMNOPQRSTUVWXYZ

This page was generated on 2025-11-14 11:35 -0500 (Fri, 14 Nov 2025).

HostnameOSArch (*)R versionInstalled pkgs
nebbiolo1Linux (Ubuntu 24.04.3 LTS)x86_64R Under development (unstable) (2025-10-20 r88955) -- "Unsuffered Consequences" 4825
kjohnson3macOS 13.7.7 Venturaarm64R Under development (unstable) (2025-11-04 r88984) -- "Unsuffered Consequences" 4547
Click on any hostname to see more info about the system (e.g. compilers)      (*) as reported by 'uname -p', except on Windows and Mac OS X

Package 267/2325HostnameOS / ArchINSTALLBUILDCHECKBUILD BIN
CAGEr 2.17.0  (landing page)
Charles Plessy
Snapshot Date: 2025-11-13 13:40 -0500 (Thu, 13 Nov 2025)
git_url: https://git.bioconductor.org/packages/CAGEr
git_branch: devel
git_last_commit: 0a93a41
git_last_commit_date: 2025-10-29 10:13:45 -0500 (Wed, 29 Oct 2025)
nebbiolo1Linux (Ubuntu 24.04.3 LTS) / x86_64  OK    OK    OK  UNNEEDED, same version is already published
kjohnson3macOS 13.7.7 Ventura / arm64  OK    OK    OK    OK  NO, package depends on 'GenomicAlignments' which is only available as a source package that needs compilation


CHECK results for CAGEr on nebbiolo1

To the developers/maintainers of the CAGEr package:
- Allow up to 24 hours (and sometimes 48 hours) for your latest push to git@git.bioconductor.org:packages/CAGEr.git to reflect on this report. See Troubleshooting Build Report for more information.
- Use the following Renviron settings to reproduce errors and warnings.
- If 'R CMD check' started to fail recently on the Linux builder(s) over a missing dependency, add the missing dependency to 'Suggests:' in your DESCRIPTION file. See Renviron.bioc for more information.

raw results


Summary

Package: CAGEr
Version: 2.17.0
Command: /home/biocbuild/bbs-3.23-bioc/R/bin/R CMD check --install=check:CAGEr.install-out.txt --library=/home/biocbuild/bbs-3.23-bioc/R/site-library --timings CAGEr_2.17.0.tar.gz
StartedAt: 2025-11-13 21:42:36 -0500 (Thu, 13 Nov 2025)
EndedAt: 2025-11-13 21:55:08 -0500 (Thu, 13 Nov 2025)
EllapsedTime: 751.9 seconds
RetCode: 0
Status:   OK  
CheckDir: CAGEr.Rcheck
Warnings: 0

Command output

##############################################################################
##############################################################################
###
### Running command:
###
###   /home/biocbuild/bbs-3.23-bioc/R/bin/R CMD check --install=check:CAGEr.install-out.txt --library=/home/biocbuild/bbs-3.23-bioc/R/site-library --timings CAGEr_2.17.0.tar.gz
###
##############################################################################
##############################################################################


* using log directory ‘/home/biocbuild/bbs-3.23-bioc/meat/CAGEr.Rcheck’
* using R Under development (unstable) (2025-10-20 r88955)
* using platform: x86_64-pc-linux-gnu
* R was compiled by
    gcc (Ubuntu 13.3.0-6ubuntu2~24.04) 13.3.0
    GNU Fortran (Ubuntu 13.3.0-6ubuntu2~24.04) 13.3.0
* running under: Ubuntu 24.04.3 LTS
* using session charset: UTF-8
* checking for file ‘CAGEr/DESCRIPTION’ ... OK
* this is package ‘CAGEr’ version ‘2.17.0’
* package encoding: UTF-8
* checking package namespace information ... OK
* checking package dependencies ... INFO
Imports includes 30 non-default packages.
Importing from so many packages makes the package vulnerable to any of
them becoming unavailable.  Move as many as possible to Suggests and
use conditionally.
* checking if this is a source package ... OK
* checking if there is a namespace ... OK
* checking for hidden files and directories ... OK
* checking for portable file names ... OK
* checking for sufficient/correct file permissions ... OK
* checking whether package ‘CAGEr’ can be installed ... OK
* checking installed package size ... OK
* checking package directory ... OK
* checking ‘build’ directory ... OK
* checking DESCRIPTION meta-information ... OK
* checking top-level files ... OK
* checking for left-over files ... OK
* checking index information ... OK
* checking package subdirectories ... OK
* checking code files for non-ASCII characters ... OK
* checking R files for syntax errors ... OK
* checking whether the package can be loaded ... OK
* checking whether the package can be loaded with stated dependencies ... OK
* checking whether the package can be unloaded cleanly ... OK
* checking whether the namespace can be loaded with stated dependencies ... OK
* checking whether the namespace can be unloaded cleanly ... OK
* checking loading without being on the library search path ... OK
* checking dependencies in R code ... OK
* checking S3 generic/method consistency ... OK
* checking replacement functions ... OK
* checking foreign function calls ... OK
* checking R code for possible problems ... OK
* checking Rd files ... OK
* checking Rd metadata ... OK
* checking Rd cross-references ... OK
* checking for missing documentation entries ... OK
* checking for code/documentation mismatches ... OK
* checking Rd \usage sections ... OK
* checking Rd contents ... OK
* checking for unstated dependencies in examples ... OK
* checking contents of ‘data’ directory ... OK
* checking data for non-ASCII characters ... OK
* checking LazyData ... OK
* checking data for ASCII and uncompressed saves ... OK
* checking files in ‘vignettes’ ... OK
* checking examples ... OK
Examples with CPU (user + system) or elapsed time > 5s
                             user system elapsed
paraclu                    43.359  0.246  43.617
exportToTrack              35.775  0.248  36.033
scoreShift                 21.338  0.184  21.525
aggregateTagClusters       19.109  0.112  19.223
quantilePositions          12.386  0.073  12.460
annotateCTSS               12.296  0.143  12.439
distclu                     8.925  0.037   8.962
plotExpressionProfiles      8.018  0.098   8.117
cumulativeCTSSdistribution  4.957  0.178   5.135
* checking for unstated dependencies in vignettes ... OK
* checking package vignettes ... OK
* checking re-building of vignette outputs ... OK
* checking PDF version of manual ... OK
* DONE

Status: OK


Installation output

CAGEr.Rcheck/00install.out

##############################################################################
##############################################################################
###
### Running command:
###
###   /home/biocbuild/bbs-3.23-bioc/R/bin/R CMD INSTALL CAGEr
###
##############################################################################
##############################################################################


* installing to library ‘/home/biocbuild/bbs-3.23-bioc/R/site-library’
* installing *source* package ‘CAGEr’ ...
** this is package ‘CAGEr’ version ‘2.17.0’
** using staged installation
** R
** data
*** moving datasets to lazyload DB
** inst
** byte-compile and prepare package for lazy loading
** help
*** installing help indices
** building package indices
** installing vignettes
** testing if installed package can be loaded from temporary location
** testing if installed package can be loaded from final location
** testing if installed package keeps a record of temporary installation path
* DONE (CAGEr)

Tests output


Example timings

CAGEr.Rcheck/CAGEr-Ex.timings

nameusersystemelapsed
CAGEexp-class3.2320.1593.408
CAGEr_Multicore3.3010.0523.355
CTSS-class0.2350.0010.236
CTSScoordinates0.0770.0020.078
CTSSnormalizedTpm0.6610.0450.705
CTSStagCount0.6070.1180.725
CTSStoGenes0.3600.0680.427
CustomConsensusClusters4.5910.0954.686
GeneExpDESeq20.4990.0340.533
GeneExpSE0.0050.0000.005
QuantileWidthFunctions0.1460.0090.157
TSSlogo2.5980.0512.650
aggregateTagClusters19.109 0.11219.223
annotateCTSS12.296 0.14312.439
byCtss0.0140.0020.015
consensusClusters0.1450.0020.148
consensusClustersDESeq21.9670.0031.971
consensusClustersTpm0.0060.0000.006
cumulativeCTSSdistribution4.9570.1785.135
distclu8.9250.0378.962
dot-ctss_summary_for_clusters0.7930.0030.795
exampleCAGEexp0.0000.0010.001
exportToTrack35.775 0.24836.033
expressionClasses1.8240.0021.826
filteredCTSSidx0.0090.0000.010
flagLowExpCTSS0.0340.0000.034
genomeName0.0000.0010.001
getCTSS0.9240.0120.936
getExpressionProfiles4.9080.0234.932
getShiftingPromoters1.8930.0071.899
hanabi0.2470.0200.267
hanabiPlot0.2670.0090.276
import.CAGEscanMolecule000
import.CTSS0.0760.0000.076
import.bam0.0000.0010.000
import.bedCTSS000
import.bedScore000
import.bedmolecule000
import.bigwig0.2930.0030.296
importPublicData0.0010.0000.000
inputFiles0.0020.0000.001
inputFilesType0.0010.0000.001
librarySizes0.0000.0020.001
mapStats0.0470.0020.050
mergeCAGEsets1.9990.0202.019
mergeSamples0.4460.0010.447
moleculesGR2CTSS0.1240.0010.126
normalizeTagCount0.4940.0020.475
paraclu43.359 0.24643.617
parseCAGEscanBlocksToGrangeTSS0.0440.0010.046
plotAnnot3.1830.0083.192
plotCorrelation0.2770.0000.278
plotExpressionProfiles8.0180.0988.117
plotInterquantileWidth2.2890.0662.355
plotReverseCumulatives2.6650.0062.608
quantilePositions12.386 0.07312.460
quickEnhancers0.0000.0000.001
ranges2annot0.3290.0020.331
ranges2genes0.0540.0010.055
ranges2names0.0530.0000.054
resetCAGEexp0.3030.0020.305
rowSums.RleDataFrame0.0220.0000.022
rowsum.RleDataFrame0.0240.0000.024
sampleLabels0.0050.0000.004
scoreShift21.338 0.18421.525
seqNameTotalsSE0.0030.0010.004
setColors0.30.00.3
strandInvaders0.6120.0880.684
summariseChrExpr0.40.00.4
tagClusters0.3780.0030.382