| Back to Multiple platform build/check report for BioC 3.23: simplified long |
|
This page was generated on 2025-11-14 11:36 -0500 (Fri, 14 Nov 2025).
| Hostname | OS | Arch (*) | R version | Installed pkgs |
|---|---|---|---|---|
| nebbiolo1 | Linux (Ubuntu 24.04.3 LTS) | x86_64 | R Under development (unstable) (2025-10-20 r88955) -- "Unsuffered Consequences" | 4825 |
| kjohnson3 | macOS 13.7.7 Ventura | arm64 | R Under development (unstable) (2025-11-04 r88984) -- "Unsuffered Consequences" | 4547 |
| Click on any hostname to see more info about the system (e.g. compilers) (*) as reported by 'uname -p', except on Windows and Mac OS X | ||||
| Package 267/2325 | Hostname | OS / Arch | INSTALL | BUILD | CHECK | BUILD BIN | ||||||||
| CAGEr 2.17.0 (landing page) Charles Plessy
| nebbiolo1 | Linux (Ubuntu 24.04.3 LTS) / x86_64 | OK | OK | OK | |||||||||
| kjohnson3 | macOS 13.7.7 Ventura / arm64 | OK | OK | OK | OK | |||||||||
|
To the developers/maintainers of the CAGEr package: - Allow up to 24 hours (and sometimes 48 hours) for your latest push to git@git.bioconductor.org:packages/CAGEr.git to reflect on this report. See Troubleshooting Build Report for more information. - Use the following Renviron settings to reproduce errors and warnings. - If 'R CMD check' started to fail recently on the Linux builder(s) over a missing dependency, add the missing dependency to 'Suggests:' in your DESCRIPTION file. See Renviron.bioc for more information. |
| Package: CAGEr |
| Version: 2.17.0 |
| Command: /Library/Frameworks/R.framework/Resources/bin/R CMD check --install=check:CAGEr.install-out.txt --library=/Library/Frameworks/R.framework/Resources/library --no-vignettes --timings CAGEr_2.17.0.tar.gz |
| StartedAt: 2025-11-13 18:53:32 -0500 (Thu, 13 Nov 2025) |
| EndedAt: 2025-11-13 18:57:41 -0500 (Thu, 13 Nov 2025) |
| EllapsedTime: 249.1 seconds |
| RetCode: 0 |
| Status: OK |
| CheckDir: CAGEr.Rcheck |
| Warnings: 0 |
##############################################################################
##############################################################################
###
### Running command:
###
### /Library/Frameworks/R.framework/Resources/bin/R CMD check --install=check:CAGEr.install-out.txt --library=/Library/Frameworks/R.framework/Resources/library --no-vignettes --timings CAGEr_2.17.0.tar.gz
###
##############################################################################
##############################################################################
* using log directory ‘/Users/biocbuild/bbs-3.23-bioc/meat/CAGEr.Rcheck’
* using R Under development (unstable) (2025-11-04 r88984)
* using platform: aarch64-apple-darwin20
* R was compiled by
Apple clang version 16.0.0 (clang-1600.0.26.6)
GNU Fortran (GCC) 14.2.0
* running under: macOS Ventura 13.7.8
* using session charset: UTF-8
* using option ‘--no-vignettes’
* checking for file ‘CAGEr/DESCRIPTION’ ... OK
* this is package ‘CAGEr’ version ‘2.17.0’
* package encoding: UTF-8
* checking package namespace information ... OK
* checking package dependencies ... INFO
Imports includes 30 non-default packages.
Importing from so many packages makes the package vulnerable to any of
them becoming unavailable. Move as many as possible to Suggests and
use conditionally.
* checking if this is a source package ... OK
* checking if there is a namespace ... OK
* checking for hidden files and directories ... OK
* checking for portable file names ... OK
* checking for sufficient/correct file permissions ... OK
* checking whether package ‘CAGEr’ can be installed ... OK
* checking installed package size ... OK
* checking package directory ... OK
* checking ‘build’ directory ... OK
* checking DESCRIPTION meta-information ... OK
* checking top-level files ... OK
* checking for left-over files ... OK
* checking index information ... OK
* checking package subdirectories ... OK
* checking code files for non-ASCII characters ... OK
* checking R files for syntax errors ... OK
* checking whether the package can be loaded ... OK
* checking whether the package can be loaded with stated dependencies ... OK
* checking whether the package can be unloaded cleanly ... OK
* checking whether the namespace can be loaded with stated dependencies ... OK
* checking whether the namespace can be unloaded cleanly ... OK
* checking dependencies in R code ... OK
* checking S3 generic/method consistency ... OK
* checking replacement functions ... OK
* checking foreign function calls ... OK
* checking R code for possible problems ... OK
* checking Rd files ... OK
* checking Rd metadata ... OK
* checking Rd cross-references ... OK
* checking for missing documentation entries ... OK
* checking for code/documentation mismatches ... OK
* checking Rd \usage sections ... OK
* checking Rd contents ... OK
* checking for unstated dependencies in examples ... OK
* checking contents of ‘data’ directory ... OK
* checking data for non-ASCII characters ... OK
* checking LazyData ... OK
* checking data for ASCII and uncompressed saves ... OK
* checking files in ‘vignettes’ ... OK
* checking examples ... OK
Examples with CPU (user + system) or elapsed time > 5s
user system elapsed
paraclu 13.259 0.045 14.222
exportToTrack 11.246 0.021 11.855
scoreShift 7.029 0.051 7.454
aggregateTagClusters 5.990 0.014 6.463
* checking for unstated dependencies in vignettes ... OK
* checking package vignettes ... OK
* checking running R code from vignettes ... SKIPPED
* checking re-building of vignette outputs ... SKIPPED
* checking PDF version of manual ... OK
* DONE
Status: OK
CAGEr.Rcheck/00install.out
############################################################################## ############################################################################## ### ### Running command: ### ### /Library/Frameworks/R.framework/Resources/bin/R CMD INSTALL CAGEr ### ############################################################################## ############################################################################## * installing to library ‘/Library/Frameworks/R.framework/Versions/4.6-arm64/Resources/library’ * installing *source* package ‘CAGEr’ ... ** this is package ‘CAGEr’ version ‘2.17.0’ ** using staged installation ** R ** data *** moving datasets to lazyload DB ** inst ** byte-compile and prepare package for lazy loading ** help *** installing help indices ** building package indices ** installing vignettes ** testing if installed package can be loaded from temporary location ** testing if installed package can be loaded from final location ** testing if installed package keeps a record of temporary installation path * DONE (CAGEr)
CAGEr.Rcheck/CAGEr-Ex.timings
| name | user | system | elapsed | |
| CAGEexp-class | 1.878 | 0.298 | 2.303 | |
| CAGEr_Multicore | 1.767 | 0.003 | 1.925 | |
| CTSS-class | 0.081 | 0.000 | 0.090 | |
| CTSScoordinates | 0.027 | 0.001 | 0.030 | |
| CTSSnormalizedTpm | 0.233 | 0.004 | 0.252 | |
| CTSStagCount | 0.210 | 0.016 | 0.232 | |
| CTSStoGenes | 0.176 | 0.009 | 0.200 | |
| CustomConsensusClusters | 1.429 | 0.006 | 1.527 | |
| GeneExpDESeq2 | 0.173 | 0.004 | 0.198 | |
| GeneExpSE | 0.001 | 0.000 | 0.001 | |
| QuantileWidthFunctions | 0.045 | 0.000 | 0.053 | |
| TSSlogo | 0.878 | 0.016 | 0.982 | |
| aggregateTagClusters | 5.990 | 0.014 | 6.463 | |
| annotateCTSS | 3.821 | 0.011 | 4.038 | |
| byCtss | 0.008 | 0.000 | 0.013 | |
| consensusClusters | 0.056 | 0.001 | 0.060 | |
| consensusClustersDESeq2 | 0.612 | 0.001 | 0.661 | |
| consensusClustersTpm | 0.002 | 0.000 | 0.002 | |
| cumulativeCTSSdistribution | 1.973 | 0.031 | 2.171 | |
| distclu | 2.895 | 0.032 | 3.229 | |
| dot-ctss_summary_for_clusters | 0.283 | 0.001 | 0.294 | |
| exampleCAGEexp | 0.001 | 0.000 | 0.000 | |
| exportToTrack | 11.246 | 0.021 | 11.855 | |
| expressionClasses | 0.581 | 0.001 | 0.636 | |
| filteredCTSSidx | 0.004 | 0.000 | 0.004 | |
| flagLowExpCTSS | 0.012 | 0.000 | 0.012 | |
| genomeName | 0 | 0 | 0 | |
| getCTSS | 0.372 | 0.007 | 0.407 | |
| getExpressionProfiles | 1.749 | 0.008 | 1.830 | |
| getShiftingPromoters | 0.585 | 0.002 | 0.618 | |
| hanabi | 0.079 | 0.004 | 0.086 | |
| hanabiPlot | 0.093 | 0.007 | 0.108 | |
| import.CAGEscanMolecule | 0 | 0 | 0 | |
| import.CTSS | 0.027 | 0.001 | 0.028 | |
| import.bam | 0 | 0 | 0 | |
| import.bedCTSS | 0 | 0 | 0 | |
| import.bedScore | 0 | 0 | 0 | |
| import.bedmolecule | 0 | 0 | 0 | |
| import.bigwig | 0.120 | 0.005 | 0.136 | |
| importPublicData | 0 | 0 | 0 | |
| inputFiles | 0.001 | 0.001 | 0.000 | |
| inputFilesType | 0 | 0 | 0 | |
| librarySizes | 0 | 0 | 0 | |
| mapStats | 0.020 | 0.001 | 0.021 | |
| mergeCAGEsets | 0.787 | 0.013 | 0.869 | |
| mergeSamples | 0.192 | 0.001 | 0.216 | |
| moleculesGR2CTSS | 0.040 | 0.000 | 0.041 | |
| normalizeTagCount | 0.247 | 0.004 | 0.301 | |
| paraclu | 13.259 | 0.045 | 14.222 | |
| parseCAGEscanBlocksToGrangeTSS | 0.006 | 0.000 | 0.006 | |
| plotAnnot | 1.105 | 0.006 | 1.198 | |
| plotCorrelation | 0.078 | 0.001 | 0.079 | |
| plotExpressionProfiles | 3.387 | 0.084 | 3.720 | |
| plotInterquantileWidth | 0.782 | 0.003 | 0.874 | |
| plotReverseCumulatives | 0.877 | 0.009 | 1.053 | |
| quantilePositions | 3.915 | 0.020 | 4.176 | |
| quickEnhancers | 0 | 0 | 0 | |
| ranges2annot | 0.111 | 0.000 | 0.117 | |
| ranges2genes | 0.018 | 0.000 | 0.019 | |
| ranges2names | 0.018 | 0.000 | 0.019 | |
| resetCAGEexp | 0.102 | 0.001 | 0.117 | |
| rowSums.RleDataFrame | 0.008 | 0.000 | 0.008 | |
| rowsum.RleDataFrame | 0.007 | 0.001 | 0.008 | |
| sampleLabels | 0.002 | 0.000 | 0.001 | |
| scoreShift | 7.029 | 0.051 | 7.454 | |
| seqNameTotalsSE | 0.001 | 0.000 | 0.001 | |
| setColors | 0.161 | 0.002 | 0.175 | |
| strandInvaders | 0.266 | 0.029 | 0.329 | |
| summariseChrExpr | 0.191 | 0.004 | 0.205 | |
| tagClusters | 0.141 | 0.007 | 0.161 | |