| Back to Build/check report for BioC 3.23: simplified long |
|
This page was generated on 2025-11-13 11:32 -0500 (Thu, 13 Nov 2025).
| Hostname | OS | Arch (*) | R version | Installed pkgs |
|---|---|---|---|---|
| kjohnson3 | macOS 13.7.7 Ventura | arm64 | R Under development (unstable) (2025-11-04 r88984) -- "Unsuffered Consequences" | 4013 |
| Click on any hostname to see more info about the system (e.g. compilers) (*) as reported by 'uname -p', except on Windows and Mac OS X | ||||
| Package 254/2325 | Hostname | OS / Arch | INSTALL | BUILD | CHECK | BUILD BIN | ||||||||
| BulkSignalR 1.3.1 (landing page) Jean-Philippe Villemin
| kjohnson3 | macOS 13.7.7 Ventura / arm64 | OK | OK | OK | ERROR | ||||||||
|
To the developers/maintainers of the BulkSignalR package: - Allow up to 24 hours (and sometimes 48 hours) for your latest push to git@git.bioconductor.org:packages/BulkSignalR.git to reflect on this report. See Troubleshooting Build Report for more information. - Use the following Renviron settings to reproduce errors and warnings. - If 'R CMD check' started to fail recently on the Linux builder(s) over a missing dependency, add the missing dependency to 'Suggests:' in your DESCRIPTION file. See Renviron.bioc for more information. |
| Package: BulkSignalR |
| Version: 1.3.1 |
| Command: /Library/Frameworks/R.framework/Resources/bin/R CMD check --install=check:BulkSignalR.install-out.txt --library=/Library/Frameworks/R.framework/Resources/library --no-vignettes --timings BulkSignalR_1.3.1.tar.gz |
| StartedAt: 2025-11-12 18:10:02 -0500 (Wed, 12 Nov 2025) |
| EndedAt: 2025-11-12 18:13:23 -0500 (Wed, 12 Nov 2025) |
| EllapsedTime: 200.5 seconds |
| RetCode: 0 |
| Status: OK |
| CheckDir: BulkSignalR.Rcheck |
| Warnings: 0 |
##############################################################################
##############################################################################
###
### Running command:
###
### /Library/Frameworks/R.framework/Resources/bin/R CMD check --install=check:BulkSignalR.install-out.txt --library=/Library/Frameworks/R.framework/Resources/library --no-vignettes --timings BulkSignalR_1.3.1.tar.gz
###
##############################################################################
##############################################################################
* using log directory ‘/Users/biocbuild/bbs-3.23-bioc/meat/BulkSignalR.Rcheck’
* using R Under development (unstable) (2025-11-04 r88984)
* using platform: aarch64-apple-darwin20
* R was compiled by
Apple clang version 16.0.0 (clang-1600.0.26.6)
GNU Fortran (GCC) 14.2.0
* running under: macOS Ventura 13.7.8
* using session charset: UTF-8
* using option ‘--no-vignettes’
* checking for file ‘BulkSignalR/DESCRIPTION’ ... OK
* checking extension type ... Package
* this is package ‘BulkSignalR’ version ‘1.3.1’
* package encoding: UTF-8
* checking package namespace information ... OK
* checking package dependencies ... INFO
Imports includes 26 non-default packages.
Importing from so many packages makes the package vulnerable to any of
them becoming unavailable. Move as many as possible to Suggests and
use conditionally.
* checking if this is a source package ... OK
* checking if there is a namespace ... OK
* checking for hidden files and directories ... OK
* checking for portable file names ... OK
* checking for sufficient/correct file permissions ... OK
* checking whether package ‘BulkSignalR’ can be installed ... OK
* checking installed package size ... OK
* checking package directory ... OK
* checking ‘build’ directory ... OK
* checking DESCRIPTION meta-information ... OK
* checking top-level files ... OK
* checking for left-over files ... OK
* checking index information ... OK
* checking package subdirectories ... OK
* checking code files for non-ASCII characters ... OK
* checking R files for syntax errors ... OK
* checking whether the package can be loaded ... OK
* checking whether the package can be loaded with stated dependencies ... OK
* checking whether the package can be unloaded cleanly ... OK
* checking whether the namespace can be loaded with stated dependencies ... OK
* checking whether the namespace can be unloaded cleanly ... OK
* checking whether startup messages can be suppressed ... OK
* checking dependencies in R code ... OK
* checking S3 generic/method consistency ... OK
* checking replacement functions ... OK
* checking foreign function calls ... OK
* checking R code for possible problems ... OK
* checking Rd files ... OK
* checking Rd metadata ... OK
* checking Rd cross-references ... OK
* checking for missing documentation entries ... OK
* checking for code/documentation mismatches ... OK
* checking Rd \usage sections ... OK
* checking Rd contents ... OK
* checking for unstated dependencies in examples ... OK
* checking contents of ‘data’ directory ... OK
* checking data for non-ASCII characters ... OK
* checking data for ASCII and uncompressed saves ... OK
* checking files in ‘vignettes’ ... OK
* checking examples ... OK
Examples with CPU (user + system) or elapsed time > 5s
user system elapsed
cacheClear 1.487 0.09 5.599
* checking for unstated dependencies in ‘tests’ ... OK
* checking tests ...
Running ‘testthat.R’
OK
* checking for unstated dependencies in vignettes ... OK
* checking package vignettes ... OK
* checking running R code from vignettes ... SKIPPED
* checking re-building of vignette outputs ... SKIPPED
* checking PDF version of manual ... OK
* DONE
Status: OK
BulkSignalR.Rcheck/00install.out
############################################################################## ############################################################################## ### ### Running command: ### ### /Library/Frameworks/R.framework/Resources/bin/R CMD INSTALL BulkSignalR ### ############################################################################## ############################################################################## * installing to library ‘/Library/Frameworks/R.framework/Versions/4.6-arm64/Resources/library’ * installing *source* package ‘BulkSignalR’ ... ** this is package ‘BulkSignalR’ version ‘1.3.1’ ** using staged installation ** R ** data ** inst ** byte-compile and prepare package for lazy loading ** help *** installing help indices *** copying figures ** building package indices ** installing vignettes ** testing if installed package can be loaded from temporary location ** testing if installed package can be loaded from final location ** testing if installed package keeps a record of temporary installation path * DONE (BulkSignalR)
BulkSignalR.Rcheck/tests/testthat.Rout
R Under development (unstable) (2025-11-04 r88984) -- "Unsuffered Consequences"
Copyright (C) 2025 The R Foundation for Statistical Computing
Platform: aarch64-apple-darwin20
R is free software and comes with ABSOLUTELY NO WARRANTY.
You are welcome to redistribute it under certain conditions.
Type 'license()' or 'licence()' for distribution details.
R is a collaborative project with many contributors.
Type 'contributors()' for more information and
'citation()' on how to cite R or R packages in publications.
Type 'demo()' for some demos, 'help()' for on-line help, or
'help.start()' for an HTML browser interface to help.
Type 'q()' to quit R.
> library(testthat)
> library(BulkSignalR)
Local "resources" are up to date.
> test_check("BulkSignalR")
[ FAIL 0 | WARN 0 | SKIP 0 | PASS 1 ]
>
> proc.time()
user system elapsed
6.222 0.293 7.898
BulkSignalR.Rcheck/BulkSignalR-Ex.timings
| name | user | system | elapsed | |
| BSRClusterComp-class | 0.001 | 0.000 | 0.002 | |
| BSRClusterComp | 0.109 | 0.007 | 0.115 | |
| BSRDataModel-class | 0.022 | 0.002 | 0.024 | |
| BSRDataModel | 0.079 | 0.004 | 0.082 | |
| BSRDataModelComp-class | 0.002 | 0.001 | 0.002 | |
| BSRDataModelComp | 0.078 | 0.002 | 0.080 | |
| BSRInference-class | 0.001 | 0.000 | 0.002 | |
| BSRInference | 1.075 | 0.023 | 1.118 | |
| BSRInferenceComp-class | 0.003 | 0.000 | 0.002 | |
| BSRInferenceComp | 0.429 | 0.048 | 0.488 | |
| BSRSignature-class | 0.001 | 0.000 | 0.001 | |
| BSRSignature | 0.010 | 0.001 | 0.010 | |
| BSRSignatureComp-class | 0.002 | 0.000 | 0.002 | |
| BSRSignatureComp | 0.004 | 0.001 | 0.005 | |
| LRinter | 0.001 | 0.000 | 0.001 | |
| LRinterScore | 0.001 | 0.001 | 0.001 | |
| LRinterShort | 0.001 | 0.000 | 0.001 | |
| addClusterComp | 0.096 | 0.007 | 0.106 | |
| alluvialPlot | 0.207 | 0.007 | 0.219 | |
| assignCellTypesToInteractions | 0.242 | 0.014 | 0.257 | |
| bubblePlotPathwaysLR | 0.159 | 0.002 | 0.163 | |
| cacheClear | 1.487 | 0.090 | 5.599 | |
| cacheInfo | 0.037 | 0.002 | 0.040 | |
| cacheVersion | 0.093 | 0.011 | 0.453 | |
| cellTypeFrequency | 0.233 | 0.010 | 0.248 | |
| cellularNetwork | 0.208 | 0.009 | 0.220 | |
| cellularNetworkTable | 0.195 | 0.007 | 0.214 | |
| chordDiagramLR | 0.379 | 0.007 | 0.402 | |
| coerce | 0 | 0 | 0 | |
| colClusterA | 0 | 0 | 0 | |
| colClusterB | 0 | 0 | 0 | |
| comparison | 0 | 0 | 0 | |
| comparisonName | 0.000 | 0.000 | 0.001 | |
| convertToHuman | 0.076 | 0.005 | 1.887 | |
| createResources | 0.095 | 0.014 | 0.455 | |
| differentialStats | 0.001 | 0.000 | 0.000 | |
| findOrthoGenes | 0.052 | 0.002 | 0.208 | |
| generateSpatialPlots | 0.604 | 0.016 | 0.639 | |
| getLRIntracellNetwork | 0.658 | 0.108 | 0.786 | |
| getLRNetwork | 0.010 | 0.001 | 0.012 | |
| getPathwayStats | 0.005 | 0.000 | 0.006 | |
| getResource | 0.104 | 0.005 | 0.119 | |
| inferenceParameters | 0 | 0 | 0 | |
| initialOrganism | 0.000 | 0.000 | 0.001 | |
| initialOrthologs | 0.000 | 0.000 | 0.001 | |
| learnParameters | 0.769 | 0.007 | 0.804 | |
| ligands | 0 | 0 | 0 | |
| logTransformed | 0.000 | 0.000 | 0.001 | |
| maxLigandSpatialCounts | 0.024 | 0.001 | 0.025 | |
| mu | 0 | 0 | 0 | |
| ncounts | 0.001 | 0.001 | 0.001 | |
| normalization | 0.001 | 0.000 | 0.001 | |
| parameters | 0.000 | 0.000 | 0.001 | |
| pathways | 0 | 0 | 0 | |
| receptors | 0 | 0 | 0 | |
| reduceToBestPathway | 0.036 | 0.004 | 0.040 | |
| reduceToLigand | 0.011 | 0.000 | 0.011 | |
| reduceToPathway | 0.028 | 0.000 | 0.028 | |
| reduceToReceptor | 0.005 | 0.000 | 0.006 | |
| relateToGeneSet | 0.027 | 0.001 | 0.030 | |
| removeClusterComp | 0.095 | 0.008 | 0.103 | |
| rescoreInference | 0.015 | 0.001 | 0.016 | |
| resetLRdb | 0.010 | 0.000 | 0.009 | |
| resetNetwork | 0.002 | 0.000 | 0.002 | |
| resetPathways | 0.101 | 0.006 | 0.122 | |
| resetToInitialOrganism | 0.049 | 0.003 | 0.054 | |
| scoreLRGeneSignatures | 0.572 | 0.018 | 0.604 | |
| scoreSignatures | 0.115 | 0.004 | 0.121 | |
| separatedLRPlot | 0.581 | 0.023 | 0.615 | |
| signatureHeatmaps | 0.012 | 0.001 | 0.013 | |
| simpleHeatmap | 2.931 | 0.081 | 3.091 | |
| smoothSpatialCounts | 0.018 | 0.001 | 0.019 | |
| sourceComparisonName | 0.000 | 0.000 | 0.001 | |
| spatialAssociation | 0.021 | 0.002 | 0.031 | |
| spatialAssociationPlot | 1.356 | 0.031 | 1.479 | |
| spatialDiversityPlot | 0.330 | 0.013 | 0.375 | |
| spatialIndexPlot | 0.467 | 0.022 | 0.505 | |
| spatialPlot | 0.396 | 0.015 | 0.427 | |
| summarizedCellularNetwork | 0.208 | 0.015 | 0.251 | |
| tgCorr | 0 | 0 | 0 | |
| tgExpr | 0 | 0 | 0 | |
| tgGenes | 0 | 0 | 0 | |
| tgLogFC | 0.001 | 0.000 | 0.000 | |
| tgPval | 0.000 | 0.001 | 0.000 | |
| updateInference | 0.039 | 0.003 | 0.047 | |