| Back to Build/check report for BioC 3.23: simplified long |
|
This page was generated on 2025-11-13 11:32 -0500 (Thu, 13 Nov 2025).
| Hostname | OS | Arch (*) | R version | Installed pkgs |
|---|---|---|---|---|
| kjohnson3 | macOS 13.7.7 Ventura | arm64 | R Under development (unstable) (2025-11-04 r88984) -- "Unsuffered Consequences" | 4013 |
| Click on any hostname to see more info about the system (e.g. compilers) (*) as reported by 'uname -p', except on Windows and Mac OS X | ||||
| Package 254/2325 | Hostname | OS / Arch | INSTALL | BUILD | CHECK | BUILD BIN | ||||||||
| BulkSignalR 1.3.1 (landing page) Jean-Philippe Villemin
| kjohnson3 | macOS 13.7.7 Ventura / arm64 | OK | OK | OK | ERROR | ||||||||
|
To the developers/maintainers of the BulkSignalR package: - Allow up to 24 hours (and sometimes 48 hours) for your latest push to git@git.bioconductor.org:packages/BulkSignalR.git to reflect on this report. See Troubleshooting Build Report for more information. - Use the following Renviron settings to reproduce errors and warnings. - If 'R CMD check' started to fail recently on the Linux builder(s) over a missing dependency, add the missing dependency to 'Suggests:' in your DESCRIPTION file. See Renviron.bioc for more information. |
| Package: BulkSignalR |
| Version: 1.3.1 |
| Command: rm -rf BulkSignalR.buildbin-libdir && mkdir BulkSignalR.buildbin-libdir && /Users/biocbuild/BBS/utils/build-universal.sh BulkSignalR_1.3.1.tar.gz /Library/Frameworks/R.framework/Resources/bin/R BulkSignalR.buildbin-libdir |
| StartedAt: 2025-11-12 20:52:35 -0500 (Wed, 12 Nov 2025) |
| EndedAt: 2025-11-12 20:57:49 -0500 (Wed, 12 Nov 2025) |
| EllapsedTime: 313.5 seconds |
| RetCode: 1 |
| Status: ERROR |
| PackageFile: None |
| PackageFileSize: NA |
############################################################################## ############################################################################## ### ### Running command: ### ### rm -rf BulkSignalR.buildbin-libdir && mkdir BulkSignalR.buildbin-libdir && /Users/biocbuild/BBS/utils/build-universal.sh BulkSignalR_1.3.1.tar.gz /Library/Frameworks/R.framework/Resources/bin/R BulkSignalR.buildbin-libdir ### ############################################################################## ############################################################################## >>>>>>> >>>>>>> INSTALLATION WITH 'R CMD INSTALL --preclean --no-multiarch --library=BulkSignalR.buildbin-libdir BulkSignalR_1.3.1.tar.gz' >>>>>>> * installing *source* package ‘BulkSignalR’ ... ** this is package ‘BulkSignalR’ version ‘1.3.1’ ** using staged installation ** R ** data ** inst ** byte-compile and prepare package for lazy loading ** help *** installing help indices *** copying figures ** building package indices ** installing vignettes ** testing if installed package can be loaded from temporary location ✖ Remote server is down. "https://partage-dev.montp.inserm.fr:9192/CBSB/" Error: package or namespace load failed for ‘BulkSignalR’: .onLoad failed in loadNamespace() for 'BulkSignalR', details: call: .testRemoteServer() error: Error: loading failed Execution halted ERROR: loading failed * removing ‘/Users/biocbuild/bbs-3.23-bioc/meat/BulkSignalR.buildbin-libdir/BulkSignalR’