Back to Build/check report for BioC 3.23:   simplified   long
A[B]CDEFGHIJKLMNOPQRSTUVWXYZ

This page was generated on 2025-11-13 11:32 -0500 (Thu, 13 Nov 2025).

HostnameOSArch (*)R versionInstalled pkgs
kjohnson3macOS 13.7.7 Venturaarm64R Under development (unstable) (2025-11-04 r88984) -- "Unsuffered Consequences" 4013
Click on any hostname to see more info about the system (e.g. compilers)      (*) as reported by 'uname -p', except on Windows and Mac OS X

All results for package BiocFileCache


To the developers/maintainers of the BiocFileCache package:
- Allow up to 24 hours (and sometimes 48 hours) for your latest push to git@git.bioconductor.org:packages/BiocFileCache.git to reflect on this report. See Troubleshooting Build Report for more information.
- Use the following Renviron settings to reproduce errors and warnings.
- If 'R CMD check' started to fail recently on the Linux builder(s) over a missing dependency, add the missing dependency to 'Suggests:' in your DESCRIPTION file. See Renviron.bioc for more information.

raw results

Package 187/2325HostnameOS / ArchINSTALLBUILDCHECKBUILD BIN
BiocFileCache 3.1.0  (landing page)
Lori Shepherd
Snapshot Date: 2025-11-12 13:40 -0500 (Wed, 12 Nov 2025)
git_url: https://git.bioconductor.org/packages/BiocFileCache
git_branch: devel
git_last_commit: c4f8ba6
git_last_commit_date: 2025-10-29 10:37:29 -0500 (Wed, 29 Oct 2025)
kjohnson3macOS 13.7.7 Ventura / arm64  OK    OK    OK    OK  YES



Results for Bioconductor software packages that depend directly on package BiocFileCache

QUICK STATSOS / ArchINSTALLBUILDCHECKBUILD BIN
kjohnson3macOS 13.7.7 Ventura / arm64
01761
12948
06240
0147
Package 1/78HostnameOS / ArchINSTALLBUILDCHECKBUILD BIN
AlphaMissenseR 1.7.0  (landing page)
Martin Morgan
git_last_commit: 3b50759
git_last_commit_date: 2025-10-29 11:27:01 -0500
kjohnson3macOS 13.7.7 Ventura / arm64  OK    OK    OK    OK  YES
Package 2/78HostnameOS / ArchINSTALLBUILDCHECKBUILD BIN
AMARETTO 1.27.0  (landing page)
Olivier Gevaert
git_last_commit: 87c41a4
git_last_commit_date: 2025-10-29 10:50:47 -0500
kjohnson3macOS 13.7.7 Ventura / arm64  ERROR    ERROR  skippedskipped
Package 3/78HostnameOS / ArchINSTALLBUILDCHECKBUILD BIN
AnnotationHub 4.1.0  (landing page)
Bioconductor Package Maintainer
git_last_commit: 027c4b7
git_last_commit_date: 2025-10-29 10:14:23 -0500
kjohnson3macOS 13.7.7 Ventura / arm64  OK    OK    ERROR    OK  
Package 4/78HostnameOS / ArchINSTALLBUILDCHECKBUILD BIN
atSNP 1.27.0  (landing page)
Sunyoung Shin
git_last_commit: 0b80e8a
git_last_commit_date: 2025-10-29 10:50:02 -0500
kjohnson3macOS 13.7.7 Ventura / arm64  OK    OK    OK    OK  YES
Package 5/78HostnameOS / ArchINSTALLBUILDCHECKBUILD BIN
autonomics 1.19.0  (landing page)
Aditya Bhagwat
git_last_commit: 9fc1276
git_last_commit_date: 2025-10-29 11:06:51 -0500
kjohnson3macOS 13.7.7 Ventura / arm64  ERROR    ERROR  skippedskipped
Package 6/78HostnameOS / ArchINSTALLBUILDCHECKBUILD BIN
BayesSpace 1.21.0  (landing page)
Senbai Kang
git_last_commit: 47c1795
git_last_commit_date: 2025-10-29 11:03:05 -0500
kjohnson3macOS 13.7.7 Ventura / arm64  ERROR    ERROR  skippedskipped
Package 7/78HostnameOS / ArchINSTALLBUILDCHECKBUILD BIN
bedbaser 1.3.0  (landing page)
Andres Wokaty
git_last_commit: c5c189a
git_last_commit_date: 2025-10-29 11:34:32 -0500
kjohnson3macOS 13.7.7 Ventura / arm64  OK    OK    OK    OK  NO, package depends on 'GenomicRanges' which is only available as a source package that needs compilation
Package 8/78HostnameOS / ArchINSTALLBUILDCHECKBUILD BIN
BiocCheck 1.47.1  (landing page)
Marcel Ramos
git_last_commit: 202c10d
git_last_commit_date: 2025-11-04 13:37:35 -0500
kjohnson3macOS 13.7.7 Ventura / arm64  OK    OK    OK    OK  YES
Package 9/78HostnameOS / ArchINSTALLBUILDCHECKBUILD BIN
BiocPkgTools 1.29.0  (landing page)
Sean Davis
git_last_commit: a2f816c
git_last_commit_date: 2025-10-29 10:47:30 -0500
kjohnson3macOS 13.7.7 Ventura / arm64  OK    ERROR  skippedskipped
Package 10/78HostnameOS / ArchINSTALLBUILDCHECKBUILD BIN
biomaRt 2.67.0  (landing page)
Hugo Gruson
git_last_commit: 1c6179c
git_last_commit_date: 2025-10-29 09:56:01 -0500
kjohnson3macOS 13.7.7 Ventura / arm64  OK    OK    OK    OK  YES
Package 11/78HostnameOS / ArchINSTALLBUILDCHECKBUILD BIN
brendaDb 1.25.0  (landing page)
Yi Zhou
git_last_commit: 171bc74
git_last_commit_date: 2025-10-29 10:53:47 -0500
kjohnson3macOS 13.7.7 Ventura / arm64  OK    OK    OK    OK  YES
Package 12/78HostnameOS / ArchINSTALLBUILDCHECKBUILD BIN
bugsigdbr 1.17.0  (landing page)
Ludwig Geistlinger
git_last_commit: 5a6fb55
git_last_commit_date: 2025-10-29 11:11:42 -0500
kjohnson3macOS 13.7.7 Ventura / arm64  OK    OK    OK    OK  YES
Package 13/78HostnameOS / ArchINSTALLBUILDCHECKBUILD BIN
BulkSignalR 1.3.1  (landing page)
Jean-Philippe Villemin
git_last_commit: e236c5a
git_last_commit_date: 2025-11-08 17:09:36 -0500
kjohnson3macOS 13.7.7 Ventura / arm64  OK    OK    OK    ERROR  
Package 14/78HostnameOS / ArchINSTALLBUILDCHECKBUILD BIN
cbaf 1.33.0  (landing page)
Arman Shahrisa
git_last_commit: a0e1959
git_last_commit_date: 2025-10-29 10:41:05 -0500
kjohnson3macOS 13.7.7 Ventura / arm64  OK    OK    OK    OK  NO, package depends on 'cBioPortalData' which is not available
Package 15/78HostnameOS / ArchINSTALLBUILDCHECKBUILD BIN
cBioPortalData 2.23.2  (landing page)
Marcel Ramos
git_last_commit: 0773368
git_last_commit_date: 2025-11-07 13:23:07 -0500
kjohnson3macOS 13.7.7 Ventura / arm64  OK    OK    OK    OK  NO, package depends on 'GenomicRanges' which is only available as a source package that needs compilation
Package 16/78HostnameOS / ArchINSTALLBUILDCHECKBUILD BIN
CBNplot 1.11.0  (landing page)
Noriaki Sato
git_last_commit: a7bbf54
git_last_commit_date: 2025-10-29 11:22:40 -0500
kjohnson3macOS 13.7.7 Ventura / arm64  OK    OK    OK    OK  YES
Package 17/78HostnameOS / ArchINSTALLBUILDCHECKBUILD BIN
CellBench 1.27.0  (landing page)
Shian Su
git_last_commit: ecbe643
git_last_commit_date: 2025-10-29 10:50:23 -0500
kjohnson3macOS 13.7.7 Ventura / arm64  OK    OK    OK    OK  YES
Package 18/78HostnameOS / ArchINSTALLBUILDCHECKBUILD BIN
CTDquerier 2.19.0  (landing page)
Xavier EscribĂ -Montagut
git_last_commit: 7edaaa1
git_last_commit_date: 2025-10-29 11:06:54 -0500
kjohnson3macOS 13.7.7 Ventura / arm64  OK    OK    WARNINGS    OK  YES
Package 19/78HostnameOS / ArchINSTALLBUILDCHECKBUILD BIN
customCMPdb 1.21.0  (landing page)
Yuzhu Duan
git_last_commit: 5a0a0a6
git_last_commit_date: 2025-10-29 11:03:08 -0500
kjohnson3macOS 13.7.7 Ventura / arm64  OK    OK    OK    OK  NO, package depends on 'AnnotationHub' which is only available as a source package that needs compilation
Package 20/78HostnameOS / ArchINSTALLBUILDCHECKBUILD BIN
CytoPipeline 1.11.0  (landing page)
Philippe Hauchamps
git_last_commit: 54ed268
git_last_commit_date: 2025-10-29 11:20:49 -0500
kjohnson3macOS 13.7.7 Ventura / arm64  ERROR    ERROR  skippedskipped
Package 21/78HostnameOS / ArchINSTALLBUILDCHECKBUILD BIN
DeconvoBuddies 1.3.0  (landing page)
Louise Huuki-Myers
git_last_commit: a72d7d5
git_last_commit_date: 2025-10-29 11:35:32 -0500
kjohnson3macOS 13.7.7 Ventura / arm64  ERROR    ERROR  skippedskipped
Package 22/78HostnameOS / ArchINSTALLBUILDCHECKBUILD BIN
drugTargetInteractions 1.19.0  (landing page)
Thomas Girke
git_last_commit: a35b336
git_last_commit_date: 2025-10-29 11:07:31 -0500
kjohnson3macOS 13.7.7 Ventura / arm64  OK    OK    OK    OK  YES
Package 23/78HostnameOS / ArchINSTALLBUILDCHECKBUILD BIN
easylift 1.9.0  (landing page)
Abdullah Al Nahid
git_last_commit: d7927b5
git_last_commit_date: 2025-10-29 11:25:08 -0500
kjohnson3macOS 13.7.7 Ventura / arm64  OK    OK    OK    OK  NO, package depends on 'GenomicRanges' which is only available as a source package that needs compilation
Package 24/78HostnameOS / ArchINSTALLBUILDCHECKBUILD BIN
easyRNASeq 2.47.0  (landing page)
Nicolas Delhomme
git_last_commit: 1cb9a73
git_last_commit_date: 2025-10-29 10:10:00 -0500
kjohnson3macOS 13.7.7 Ventura / arm64  ERROR    ERROR  skippedskipped
Package 25/78HostnameOS / ArchINSTALLBUILDCHECKBUILD BIN
enhancerHomologSearch 1.17.0  (landing page)
Jianhong Ou
git_last_commit: aec9810
git_last_commit_date: 2025-10-29 11:11:19 -0500
kjohnson3macOS 13.7.7 Ventura / arm64  OK    OK    OK    OK  NO, package depends on 'GenomicRanges' which is only available as a source package that needs compilation
Package 26/78HostnameOS / ArchINSTALLBUILDCHECKBUILD BIN
EnMCB 1.23.0  (landing page)
Xin Yu
git_last_commit: 8ef58ef
git_last_commit_date: 2025-10-29 10:56:09 -0500
kjohnson3macOS 13.7.7 Ventura / arm64  OK    OK    ERROR    OK  
Package 27/78HostnameOS / ArchINSTALLBUILDCHECKBUILD BIN
EnrichmentBrowser 2.41.0  (landing page)
Ludwig Geistlinger
git_last_commit: eb4505a
git_last_commit_date: 2025-10-29 10:21:30 -0500
kjohnson3macOS 13.7.7 Ventura / arm64  ERROR    ERROR  skippedskipped
Package 28/78HostnameOS / ArchINSTALLBUILDCHECKBUILD BIN
EpiTxDb 1.23.0  (landing page)
Felix G.M. Ernst
git_last_commit: 23585ca
git_last_commit_date: 2025-10-29 10:57:35 -0500
kjohnson3macOS 13.7.7 Ventura / arm64  ERROR    ERROR  skippedskipped
Package 29/78HostnameOS / ArchINSTALLBUILDCHECKBUILD BIN
ExperimentHub 3.1.0  (landing page)
Bioconductor Package Maintainer
git_last_commit: 9d5eefe
git_last_commit_date: 2025-10-29 10:30:19 -0500
kjohnson3macOS 13.7.7 Ventura / arm64  OK    OK    WARNINGS    OK  NO, package depends on 'AnnotationHub' which is only available as a source package that needs compilation
Package 30/78HostnameOS / ArchINSTALLBUILDCHECKBUILD BIN
fenr 1.9.0  (landing page)
Marek Gierlinski
git_last_commit: 86128b1
git_last_commit_date: 2025-10-29 11:25:52 -0500
kjohnson3macOS 13.7.7 Ventura / arm64  OK    OK    OK    OK  YES
Package 31/78HostnameOS / ArchINSTALLBUILDCHECKBUILD BIN
fgga 1.19.0  (landing page)
Flavio Spetale
git_last_commit: dbdfaea
git_last_commit_date: 2025-10-29 11:09:03 -0500
kjohnson3macOS 13.7.7 Ventura / arm64  OK    OK    OK    OK  YES
Package 32/78HostnameOS / ArchINSTALLBUILDCHECKBUILD BIN
GeDi 1.7.0  (landing page)
Annekathrin Nedwed
git_last_commit: 5d8ba6c
git_last_commit_date: 2025-10-29 11:29:41 -0500
kjohnson3macOS 13.7.7 Ventura / arm64  OK    OK    ERROR    OK  
Package 33/78HostnameOS / ArchINSTALLBUILDCHECKBUILD BIN
GenomicScores 2.23.0  (landing page)
Robert Castelo
git_last_commit: fce182e
git_last_commit_date: 2025-10-29 10:38:07 -0500
kjohnson3macOS 13.7.7 Ventura / arm64  ERROR    ERROR  skippedskipped
Package 34/78HostnameOS / ArchINSTALLBUILDCHECKBUILD BIN
GenomicSuperSignature 1.19.0  (landing page)
Sehyun Oh
git_last_commit: 7a9c399
git_last_commit_date: 2025-10-29 11:09:57 -0500
kjohnson3macOS 13.7.7 Ventura / arm64  OK    OK    ERROR    OK  
Package 35/78HostnameOS / ArchINSTALLBUILDCHECKBUILD BIN
ggkegg 1.9.0  (landing page)
Noriaki Sato
git_last_commit: cfbc2f3
git_last_commit_date: 2025-10-29 11:24:48 -0500
kjohnson3macOS 13.7.7 Ventura / arm64  OK    OK    OK    OK  YES
Package 36/78HostnameOS / ArchINSTALLBUILDCHECKBUILD BIN
GSEABenchmarkeR 1.31.0  (landing page)
Ludwig Geistlinger
git_last_commit: 129d655
git_last_commit_date: 2025-10-29 10:44:06 -0500
kjohnson3macOS 13.7.7 Ventura / arm64  ERROR    ERROR  skippedskipped
Package 37/78HostnameOS / ArchINSTALLBUILDCHECKBUILD BIN
gwascat 2.43.0  (landing page)
VJ Carey
git_last_commit: ec24f27
git_last_commit_date: 2025-10-29 10:10:23 -0500
kjohnson3macOS 13.7.7 Ventura / arm64  OK    OK    OK    OK  NO, package depends on 'GenomicRanges' which is only available as a source package that needs compilation
Package 38/78HostnameOS / ArchINSTALLBUILDCHECKBUILD BIN
hca 1.19.0  (landing page)
Martin Morgan
git_last_commit: dfd1518
git_last_commit_date: 2025-10-29 11:06:33 -0500
kjohnson3macOS 13.7.7 Ventura / arm64  OK    ERROR  skippedskipped
Package 39/78HostnameOS / ArchINSTALLBUILDCHECKBUILD BIN
iSEEindex 1.9.0  (landing page)
Kevin Rue-Albrecht
git_last_commit: 8de1724
git_last_commit_date: 2025-10-29 11:23:59 -0500
kjohnson3macOS 13.7.7 Ventura / arm64  OK    OK    ERROR    OK  
Package 40/78HostnameOS / ArchINSTALLBUILDCHECKBUILD BIN
MBQN 2.23.0  (landing page)
Eva Brombacher
git_last_commit: 6c11f8c
git_last_commit_date: 2025-10-29 10:55:13 -0500
kjohnson3macOS 13.7.7 Ventura / arm64  OK    OK    OK    OK  YES
Package 41/78HostnameOS / ArchINSTALLBUILDCHECKBUILD BIN
MIRit 1.7.1  (landing page)
Jacopo Ronchi
git_last_commit: a0208d2
git_last_commit_date: 2025-11-05 08:05:07 -0500
kjohnson3macOS 13.7.7 Ventura / arm64  ERROR    ERROR  skippedskipped
Package 42/78HostnameOS / ArchINSTALLBUILDCHECKBUILD BIN
motifbreakR 2.25.0  (landing page)
Simon Gert Coetzee
git_last_commit: 21e6965
git_last_commit_date: 2025-10-29 10:27:43 -0500
kjohnson3macOS 13.7.7 Ventura / arm64  OK    ERROR  skippedskipped
Package 43/78HostnameOS / ArchINSTALLBUILDCHECKBUILD BIN
MotifPeeker 1.3.0  (landing page)
Hiranyamaya Dash
git_last_commit: fc93dac
git_last_commit_date: 2025-10-29 11:33:15 -0500
kjohnson3macOS 13.7.7 Ventura / arm64  OK    OK    OK    OK  NO, package depends on 'GenomicRanges' which is only available as a source package that needs compilation
Package 44/78HostnameOS / ArchINSTALLBUILDCHECKBUILD BIN
MsBackendMetaboLights 1.5.1  (landing page)
Johannes Rainer
git_last_commit: d9f698a
git_last_commit_date: 2025-11-04 02:35:39 -0500
kjohnson3macOS 13.7.7 Ventura / arm64  OK    ERROR  skippedskipped
Package 45/78HostnameOS / ArchINSTALLBUILDCHECKBUILD BIN
OmicsMLRepoR 1.5.0  (landing page)
Sehyun Oh
git_last_commit: a6fb0be
git_last_commit_date: 2025-10-29 11:32:50 -0500
kjohnson3macOS 13.7.7 Ventura / arm64  OK    OK    OK    OK  NO, package depends on 'rols' which is not available
Package 46/78HostnameOS / ArchINSTALLBUILDCHECKBUILD BIN
ontoProc 2.5.0  (landing page)
Vincent Carey
git_last_commit: a09f239
git_last_commit_date: 2025-10-29 19:20:08 -0500
kjohnson3macOS 13.7.7 Ventura / arm64  OK    ERROR  skippedskipped
Package 47/78HostnameOS / ArchINSTALLBUILDCHECKBUILD BIN
ORFik 1.31.0  (landing page)
Haakon Tjeldnes
git_last_commit: 1c0375d
git_last_commit_date: 2025-10-29 10:45:22 -0500
kjohnson3macOS 13.7.7 Ventura / arm64  OK    OK    OK    OK  NO, package depends on 'GenomicRanges' which is only available as a source package that needs compilation
Package 48/78HostnameOS / ArchINSTALLBUILDCHECKBUILD BIN
Organism.dplyr 1.39.0  (landing page)
Martin Morgan
git_last_commit: 538153f
git_last_commit_date: 2025-10-29 10:37:10 -0500
kjohnson3macOS 13.7.7 Ventura / arm64  OK    OK    ERROR    OK  
Package 49/78HostnameOS / ArchINSTALLBUILDCHECKBUILD BIN
OSTA.data 1.3.0  (landing page)
Yixing E. Dong
git_last_commit: e225783
git_last_commit_date: 2025-10-29 11:34:45 -0500
kjohnson3macOS 13.7.7 Ventura / arm64  OK    ERROR  skippedskipped
Package 50/78HostnameOS / ArchINSTALLBUILDCHECKBUILD BIN
PhIPData 1.19.0  (landing page)
Athena Chen
git_last_commit: 82391da
git_last_commit_date: 2025-10-29 11:06:46 -0500
kjohnson3macOS 13.7.7 Ventura / arm64  ERROR    ERROR  skippedskipped
Package 51/78HostnameOS / ArchINSTALLBUILDCHECKBUILD BIN
PMScanR 1.1.0  (landing page)
Jan Pawel Jastrzebski
git_last_commit: 1e526c3
git_last_commit_date: 2025-10-29 11:38:20 -0500
kjohnson3macOS 13.7.7 Ventura / arm64  OK    OK    OK    OK  NO, package depends on 'rtracklayer' which is only available as a source package that needs compilation
Package 52/78HostnameOS / ArchINSTALLBUILDCHECKBUILD BIN
psichomics 1.37.0  (landing page)
Nuno Saraiva-Agostinho
git_last_commit: a7c8792
git_last_commit_date: 2025-10-29 10:35:05 -0500
kjohnson3macOS 13.7.7 Ventura / arm64  ERROR    ERROR  skippedskipped
Package 53/78HostnameOS / ArchINSTALLBUILDCHECKBUILD BIN
rBLAST 1.7.0  (landing page)
Michael Hahsler
git_last_commit: dcc0f85
git_last_commit_date: 2025-10-29 11:29:56 -0500
kjohnson3macOS 13.7.7 Ventura / arm64  OK    OK    OK    OK  YES
Package 54/78HostnameOS / ArchINSTALLBUILDCHECKBUILD BIN
RcwlPipelines 1.27.0  (landing page)
Qiang Hu
git_last_commit: d418067
git_last_commit_date: 2025-10-29 10:50:42 -0500
kjohnson3macOS 13.7.7 Ventura / arm64  OK    OK    OK    OK  YES
Package 55/78HostnameOS / ArchINSTALLBUILDCHECKBUILD BIN
recount3 1.21.0  (landing page)
Leonardo Collado-Torres
git_last_commit: 2b63576
git_last_commit_date: 2025-10-29 11:03:22 -0500
kjohnson3macOS 13.7.7 Ventura / arm64  OK    OK    OK    OK  NO, package depends on 'rtracklayer' which is only available as a source package that needs compilation
Package 56/78HostnameOS / ArchINSTALLBUILDCHECKBUILD BIN
recountmethylation 1.21.0  (landing page)
Sean K Maden
git_last_commit: 7346a8e
git_last_commit_date: 2025-10-29 11:01:55 -0500
kjohnson3macOS 13.7.7 Ventura / arm64  ERROR    ERROR  skippedskipped
Package 57/78HostnameOS / ArchINSTALLBUILDCHECKBUILD BIN
regutools 1.23.0  (landing page)
Joselyn Chavez
git_last_commit: a894ec8
git_last_commit_date: 2025-10-29 10:59:10 -0500
kjohnson3macOS 13.7.7 Ventura / arm64  OK    OK    OK    OK  NO, package depends on 'AnnotationHub' which is only available as a source package that needs compilation
Package 58/78HostnameOS / ArchINSTALLBUILDCHECKBUILD BIN
ReUseData 1.11.0  (landing page)
Qian Liu
git_last_commit: 4a5d06b
git_last_commit_date: 2025-10-29 11:20:44 -0500
kjohnson3macOS 13.7.7 Ventura / arm64  OK    ERROR  skippedskipped
Package 59/78HostnameOS / ArchINSTALLBUILDCHECKBUILD BIN
RiboDiPA 1.19.0  (landing page)
Ji-Ping Wang
git_last_commit: 2487cc4
git_last_commit_date: 2025-10-29 11:05:49 -0500
kjohnson3macOS 13.7.7 Ventura / arm64  OK    OK    OK    OK  NO, package depends on 'Rsamtools' which is only available as a source package that needs compilation
Package 60/78HostnameOS / ArchINSTALLBUILDCHECKBUILD BIN
rpx 2.19.0  (landing page)
Laurent Gatto
git_last_commit: 70deff4
git_last_commit_date: 2025-10-29 10:18:32 -0500
kjohnson3macOS 13.7.7 Ventura / arm64  OK    OK    OK    OK  YES
Package 61/78HostnameOS / ArchINSTALLBUILDCHECKBUILD BIN
scviR 1.11.0  (landing page)
Vincent Carey
git_last_commit: 4329942
git_last_commit_date: 2025-10-29 11:21:42 -0500
kjohnson3macOS 13.7.7 Ventura / arm64  OK    TIMEOUT  skippedskipped
Package 62/78HostnameOS / ArchINSTALLBUILDCHECKBUILD BIN
sesame 1.29.0  (landing page)
Wanding Zhou
git_last_commit: 92283cb
git_last_commit_date: 2025-10-29 10:46:05 -0500
kjohnson3macOS 13.7.7 Ventura / arm64  OK    ERROR  skippedskipped
Package 63/78HostnameOS / ArchINSTALLBUILDCHECKBUILD BIN
signeR 2.13.0  (landing page)
Renan Valieris
git_last_commit: 54b8b4d
git_last_commit_date: 2025-10-29 10:34:16 -0500
kjohnson3macOS 13.7.7 Ventura / arm64  OK    OK    OK    OK  NO, package depends on 'GenomicRanges' which is only available as a source package that needs compilation
Package 64/78HostnameOS / ArchINSTALLBUILDCHECKBUILD BIN
spacexr 1.3.0  (landing page)
Gabriel Grajeda
git_last_commit: ea2a493
git_last_commit_date: 2025-10-29 11:35:40 -0500
kjohnson3macOS 13.7.7 Ventura / arm64  OK    OK    OK    OK  YES
Package 65/78HostnameOS / ArchINSTALLBUILDCHECKBUILD BIN
SpatialExperiment 1.21.0  (landing page)
Dario Righelli
git_last_commit: 0414e3b
git_last_commit_date: 2025-10-29 11:00:55 -0500
kjohnson3macOS 13.7.7 Ventura / arm64  OK    ERROR  skippedskipped
Package 66/78HostnameOS / ArchINSTALLBUILDCHECKBUILD BIN
SpatialOmicsOverlay 1.11.0  (landing page)
Maddy Griswold
git_last_commit: 5b92d66
git_last_commit_date: 2025-10-29 11:22:27 -0500
kjohnson3macOS 13.7.7 Ventura / arm64  OK    OK    OK    OK  YES
Package 67/78HostnameOS / ArchINSTALLBUILDCHECKBUILD BIN
SpliceWiz 1.13.0  (landing page)
Alex Chit Hei Wong
git_last_commit: 73b017a
git_last_commit_date: 2025-10-29 11:17:35 -0500
kjohnson3macOS 13.7.7 Ventura / arm64  ERROR    ERROR  skippedskipped
Package 68/78HostnameOS / ArchINSTALLBUILDCHECKBUILD BIN
SurfR 1.7.0  (landing page)
Aurora Maurizio
git_last_commit: 90bbf06
git_last_commit_date: 2025-10-29 11:27:44 -0500
kjohnson3macOS 13.7.7 Ventura / arm64  ERROR    ERROR  skippedskipped
Package 69/78HostnameOS / ArchINSTALLBUILDCHECKBUILD BIN
tenXplore 1.33.0  (landing page)
VJ Carey
git_last_commit: 5fe43eb
git_last_commit_date: 2025-10-29 10:42:05 -0500
kjohnson3macOS 13.7.7 Ventura / arm64  OK    OK    OK    OK  YES
Package 70/78HostnameOS / ArchINSTALLBUILDCHECKBUILD BIN
terraTCGAdata 1.15.1  (landing page)
Marcel Ramos
git_last_commit: 0a9bb05
git_last_commit_date: 2025-11-10 14:12:00 -0500
kjohnson3macOS 13.7.7 Ventura / arm64  OK    ERROR  skippedskipped
Package 71/78HostnameOS / ArchINSTALLBUILDCHECKBUILD BIN
TFutils 1.31.0  (landing page)
Vincent Carey
git_last_commit: 775ebfc
git_last_commit_date: 2025-10-29 10:44:40 -0500
kjohnson3macOS 13.7.7 Ventura / arm64  OK    OK    OK    OK  NO, package depends on 'Rsamtools' which is only available as a source package that needs compilation
Package 72/78HostnameOS / ArchINSTALLBUILDCHECKBUILD BIN
tomoseqr 1.15.0  (landing page)
Ryosuke Matsuzawa
git_last_commit: 5f3f9ac
git_last_commit_date: 2025-10-29 11:16:02 -0500
kjohnson3macOS 13.7.7 Ventura / arm64  OK    OK    OK    OK  YES
Package 73/78HostnameOS / ArchINSTALLBUILDCHECKBUILD BIN
tximeta 1.29.0  (landing page)
Michael Love
git_last_commit: 43586e1
git_last_commit_date: 2025-10-29 10:47:17 -0500
kjohnson3macOS 13.7.7 Ventura / arm64  OK    ERROR  skippedskipped
Package 74/78HostnameOS / ArchINSTALLBUILDCHECKBUILD BIN
UMI4Cats 1.21.0  (landing page)
Mireia Ramos-Rodriguez
git_last_commit: f049a0a
git_last_commit_date: 2025-10-29 11:01:19 -0500
kjohnson3macOS 13.7.7 Ventura / arm64  OK    OK    OK    OK  NO, package depends on 'GenomicRanges' which is only available as a source package that needs compilation
Package 75/78HostnameOS / ArchINSTALLBUILDCHECKBUILD BIN
uncoverappLib 1.21.0  (landing page)
Emanuela Iovino
git_last_commit: 99c7088
git_last_commit_date: 2025-10-29 11:01:16 -0500
kjohnson3macOS 13.7.7 Ventura / arm64  OK    OK    OK    OK  NO, package depends on 'Rsamtools' which is only available as a source package that needs compilation
Package 76/78HostnameOS / ArchINSTALLBUILDCHECKBUILD BIN
UniProt.ws 2.51.0  (landing page)
Marcel Ramos
git_last_commit: 0cc8c13
git_last_commit_date: 2025-10-29 10:12:47 -0500
kjohnson3macOS 13.7.7 Ventura / arm64  OK    OK    OK    OK  YES
Package 77/78HostnameOS / ArchINSTALLBUILDCHECKBUILD BIN
waddR 1.25.0  (landing page)
Julian Flesch
git_last_commit: e6c53eb
git_last_commit_date: 2025-10-29 10:55:06 -0500
kjohnson3macOS 13.7.7 Ventura / arm64  OK    ERROR  skippedskipped
Package 78/78HostnameOS / ArchINSTALLBUILDCHECKBUILD BIN
xenLite 1.5.0  (landing page)
Vincent Carey
git_last_commit: 504f4e0
git_last_commit_date: 2025-10-29 11:31:51 -0500
kjohnson3macOS 13.7.7 Ventura / arm64  ERROR    ERROR  skippedskipped