| Back to Multiple platform build/check report for BioC 3.22: simplified long |
|
This page was generated on 2025-10-24 12:07 -0400 (Fri, 24 Oct 2025).
| Hostname | OS | Arch (*) | R version | Installed pkgs |
|---|---|---|---|---|
| nebbiolo2 | Linux (Ubuntu 24.04.3 LTS) | x86_64 | 4.5.1 Patched (2025-08-23 r88802) -- "Great Square Root" | 4898 |
| lconway | macOS 12.7.6 Monterey | x86_64 | 4.5.1 Patched (2025-09-10 r88807) -- "Great Square Root" | 4688 |
| kjohnson3 | macOS 13.7.7 Ventura | arm64 | 4.5.1 Patched (2025-09-10 r88807) -- "Great Square Root" | 4634 |
| taishan | Linux (openEuler 24.03 LTS) | aarch64 | 4.5.0 (2025-04-11) -- "How About a Twenty-Six" | 4658 |
| Click on any hostname to see more info about the system (e.g. compilers) (*) as reported by 'uname -p', except on Windows and Mac OS X | ||||
| Package 2241/2359 | Hostname | OS / Arch | INSTALL | BUILD | CHECK | BUILD BIN | ||||||||
| trackViewer 1.45.2 (landing page) Jianhong Ou
| nebbiolo2 | Linux (Ubuntu 24.04.3 LTS) / x86_64 | OK | OK | OK | |||||||||
| lconway | macOS 12.7.6 Monterey / x86_64 | OK | OK | OK | OK | |||||||||
| kjohnson3 | macOS 13.7.7 Ventura / arm64 | OK | OK | OK | OK | |||||||||
| taishan | Linux (openEuler 24.03 LTS) / aarch64 | OK | OK | NA | ||||||||||
|
To the developers/maintainers of the trackViewer package: - Allow up to 24 hours (and sometimes 48 hours) for your latest push to git@git.bioconductor.org:packages/trackViewer.git to reflect on this report. See Troubleshooting Build Report for more information. - Use the following Renviron settings to reproduce errors and warnings. - If 'R CMD check' started to fail recently on the Linux builder(s) over a missing dependency, add the missing dependency to 'Suggests:' in your DESCRIPTION file. See Renviron.bioc for more information. |
| Package: trackViewer |
| Version: 1.45.2 |
| Command: /Library/Frameworks/R.framework/Resources/bin/R CMD check --install=check:trackViewer.install-out.txt --library=/Library/Frameworks/R.framework/Resources/library --no-vignettes --timings trackViewer_1.45.2.tar.gz |
| StartedAt: 2025-10-23 22:39:45 -0400 (Thu, 23 Oct 2025) |
| EndedAt: 2025-10-23 22:43:11 -0400 (Thu, 23 Oct 2025) |
| EllapsedTime: 206.4 seconds |
| RetCode: 0 |
| Status: OK |
| CheckDir: trackViewer.Rcheck |
| Warnings: 0 |
##############################################################################
##############################################################################
###
### Running command:
###
### /Library/Frameworks/R.framework/Resources/bin/R CMD check --install=check:trackViewer.install-out.txt --library=/Library/Frameworks/R.framework/Resources/library --no-vignettes --timings trackViewer_1.45.2.tar.gz
###
##############################################################################
##############################################################################
* using log directory ‘/Users/biocbuild/bbs-3.22-bioc/meat/trackViewer.Rcheck’
* using R version 4.5.1 Patched (2025-09-10 r88807)
* using platform: aarch64-apple-darwin20
* R was compiled by
Apple clang version 16.0.0 (clang-1600.0.26.6)
GNU Fortran (GCC) 14.2.0
* running under: macOS Ventura 13.7.7
* using session charset: UTF-8
* using option ‘--no-vignettes’
* checking for file ‘trackViewer/DESCRIPTION’ ... OK
* checking extension type ... Package
* this is package ‘trackViewer’ version ‘1.45.2’
* package encoding: UTF-8
* checking package namespace information ... OK
* checking package dependencies ... OK
* checking if this is a source package ... OK
* checking if there is a namespace ... OK
* checking for hidden files and directories ... OK
* checking for portable file names ... OK
* checking for sufficient/correct file permissions ... OK
* checking whether package ‘trackViewer’ can be installed ... OK
* checking installed package size ... OK
* checking package directory ... OK
* checking ‘build’ directory ... OK
* checking DESCRIPTION meta-information ... OK
* checking top-level files ... OK
* checking for left-over files ... OK
* checking index information ... OK
* checking package subdirectories ... OK
* checking code files for non-ASCII characters ... OK
* checking R files for syntax errors ... OK
* checking whether the package can be loaded ... OK
* checking whether the package can be loaded with stated dependencies ... OK
* checking whether the package can be unloaded cleanly ... OK
* checking whether the namespace can be loaded with stated dependencies ... OK
* checking whether the namespace can be unloaded cleanly ... OK
* checking dependencies in R code ... OK
* checking S3 generic/method consistency ... OK
* checking replacement functions ... OK
* checking foreign function calls ... OK
* checking R code for possible problems ... OK
* checking Rd files ... OK
* checking Rd metadata ... OK
* checking Rd cross-references ... NOTE
Found the following Rd file(s) with Rd \link{} targets missing package
anchors:
importGInteractions.Rd: readHicNormTypes
Please provide package anchors for all Rd \link{} targets not in the
package itself and the base packages.
* checking for missing documentation entries ... OK
* checking for code/documentation mismatches ... OK
* checking Rd \usage sections ... OK
* checking Rd contents ... OK
* checking for unstated dependencies in examples ... OK
* checking files in ‘vignettes’ ... OK
* checking examples ... OK
Examples with CPU (user + system) or elapsed time > 5s
user system elapsed
trackViewer-package 10.197 0.113 10.315
geneModelFromTxdb 6.713 0.115 6.833
viewTracks 5.717 0.041 5.824
viewGene 5.360 0.102 5.467
browseTracks 5.240 0.033 5.336
parseWIG 4.945 0.022 5.028
* checking for unstated dependencies in ‘tests’ ... OK
* checking tests ...
Running ‘runTests.R’
OK
* checking for unstated dependencies in vignettes ... OK
* checking package vignettes ... OK
* checking running R code from vignettes ... SKIPPED
* checking re-building of vignette outputs ... SKIPPED
* checking PDF version of manual ... OK
* DONE
Status: 1 NOTE
See
‘/Users/biocbuild/bbs-3.22-bioc/meat/trackViewer.Rcheck/00check.log’
for details.
trackViewer.Rcheck/00install.out
############################################################################## ############################################################################## ### ### Running command: ### ### /Library/Frameworks/R.framework/Resources/bin/R CMD INSTALL trackViewer ### ############################################################################## ############################################################################## * installing to library ‘/Library/Frameworks/R.framework/Versions/4.5-arm64/Resources/library’ * installing *source* package ‘trackViewer’ ... ** this is package ‘trackViewer’ version ‘1.45.2’ ** using staged installation ** R ** inst ** byte-compile and prepare package for lazy loading ** help *** installing help indices ** building package indices ** installing vignettes ** testing if installed package can be loaded from temporary location ** testing if installed package can be loaded from final location ** testing if installed package keeps a record of temporary installation path * DONE (trackViewer)
trackViewer.Rcheck/tests/runTests.Rout
R version 4.5.1 Patched (2025-09-10 r88807) -- "Great Square Root"
Copyright (C) 2025 The R Foundation for Statistical Computing
Platform: aarch64-apple-darwin20
R is free software and comes with ABSOLUTELY NO WARRANTY.
You are welcome to redistribute it under certain conditions.
Type 'license()' or 'licence()' for distribution details.
R is a collaborative project with many contributors.
Type 'contributors()' for more information and
'citation()' on how to cite R or R packages in publications.
Type 'demo()' for some demos, 'help()' for on-line help, or
'help.start()' for an HTML browser interface to help.
Type 'q()' to quit R.
> require("trackViewer") || stop("unable to load Package:trackViewer")
Loading required package: trackViewer
Loading required package: GenomicRanges
Loading required package: stats4
Loading required package: BiocGenerics
Loading required package: generics
Attaching package: 'generics'
The following objects are masked from 'package:base':
as.difftime, as.factor, as.ordered, intersect, is.element, setdiff,
setequal, union
Attaching package: 'BiocGenerics'
The following objects are masked from 'package:stats':
IQR, mad, sd, var, xtabs
The following objects are masked from 'package:base':
Filter, Find, Map, Position, Reduce, anyDuplicated, aperm, append,
as.data.frame, basename, cbind, colnames, dirname, do.call,
duplicated, eval, evalq, get, grep, grepl, is.unsorted, lapply,
mapply, match, mget, order, paste, pmax, pmax.int, pmin, pmin.int,
rank, rbind, rownames, sapply, saveRDS, table, tapply, unique,
unsplit, which.max, which.min
Loading required package: S4Vectors
Attaching package: 'S4Vectors'
The following object is masked from 'package:utils':
findMatches
The following objects are masked from 'package:base':
I, expand.grid, unname
Loading required package: IRanges
Loading required package: Seqinfo
Loading required package: grid
[1] TRUE
> require("RUnit") || stop("unable to load Package:RUnit")
Loading required package: RUnit
[1] TRUE
> BiocGenerics:::testPackage("trackViewer")
RUNIT TEST PROTOCOL -- Thu Oct 23 22:43:07 2025
***********************************************
Number of test functions: 2
Number of errors: 0
Number of failures: 0
1 Test Suite :
trackViewer RUnit Tests - 2 test functions, 0 errors, 0 failures
Number of test functions: 2
Number of errors: 0
Number of failures: 0
>
> proc.time()
user system elapsed
7.596 0.291 7.955
trackViewer.Rcheck/trackViewer-Ex.timings
| name | user | system | elapsed | |
| ARA | 1.022 | 0.027 | 1.062 | |
| GIoperator | 0.140 | 0.007 | 0.147 | |
| GRoperator | 0.601 | 0.003 | 0.613 | |
| addArrowMark | 0.004 | 0.001 | 0.005 | |
| addGuideLine | 0.001 | 0.000 | 0.001 | |
| addInteractionAnnotation | 0.098 | 0.003 | 0.100 | |
| browseTracks | 5.240 | 0.033 | 5.336 | |
| coverageGR | 0.069 | 0.005 | 0.074 | |
| dandelion.plot | 0.688 | 0.010 | 0.697 | |
| geneModelFromTxdb | 6.713 | 0.115 | 6.833 | |
| geneTrack | 1.954 | 0.413 | 2.397 | |
| getCurTrackViewport | 0.002 | 0.000 | 0.001 | |
| getGeneIDsFromTxDb | 0.828 | 0.025 | 0.854 | |
| getLocation | 1.013 | 0.057 | 1.073 | |
| gi2track | 0.014 | 0.001 | 0.015 | |
| gieStain | 0.002 | 0.000 | 0.002 | |
| ideogramPlot | 0 | 0 | 0 | |
| importBam | 0.094 | 0.001 | 0.095 | |
| importData | 1.407 | 0.029 | 1.436 | |
| importGInteractions | 0.098 | 0.004 | 0.103 | |
| importScSeqScore | 0 | 0 | 0 | |
| importScore | 0.193 | 0.011 | 0.206 | |
| listChromosomes | 0.004 | 0.001 | 0.005 | |
| listNormalizations | 0.004 | 0.001 | 0.005 | |
| listResolutions | 0.001 | 0.000 | 0.002 | |
| loadIdeogram | 0 | 0 | 0 | |
| lolliplot | 0.317 | 0.007 | 0.324 | |
| optimizeStyle | 0.198 | 0.013 | 0.212 | |
| parse2GRanges | 0.003 | 0.000 | 0.003 | |
| parseWIG | 4.945 | 0.022 | 5.028 | |
| plotGRanges | 0.478 | 0.003 | 0.494 | |
| plotIdeo | 0 | 0 | 0 | |
| plotOneIdeo | 0 | 0 | 0 | |
| reduce-GInteractions-method | 0 | 0 | 0 | |
| trackStyle-class | 0.015 | 0.000 | 0.016 | |
| trackViewer-package | 10.197 | 0.113 | 10.315 | |
| trackViewerStyle-class | 0 | 0 | 0 | |
| viewGene | 5.360 | 0.102 | 5.467 | |
| viewTracks | 5.717 | 0.041 | 5.824 | |