| Back to Multiple platform build/check report for BioC 3.22: simplified long | 
 | 
This page was generated on 2025-10-25 12:06 -0400 (Sat, 25 Oct 2025).
| Hostname | OS | Arch (*) | R version | Installed pkgs | 
|---|---|---|---|---|
| nebbiolo2 | Linux (Ubuntu 24.04.3 LTS) | x86_64 | 4.5.1 Patched (2025-08-23 r88802) -- "Great Square Root" | 4901 | 
| lconway | macOS 12.7.6 Monterey | x86_64 | 4.5.1 Patched (2025-09-10 r88807) -- "Great Square Root" | 4691 | 
| kjohnson3 | macOS 13.7.7 Ventura | arm64 | 4.5.1 Patched (2025-09-10 r88807) -- "Great Square Root" | 4637 | 
| taishan | Linux (openEuler 24.03 LTS) | aarch64 | 4.5.0 (2025-04-11) -- "How About a Twenty-Six" | 4658 | 
| Click on any hostname to see more info about the system (e.g. compilers) (*) as reported by 'uname -p', except on Windows and Mac OS X | ||||
| Package 2181/2361 | Hostname | OS / Arch | INSTALL | BUILD | CHECK | BUILD BIN | ||||||||
| tanggle 1.15.3  (landing page) Klaus Schliep 
 | nebbiolo2 | Linux (Ubuntu 24.04.3 LTS) / x86_64 | OK | OK | OK |  | ||||||||
| lconway | macOS 12.7.6 Monterey / x86_64 | OK | OK | OK | OK |  | ||||||||
| kjohnson3 | macOS 13.7.7 Ventura / arm64 | OK | OK | OK | OK |  | ||||||||
| taishan | Linux (openEuler 24.03 LTS) / aarch64 | OK | NA | NA | ||||||||||
| To the developers/maintainers of the tanggle package: - Allow up to 24 hours (and sometimes 48 hours) for your latest push to git@git.bioconductor.org:packages/tanggle.git to reflect on this report. See Troubleshooting Build Report for more information. - Use the following Renviron settings to reproduce errors and warnings. - If 'R CMD check' started to fail recently on the Linux builder(s) over a missing dependency, add the missing dependency to 'Suggests:' in your DESCRIPTION file. See Renviron.bioc for more information. | 
| Package: tanggle | 
| Version: 1.15.3 | 
| Command: /Library/Frameworks/R.framework/Resources/bin/R CMD check --install=check:tanggle.install-out.txt --library=/Library/Frameworks/R.framework/Resources/library --no-vignettes --timings tanggle_1.15.3.tar.gz | 
| StartedAt: 2025-10-24 22:27:13 -0400 (Fri, 24 Oct 2025) | 
| EndedAt: 2025-10-24 22:27:38 -0400 (Fri, 24 Oct 2025) | 
| EllapsedTime: 24.4 seconds | 
| RetCode: 0 | 
| Status: OK | 
| CheckDir: tanggle.Rcheck | 
| Warnings: 0 | 
##############################################################################
##############################################################################
###
### Running command:
###
###   /Library/Frameworks/R.framework/Resources/bin/R CMD check --install=check:tanggle.install-out.txt --library=/Library/Frameworks/R.framework/Resources/library --no-vignettes --timings tanggle_1.15.3.tar.gz
###
##############################################################################
##############################################################################
* using log directory ‘/Users/biocbuild/bbs-3.22-bioc/meat/tanggle.Rcheck’
* using R version 4.5.1 Patched (2025-09-10 r88807)
* using platform: aarch64-apple-darwin20
* R was compiled by
    Apple clang version 16.0.0 (clang-1600.0.26.6)
    GNU Fortran (GCC) 14.2.0
* running under: macOS Ventura 13.7.7
* using session charset: UTF-8
* using option ‘--no-vignettes’
* checking for file ‘tanggle/DESCRIPTION’ ... OK
* checking extension type ... Package
* this is package ‘tanggle’ version ‘1.15.3’
* package encoding: UTF-8
* checking package namespace information ... OK
* checking package dependencies ... OK
* checking if this is a source package ... OK
* checking if there is a namespace ... OK
* checking for hidden files and directories ... OK
* checking for portable file names ... OK
* checking for sufficient/correct file permissions ... OK
* checking whether package ‘tanggle’ can be installed ... OK
* checking installed package size ... OK
* checking package directory ... OK
* checking ‘build’ directory ... OK
* checking DESCRIPTION meta-information ... OK
* checking top-level files ... OK
* checking for left-over files ... OK
* checking index information ... OK
* checking package subdirectories ... OK
* checking code files for non-ASCII characters ... OK
* checking R files for syntax errors ... OK
* checking whether the package can be loaded ... OK
* checking whether the package can be loaded with stated dependencies ... OK
* checking whether the package can be unloaded cleanly ... OK
* checking whether the namespace can be loaded with stated dependencies ... OK
* checking whether the namespace can be unloaded cleanly ... OK
* checking dependencies in R code ... OK
* checking S3 generic/method consistency ... OK
* checking replacement functions ... OK
* checking foreign function calls ... OK
* checking R code for possible problems ... OK
* checking Rd files ... OK
* checking Rd metadata ... OK
* checking Rd cross-references ... OK
* checking for missing documentation entries ... OK
* checking for code/documentation mismatches ... OK
* checking Rd \usage sections ... OK
* checking Rd contents ... OK
* checking for unstated dependencies in examples ... OK
* checking files in ‘vignettes’ ... OK
* checking examples ... OK
* checking for unstated dependencies in ‘tests’ ... OK
* checking tests ...
  Running ‘tinytest.R’
 OK
* checking for unstated dependencies in vignettes ... OK
* checking package vignettes ... OK
* checking running R code from vignettes ... SKIPPED
* checking re-building of vignette outputs ... SKIPPED
* checking PDF version of manual ... OK
* DONE
Status: OK
tanggle.Rcheck/00install.out
############################################################################## ############################################################################## ### ### Running command: ### ### /Library/Frameworks/R.framework/Resources/bin/R CMD INSTALL tanggle ### ############################################################################## ############################################################################## * installing to library ‘/Library/Frameworks/R.framework/Versions/4.5-arm64/Resources/library’ * installing *source* package ‘tanggle’ ... ** this is package ‘tanggle’ version ‘1.15.3’ ** using staged installation ** R ** inst ** byte-compile and prepare package for lazy loading ** help *** installing help indices *** copying figures ** building package indices ** installing vignettes ** testing if installed package can be loaded from temporary location ** testing if installed package can be loaded from final location ** testing if installed package keeps a record of temporary installation path * DONE (tanggle)
tanggle.Rcheck/tests/tinytest.Rout
R version 4.5.1 Patched (2025-09-10 r88807) -- "Great Square Root"
Copyright (C) 2025 The R Foundation for Statistical Computing
Platform: aarch64-apple-darwin20
R is free software and comes with ABSOLUTELY NO WARRANTY.
You are welcome to redistribute it under certain conditions.
Type 'license()' or 'licence()' for distribution details.
R is a collaborative project with many contributors.
Type 'contributors()' for more information and
'citation()' on how to cite R or R packages in publications.
Type 'demo()' for some demos, 'help()' for on-line help, or
'help.start()' for an HTML browser interface to help.
Type 'q()' to quit R.
> if (require("tinytest", quietly=TRUE)){
+     test_package("tanggle")
+ }
Loading required package: ggplot2
Loading required package: ggtree
ggtree v3.99.2 Learn more at https://yulab-smu.top/contribution-tree-data/
Please cite:
Guangchuang Yu.  Data Integration, Manipulation and Visualization of
Phylogenetic Trees (1st edition). Chapman and Hall/CRC. 2022,
doi:10.1201/9781003279242, ISBN: 9781032233574
test_tanggle.R................    0 tests    
Attaching package: 'ape'
The following object is masked from 'package:ggtree':
    rotate
test_tanggle.R................    0 tests    
test_tanggle.R................    0 tests    
test_tanggle.R................    1 tests [0;32mOK[0m 
test_tanggle.R................    1 tests [0;32mOK[0m 
test_tanggle.R................    2 tests [0;32mOK[0m 
test_tanggle.R................    2 tests [0;32mOK[0m 
test_tanggle.R................    2 tests [0;32mOK[0m 
test_tanggle.R................    3 tests [0;32mOK[0m 
test_tanggle.R................    3 tests [0;32mOK[0m 
test_tanggle.R................    3 tests [0;32mOK[0m 
test_tanggle.R................    3 tests [0;32mOK[0m 
test_tanggle.R................    3 tests [0;32mOK[0m 
test_tanggle.R................    4 tests [0;32mOK[0m [0;34m0.5s[0m
All ok, 4 results (0.5s)
> 
> proc.time()
   user  system elapsed 
  1.091   0.081   1.176 
tanggle.Rcheck/tanggle-Ex.timings
| name | user | system | elapsed | |
| geom_splitnet | 0.572 | 0.022 | 0.596 | |
| ggevonet | 0.356 | 0.005 | 0.361 | |
| ggsplitnet | 0.456 | 0.012 | 0.476 | |
| minimize_overlap | 0.358 | 0.003 | 0.362 | |
| node_depth_evonet | 0.087 | 0.001 | 0.088 | |
| swap_hybrid_minor | 0.186 | 0.001 | 0.187 | |