| Back to Multiple platform build/check report for BioC 3.22: simplified long | 
 | 
This page was generated on 2025-10-25 12:06 -0400 (Sat, 25 Oct 2025).
| Hostname | OS | Arch (*) | R version | Installed pkgs | 
|---|---|---|---|---|
| nebbiolo2 | Linux (Ubuntu 24.04.3 LTS) | x86_64 | 4.5.1 Patched (2025-08-23 r88802) -- "Great Square Root" | 4901 | 
| lconway | macOS 12.7.6 Monterey | x86_64 | 4.5.1 Patched (2025-09-10 r88807) -- "Great Square Root" | 4691 | 
| kjohnson3 | macOS 13.7.7 Ventura | arm64 | 4.5.1 Patched (2025-09-10 r88807) -- "Great Square Root" | 4637 | 
| taishan | Linux (openEuler 24.03 LTS) | aarch64 | 4.5.0 (2025-04-11) -- "How About a Twenty-Six" | 4658 | 
| Click on any hostname to see more info about the system (e.g. compilers) (*) as reported by 'uname -p', except on Windows and Mac OS X | ||||
| Package 2067/2361 | Hostname | OS / Arch | INSTALL | BUILD | CHECK | BUILD BIN | ||||||||
| spacexr 1.1.1  (landing page) Gabriel Grajeda 
 | nebbiolo2 | Linux (Ubuntu 24.04.3 LTS) / x86_64 | OK | OK | OK |  | ||||||||
| lconway | macOS 12.7.6 Monterey / x86_64 | OK | OK | OK | OK |  | ||||||||
| kjohnson3 | macOS 13.7.7 Ventura / arm64 | OK | OK | OK | OK |  | ||||||||
| taishan | Linux (openEuler 24.03 LTS) / aarch64 | OK | NA | NA | ||||||||||
| To the developers/maintainers of the spacexr package: - Allow up to 24 hours (and sometimes 48 hours) for your latest push to git@git.bioconductor.org:packages/spacexr.git to reflect on this report. See Troubleshooting Build Report for more information. - Use the following Renviron settings to reproduce errors and warnings. - If 'R CMD check' started to fail recently on the Linux builder(s) over a missing dependency, add the missing dependency to 'Suggests:' in your DESCRIPTION file. See Renviron.bioc for more information. | 
| Package: spacexr | 
| Version: 1.1.1 | 
| Command: /Library/Frameworks/R.framework/Resources/bin/R CMD check --install=check:spacexr.install-out.txt --library=/Library/Frameworks/R.framework/Resources/library --no-vignettes --timings spacexr_1.1.1.tar.gz | 
| StartedAt: 2025-10-24 22:12:56 -0400 (Fri, 24 Oct 2025) | 
| EndedAt: 2025-10-24 22:16:32 -0400 (Fri, 24 Oct 2025) | 
| EllapsedTime: 216.5 seconds | 
| RetCode: 0 | 
| Status: OK | 
| CheckDir: spacexr.Rcheck | 
| Warnings: 0 | 
##############################################################################
##############################################################################
###
### Running command:
###
###   /Library/Frameworks/R.framework/Resources/bin/R CMD check --install=check:spacexr.install-out.txt --library=/Library/Frameworks/R.framework/Resources/library --no-vignettes --timings spacexr_1.1.1.tar.gz
###
##############################################################################
##############################################################################
* using log directory ‘/Users/biocbuild/bbs-3.22-bioc/meat/spacexr.Rcheck’
* using R version 4.5.1 Patched (2025-09-10 r88807)
* using platform: aarch64-apple-darwin20
* R was compiled by
    Apple clang version 16.0.0 (clang-1600.0.26.6)
    GNU Fortran (GCC) 14.2.0
* running under: macOS Ventura 13.7.7
* using session charset: UTF-8
* using option ‘--no-vignettes’
* checking for file ‘spacexr/DESCRIPTION’ ... OK
* checking extension type ... Package
* this is package ‘spacexr’ version ‘1.1.1’
* package encoding: UTF-8
* checking package namespace information ... OK
* checking package dependencies ... OK
* checking if this is a source package ... OK
* checking if there is a namespace ... OK
* checking for hidden files and directories ... OK
* checking for portable file names ... OK
* checking for sufficient/correct file permissions ... OK
* checking whether package ‘spacexr’ can be installed ... OK
* checking installed package size ... OK
* checking package directory ... OK
* checking ‘build’ directory ... OK
* checking DESCRIPTION meta-information ... OK
* checking top-level files ... OK
* checking for left-over files ... OK
* checking index information ... OK
* checking package subdirectories ... OK
* checking code files for non-ASCII characters ... OK
* checking R files for syntax errors ... OK
* checking whether the package can be loaded ... OK
* checking whether the package can be loaded with stated dependencies ... OK
* checking whether the package can be unloaded cleanly ... OK
* checking whether the namespace can be loaded with stated dependencies ... OK
* checking whether the namespace can be unloaded cleanly ... OK
* checking dependencies in R code ... OK
* checking S3 generic/method consistency ... OK
* checking replacement functions ... OK
* checking foreign function calls ... OK
* checking R code for possible problems ... OK
* checking Rd files ... OK
* checking Rd metadata ... OK
* checking Rd cross-references ... OK
* checking for missing documentation entries ... OK
* checking for code/documentation mismatches ... OK
* checking Rd \usage sections ... OK
* checking Rd contents ... OK
* checking for unstated dependencies in examples ... OK
* checking contents of ‘data’ directory ... OK
* checking data for non-ASCII characters ... OK
* checking data for ASCII and uncompressed saves ... OK
* checking files in ‘vignettes’ ... OK
* checking examples ... OK
Examples with CPU (user + system) or elapsed time > 5s
                   user system elapsed
chooseSigmaC     22.155  1.076  23.276
createRctdConfig 17.894  1.031  18.940
runRCTD          17.023  0.972  18.095
fitBulk          16.874  0.843  17.718
createRCTD       16.676  0.998  17.677
fitPixels        16.633  0.968  17.667
* checking for unstated dependencies in ‘tests’ ... OK
* checking tests ...
  Running ‘testthat.R’
 OK
* checking for unstated dependencies in vignettes ... OK
* checking package vignettes ... OK
* checking running R code from vignettes ... SKIPPED
* checking re-building of vignette outputs ... SKIPPED
* checking PDF version of manual ... OK
* DONE
Status: OK
spacexr.Rcheck/00install.out
############################################################################## ############################################################################## ### ### Running command: ### ### /Library/Frameworks/R.framework/Resources/bin/R CMD INSTALL spacexr ### ############################################################################## ############################################################################## * installing to library ‘/Library/Frameworks/R.framework/Versions/4.5-arm64/Resources/library’ * installing *source* package ‘spacexr’ ... ** this is package ‘spacexr’ version ‘1.1.1’ ** using staged installation ** R ** data ** inst ** byte-compile and prepare package for lazy loading ** help *** installing help indices ** building package indices ** installing vignettes ** testing if installed package can be loaded from temporary location ** testing if installed package can be loaded from final location ** testing if installed package keeps a record of temporary installation path * DONE (spacexr)
spacexr.Rcheck/tests/testthat.Rout
R version 4.5.1 Patched (2025-09-10 r88807) -- "Great Square Root"
Copyright (C) 2025 The R Foundation for Statistical Computing
Platform: aarch64-apple-darwin20
R is free software and comes with ABSOLUTELY NO WARRANTY.
You are welcome to redistribute it under certain conditions.
Type 'license()' or 'licence()' for distribution details.
R is a collaborative project with many contributors.
Type 'contributors()' for more information and
'citation()' on how to cite R or R packages in publications.
Type 'demo()' for some demos, 'help()' for on-line help, or
'help.start()' for an HTML browser interface to help.
Type 'q()' to quit R.
> # This file is part of the standard setup for testthat.
> # It is recommended that you do not modify it.
> #
> # Where should you do additional test configuration?
> # Learn more about the roles of various files in:
> # * https://r-pkgs.org/testing-design.html#sec-tests-files-overview
> # * https://testthat.r-lib.org/articles/special-files.html
> 
> library(testthat)
> library(spacexr)
> 
> test_check("spacexr")
Number of cells in reference: 75
Number of genes in reference: 750
ct1 ct2 ct3 
 25  25  25 
Getting regression differentially expressed genes: 
ct1 found DE genes: 41
ct2 found DE genes: 59
ct3 found DE genes: 40
Total DE genes: 140
Getting bulk differentially expressed genes: 
ct1 found DE genes: 87
ct2 found DE genes: 74
ct3 found DE genes: 83
Total DE genes: 241
fitBulk: decomposing bulk
chooseSigma: using initial Q_mat with sigma = 1
Likelihood value: 3961.33853547069
Sigma value: 0.84
Likelihood value: 3791.98494190262
Sigma value: 0.69
Likelihood value: 3623.91234201635
Sigma value: 0.61
Likelihood value: 3531.60891769767
Sigma value: 0.53
Likelihood value: 3438.65505895825
Sigma value: 0.45
Likelihood value: 3346.69454643973
Sigma value: 0.37
Likelihood value: 3258.2616761035
Sigma value: 0.29
Likelihood value: 3177.07883682933
Sigma value: 0.21
[ FAIL 0 | WARN 0 | SKIP 1 | PASS 0 ]
══ Skipped tests (1) ═══════════════════════════════════════════════════════════
• On CRAN (1): 'test-rctd-simulation.R:40:5'
[ FAIL 0 | WARN 0 | SKIP 1 | PASS 0 ]
> 
> proc.time()
   user  system elapsed 
 26.045   1.126  27.928 
spacexr.Rcheck/spacexr-Ex.timings
| name | user | system | elapsed | |
| Reference-class | 0.298 | 0.001 | 0.300 | |
| SpatialRNA-class | 0.016 | 0.002 | 0.018 | |
| chooseSigmaC | 22.155 | 1.076 | 23.276 | |
| createRCTD | 16.676 | 0.998 | 17.677 | |
| createRctdConfig | 17.894 | 1.031 | 18.940 | |
| createReference | 0.012 | 0.004 | 0.016 | |
| createSpatialRNA | 0.013 | 0.004 | 0.017 | |
| fitBulk | 16.874 | 0.843 | 17.718 | |
| fitPixels | 16.633 | 0.968 | 17.667 | |
| plotAllWeights | 0.180 | 0.017 | 0.200 | |
| plotCellTypeWeight | 0.121 | 0.004 | 0.127 | |
| rctdSim | 0.088 | 0.008 | 0.098 | |
| runRCTD | 17.023 | 0.972 | 18.095 | |