| Back to Multiple platform build/check report for BioC 3.22: simplified long |
|
This page was generated on 2025-10-24 12:07 -0400 (Fri, 24 Oct 2025).
| Hostname | OS | Arch (*) | R version | Installed pkgs |
|---|---|---|---|---|
| nebbiolo2 | Linux (Ubuntu 24.04.3 LTS) | x86_64 | 4.5.1 Patched (2025-08-23 r88802) -- "Great Square Root" | 4898 |
| lconway | macOS 12.7.6 Monterey | x86_64 | 4.5.1 Patched (2025-09-10 r88807) -- "Great Square Root" | 4688 |
| kjohnson3 | macOS 13.7.7 Ventura | arm64 | 4.5.1 Patched (2025-09-10 r88807) -- "Great Square Root" | 4634 |
| taishan | Linux (openEuler 24.03 LTS) | aarch64 | 4.5.0 (2025-04-11) -- "How About a Twenty-Six" | 4658 |
| Click on any hostname to see more info about the system (e.g. compilers) (*) as reported by 'uname -p', except on Windows and Mac OS X | ||||
| Package 2059/2359 | Hostname | OS / Arch | INSTALL | BUILD | CHECK | BUILD BIN | ||||||||
| soGGi 1.41.2 (landing page) Tom Carroll
| nebbiolo2 | Linux (Ubuntu 24.04.3 LTS) / x86_64 | OK | OK | ERROR | |||||||||
| lconway | macOS 12.7.6 Monterey / x86_64 | OK | OK | ERROR | OK | |||||||||
| kjohnson3 | macOS 13.7.7 Ventura / arm64 | OK | OK | ERROR | OK | |||||||||
| taishan | Linux (openEuler 24.03 LTS) / aarch64 | OK | OK | NA | ||||||||||
|
To the developers/maintainers of the soGGi package: - Allow up to 24 hours (and sometimes 48 hours) for your latest push to git@git.bioconductor.org:packages/soGGi.git to reflect on this report. See Troubleshooting Build Report for more information. - Use the following Renviron settings to reproduce errors and warnings. - If 'R CMD check' started to fail recently on the Linux builder(s) over a missing dependency, add the missing dependency to 'Suggests:' in your DESCRIPTION file. See Renviron.bioc for more information. |
| Package: soGGi |
| Version: 1.41.2 |
| Command: /Library/Frameworks/R.framework/Resources/bin/R CMD check --install=check:soGGi.install-out.txt --library=/Library/Frameworks/R.framework/Resources/library --no-vignettes --timings soGGi_1.41.2.tar.gz |
| StartedAt: 2025-10-23 22:18:10 -0400 (Thu, 23 Oct 2025) |
| EndedAt: 2025-10-23 22:20:09 -0400 (Thu, 23 Oct 2025) |
| EllapsedTime: 119.4 seconds |
| RetCode: 1 |
| Status: ERROR |
| CheckDir: soGGi.Rcheck |
| Warnings: NA |
##############################################################################
##############################################################################
###
### Running command:
###
### /Library/Frameworks/R.framework/Resources/bin/R CMD check --install=check:soGGi.install-out.txt --library=/Library/Frameworks/R.framework/Resources/library --no-vignettes --timings soGGi_1.41.2.tar.gz
###
##############################################################################
##############################################################################
* using log directory ‘/Users/biocbuild/bbs-3.22-bioc/meat/soGGi.Rcheck’
* using R version 4.5.1 Patched (2025-09-10 r88807)
* using platform: aarch64-apple-darwin20
* R was compiled by
Apple clang version 16.0.0 (clang-1600.0.26.6)
GNU Fortran (GCC) 14.2.0
* running under: macOS Ventura 13.7.7
* using session charset: UTF-8
* using option ‘--no-vignettes’
* checking for file ‘soGGi/DESCRIPTION’ ... OK
* checking extension type ... Package
* this is package ‘soGGi’ version ‘1.41.2’
* checking package namespace information ... OK
* checking package dependencies ... OK
* checking if this is a source package ... OK
* checking if there is a namespace ... OK
* checking for hidden files and directories ... OK
* checking for portable file names ... OK
* checking for sufficient/correct file permissions ... OK
* checking whether package ‘soGGi’ can be installed ... OK
* checking installed package size ... OK
* checking package directory ... OK
* checking ‘build’ directory ... OK
* checking DESCRIPTION meta-information ... OK
* checking top-level files ... OK
* checking for left-over files ... OK
* checking index information ... OK
* checking package subdirectories ... OK
* checking code files for non-ASCII characters ... OK
* checking R files for syntax errors ... OK
* checking whether the package can be loaded ... OK
* checking whether the package can be loaded with stated dependencies ... OK
* checking whether the package can be unloaded cleanly ... OK
* checking whether the namespace can be loaded with stated dependencies ... OK
* checking whether the namespace can be unloaded cleanly ... OK
* checking dependencies in R code ... OK
* checking S3 generic/method consistency ... OK
* checking replacement functions ... OK
* checking foreign function calls ... NOTE
Foreign function call to a different package:
.Call("rle_sum_any", ..., PACKAGE = "chipseq")
See chapter ‘System and foreign language interfaces’ in the ‘Writing R
Extensions’ manual.
* checking R code for possible problems ... NOTE
plotCuts: warning in ggsave(myP, file = outName): partial argument
match of 'file' to 'filename'
GetGRanges: no visible global function definition for ‘read.delim’
GetGRanges: possible error in `seqlevels<-`(RegionRanges, force = TRUE,
value = `*tmpv*`): unused argument (force = TRUE)
findconsensusRegions : <anonymous>: no visible global function
definition for ‘weighted.mean’
getShifts: no visible global function definition for
‘readGAlignmentsFromBam’
getSummitScore: no visible global function definition for
‘readGAlignmentsFromBam’
plotHeatmap: no visible global function definition for ‘heat.colors’
plotHeatmap: no visible global function definition for ‘layout’
plotHeatmap: no visible global function definition for ‘par’
plotRegion.ChIPprofile: no visible global function definition for
‘formula’
runFindSummit: no visible global function definition for
‘readGAlignmentsFromBam’
runRegionPlot : <anonymous>: no visible global function definition for
‘spline’
summitPipeline: no visible global function definition for
‘readGAlignmentsFromBam’
plotRegion,ChIPprofile: no visible global function definition for
‘formula’
Undefined global functions or variables:
formula heat.colors layout par read.delim readGAlignmentsFromBam
spline weighted.mean
Consider adding
importFrom("grDevices", "heat.colors")
importFrom("graphics", "layout", "par")
importFrom("stats", "formula", "spline", "weighted.mean")
importFrom("utils", "read.delim")
to your NAMESPACE file.
* checking Rd files ... OK
* checking Rd metadata ... OK
* checking Rd cross-references ... OK
* checking for missing documentation entries ... OK
* checking for code/documentation mismatches ... OK
* checking Rd \usage sections ... OK
* checking Rd contents ... OK
* checking for unstated dependencies in examples ... OK
* checking contents of ‘data’ directory ... OK
* checking data for non-ASCII characters ... OK
* checking data for ASCII and uncompressed saves ... OK
* checking sizes of PDF files under ‘inst/doc’ ... OK
* checking installed files from ‘inst/doc’ ... OK
* checking files in ‘vignettes’ ... OK
* checking examples ... OK
* checking for unstated dependencies in ‘tests’ ... OK
* checking tests ...
Running ‘testthat.R’
ERROR
Running the tests in ‘tests/testthat.R’ failed.
Last 13 lines of output:
> test_check("soGGi")
[ FAIL 1 | WARN 5 | SKIP 0 | PASS 3 ]
══ Failed tests ════════════════════════════════════════════════════════════════
── Error ('test_plotting.R:5:1'): (code run outside of `test_that()`) ──────────
Error in `is_ggplot(p)`: could not find function "is_ggplot"
Backtrace:
▆
1. └─testthat::expect_true(is_ggplot(p)) at test_plotting.R:5:1
2. └─testthat::quasi_label(enquo(object), label, arg = "object")
3. └─rlang::eval_bare(expr, quo_get_env(quo))
[ FAIL 1 | WARN 5 | SKIP 0 | PASS 3 ]
Error: Test failures
Execution halted
* checking for unstated dependencies in vignettes ... OK
* checking package vignettes ... OK
* checking running R code from vignettes ... SKIPPED
* checking re-building of vignette outputs ... SKIPPED
* checking PDF version of manual ... OK
* DONE
Status: 1 ERROR, 2 NOTEs
See
‘/Users/biocbuild/bbs-3.22-bioc/meat/soGGi.Rcheck/00check.log’
for details.
soGGi.Rcheck/00install.out
############################################################################## ############################################################################## ### ### Running command: ### ### /Library/Frameworks/R.framework/Resources/bin/R CMD INSTALL soGGi ### ############################################################################## ############################################################################## * installing to library ‘/Library/Frameworks/R.framework/Versions/4.5-arm64/Resources/library’ * installing *source* package ‘soGGi’ ... ** this is package ‘soGGi’ version ‘1.41.2’ ** using staged installation ** R ** data ** inst ** byte-compile and prepare package for lazy loading ** help *** installing help indices ** building package indices ** installing vignettes ** testing if installed package can be loaded from temporary location ** testing if installed package can be loaded from final location ** testing if installed package keeps a record of temporary installation path * DONE (soGGi)
soGGi.Rcheck/tests/testthat.Rout.fail
R version 4.5.1 Patched (2025-09-10 r88807) -- "Great Square Root"
Copyright (C) 2025 The R Foundation for Statistical Computing
Platform: aarch64-apple-darwin20
R is free software and comes with ABSOLUTELY NO WARRANTY.
You are welcome to redistribute it under certain conditions.
Type 'license()' or 'licence()' for distribution details.
R is a collaborative project with many contributors.
Type 'contributors()' for more information and
'citation()' on how to cite R or R packages in publications.
Type 'demo()' for some demos, 'help()' for on-line help, or
'help.start()' for an HTML browser interface to help.
Type 'q()' to quit R.
> library(testthat)
> library(soGGi)
Loading required package: BiocGenerics
Loading required package: generics
Attaching package: 'generics'
The following objects are masked from 'package:base':
as.difftime, as.factor, as.ordered, intersect, is.element, setdiff,
setequal, union
Attaching package: 'BiocGenerics'
The following objects are masked from 'package:stats':
IQR, mad, sd, var, xtabs
The following objects are masked from 'package:base':
Filter, Find, Map, Position, Reduce, anyDuplicated, aperm, append,
as.data.frame, basename, cbind, colnames, dirname, do.call,
duplicated, eval, evalq, get, grep, grepl, is.unsorted, lapply,
mapply, match, mget, order, paste, pmax, pmax.int, pmin, pmin.int,
rank, rbind, rownames, sapply, saveRDS, table, tapply, unique,
unsplit, which.max, which.min
Loading required package: SummarizedExperiment
Loading required package: MatrixGenerics
Loading required package: matrixStats
Attaching package: 'MatrixGenerics'
The following objects are masked from 'package:matrixStats':
colAlls, colAnyNAs, colAnys, colAvgsPerRowSet, colCollapse,
colCounts, colCummaxs, colCummins, colCumprods, colCumsums,
colDiffs, colIQRDiffs, colIQRs, colLogSumExps, colMadDiffs,
colMads, colMaxs, colMeans2, colMedians, colMins, colOrderStats,
colProds, colQuantiles, colRanges, colRanks, colSdDiffs, colSds,
colSums2, colTabulates, colVarDiffs, colVars, colWeightedMads,
colWeightedMeans, colWeightedMedians, colWeightedSds,
colWeightedVars, rowAlls, rowAnyNAs, rowAnys, rowAvgsPerColSet,
rowCollapse, rowCounts, rowCummaxs, rowCummins, rowCumprods,
rowCumsums, rowDiffs, rowIQRDiffs, rowIQRs, rowLogSumExps,
rowMadDiffs, rowMads, rowMaxs, rowMeans2, rowMedians, rowMins,
rowOrderStats, rowProds, rowQuantiles, rowRanges, rowRanks,
rowSdDiffs, rowSds, rowSums2, rowTabulates, rowVarDiffs, rowVars,
rowWeightedMads, rowWeightedMeans, rowWeightedMedians,
rowWeightedSds, rowWeightedVars
Loading required package: GenomicRanges
Loading required package: stats4
Loading required package: S4Vectors
Attaching package: 'S4Vectors'
The following object is masked from 'package:utils':
findMatches
The following objects are masked from 'package:base':
I, expand.grid, unname
Loading required package: IRanges
Loading required package: Seqinfo
Loading required package: Biobase
Welcome to Bioconductor
Vignettes contain introductory material; view with
'browseVignettes()'. To cite Bioconductor, see
'citation("Biobase")', and for packages 'citation("pkgname")'.
Attaching package: 'Biobase'
The following object is masked from 'package:MatrixGenerics':
rowMedians
The following objects are masked from 'package:matrixStats':
anyMissing, rowMedians
>
> test_check("soGGi")
[ FAIL 1 | WARN 5 | SKIP 0 | PASS 3 ]
══ Failed tests ════════════════════════════════════════════════════════════════
── Error ('test_plotting.R:5:1'): (code run outside of `test_that()`) ──────────
Error in `is_ggplot(p)`: could not find function "is_ggplot"
Backtrace:
▆
1. └─testthat::expect_true(is_ggplot(p)) at test_plotting.R:5:1
2. └─testthat::quasi_label(enquo(object), label, arg = "object")
3. └─rlang::eval_bare(expr, quo_get_env(quo))
[ FAIL 1 | WARN 5 | SKIP 0 | PASS 3 ]
Error: Test failures
Execution halted
soGGi.Rcheck/soGGi-Ex.timings
| name | user | system | elapsed | |
| ChIPprofile | 0.135 | 0.004 | 0.139 | |
| Ops | 0.172 | 0.007 | 0.179 | |
| groupByOverlaps | 0.139 | 0.005 | 0.144 | |
| manipulateObjects | 0.227 | 0.004 | 0.230 | |
| normalise | 0.228 | 0.017 | 0.266 | |
| normaliseQuantiles | 0.606 | 0.019 | 0.658 | |
| orientBy | 0.072 | 0.001 | 0.074 | |
| plotRegion | 0.282 | 0.004 | 0.289 | |
| pwmToCoverage | 0.001 | 0.002 | 0.003 | |