| Back to Multiple platform build/check report for BioC 3.22: simplified long |
|
This page was generated on 2025-10-24 12:07 -0400 (Fri, 24 Oct 2025).
| Hostname | OS | Arch (*) | R version | Installed pkgs |
|---|---|---|---|---|
| nebbiolo2 | Linux (Ubuntu 24.04.3 LTS) | x86_64 | 4.5.1 Patched (2025-08-23 r88802) -- "Great Square Root" | 4898 |
| lconway | macOS 12.7.6 Monterey | x86_64 | 4.5.1 Patched (2025-09-10 r88807) -- "Great Square Root" | 4688 |
| kjohnson3 | macOS 13.7.7 Ventura | arm64 | 4.5.1 Patched (2025-09-10 r88807) -- "Great Square Root" | 4634 |
| taishan | Linux (openEuler 24.03 LTS) | aarch64 | 4.5.0 (2025-04-11) -- "How About a Twenty-Six" | 4658 |
| Click on any hostname to see more info about the system (e.g. compilers) (*) as reported by 'uname -p', except on Windows and Mac OS X | ||||
| Package 1945/2359 | Hostname | OS / Arch | INSTALL | BUILD | CHECK | BUILD BIN | ||||||||
| scPipe 2.9.0 (landing page) Shian Su
| nebbiolo2 | Linux (Ubuntu 24.04.3 LTS) / x86_64 | OK | OK | OK | |||||||||
| lconway | macOS 12.7.6 Monterey / x86_64 | OK | OK | OK | OK | |||||||||
| kjohnson3 | macOS 13.7.7 Ventura / arm64 | OK | OK | OK | OK | |||||||||
| taishan | Linux (openEuler 24.03 LTS) / aarch64 | OK | OK | NA | ||||||||||
|
To the developers/maintainers of the scPipe package: - Allow up to 24 hours (and sometimes 48 hours) for your latest push to git@git.bioconductor.org:packages/scPipe.git to reflect on this report. See Troubleshooting Build Report for more information. - Use the following Renviron settings to reproduce errors and warnings. - If 'R CMD check' started to fail recently on the Linux builder(s) over a missing dependency, add the missing dependency to 'Suggests:' in your DESCRIPTION file. See Renviron.bioc for more information. |
| Package: scPipe |
| Version: 2.9.0 |
| Command: /Library/Frameworks/R.framework/Resources/bin/R CMD check --install=check:scPipe.install-out.txt --library=/Library/Frameworks/R.framework/Resources/library --no-vignettes --timings scPipe_2.9.0.tar.gz |
| StartedAt: 2025-10-23 22:04:45 -0400 (Thu, 23 Oct 2025) |
| EndedAt: 2025-10-23 22:09:04 -0400 (Thu, 23 Oct 2025) |
| EllapsedTime: 258.9 seconds |
| RetCode: 0 |
| Status: OK |
| CheckDir: scPipe.Rcheck |
| Warnings: 0 |
##############################################################################
##############################################################################
###
### Running command:
###
### /Library/Frameworks/R.framework/Resources/bin/R CMD check --install=check:scPipe.install-out.txt --library=/Library/Frameworks/R.framework/Resources/library --no-vignettes --timings scPipe_2.9.0.tar.gz
###
##############################################################################
##############################################################################
* using log directory ‘/Users/biocbuild/bbs-3.22-bioc/meat/scPipe.Rcheck’
* using R version 4.5.1 Patched (2025-09-10 r88807)
* using platform: aarch64-apple-darwin20
* R was compiled by
Apple clang version 16.0.0 (clang-1600.0.26.6)
GNU Fortran (GCC) 14.2.0
* running under: macOS Ventura 13.7.7
* using session charset: UTF-8
* using option ‘--no-vignettes’
* checking for file ‘scPipe/DESCRIPTION’ ... OK
* checking extension type ... Package
* this is package ‘scPipe’ version ‘2.9.0’
* package encoding: UTF-8
* checking package namespace information ... OK
* checking package dependencies ... INFO
Imports includes 40 non-default packages.
Importing from so many packages makes the package vulnerable to any of
them becoming unavailable. Move as many as possible to Suggests and
use conditionally.
* checking if this is a source package ... OK
* checking if there is a namespace ... OK
* checking for hidden files and directories ... OK
* checking for portable file names ... OK
* checking for sufficient/correct file permissions ... OK
* checking whether package ‘scPipe’ can be installed ... OK
* used C compiler: ‘Apple clang version 15.0.0 (clang-1500.1.0.2.5)’
* used C++ compiler: ‘Apple clang version 15.0.0 (clang-1500.1.0.2.5)’
* used SDK: ‘MacOSX11.3.1.sdk’
* checking C++ specification ... NOTE
Specified C++11: please drop specification unless essential
* checking installed package size ... INFO
installed size is 15.6Mb
sub-directories of 1Mb or more:
extdata 12.1Mb
libs 2.2Mb
* checking package directory ... OK
* checking ‘build’ directory ... OK
* checking DESCRIPTION meta-information ... OK
* checking top-level files ... OK
* checking for left-over files ... OK
* checking index information ... OK
* checking package subdirectories ... OK
* checking code files for non-ASCII characters ... OK
* checking R files for syntax errors ... OK
* checking whether the package can be loaded ... OK
* checking whether the package can be loaded with stated dependencies ... OK
* checking whether the package can be unloaded cleanly ... OK
* checking whether the namespace can be loaded with stated dependencies ... OK
* checking whether the namespace can be unloaded cleanly ... OK
* checking whether startup messages can be suppressed ... OK
* checking dependencies in R code ... NOTE
Namespaces in Imports field not imported from:
‘flexmix’ ‘vctrs’
All declared Imports should be used.
* checking S3 generic/method consistency ... OK
* checking replacement functions ... OK
* checking foreign function calls ... OK
* checking R code for possible problems ... NOTE
sc_atac_feature_counting: warning in sc_atac_create_sce(input_folder =
output_folder, organism = organism, sample = sample_name,
feature_type = feature_type, pheno_data = pheno_data, report =
create_report): partial argument match of 'sample' to 'sample_name'
sc_aligning: no visible binding for global variable ‘Var1’
sc_aligning: no visible binding for global variable ‘Freq’
sc_atac_bam_tagging: no visible binding for global variable ‘.N’
sc_atac_bam_tagging: no visible binding for global variable ‘count’
sc_atac_bam_tagging: no visible binding for global variable ‘.SD’
sc_atac_create_cell_qc_metrics: no visible binding for global variable
‘seqnames’
sc_atac_create_cell_qc_metrics: no visible binding for global variable
‘start’
sc_atac_create_cell_qc_metrics: no visible binding for global variable
‘end’
sc_atac_create_cell_qc_metrics: no visible binding for global variable
‘barcode’
sc_atac_create_cell_qc_metrics: no visible binding for global variable
‘count’
sc_atac_feature_counting: no visible binding for global variable
‘start’
sc_atac_feature_counting: no visible binding for global variable ‘end’
sc_atac_feature_counting: no visible global function definition for
‘write.csv’
sc_atac_plot_cells_per_feature: no visible binding for global variable
‘log_cells_per_feature’
sc_atac_plot_cells_per_feature: no visible binding for global variable
‘..count..’
sc_atac_plot_features_per_cell: no visible binding for global variable
‘log_features_per_cell’
sc_atac_plot_features_per_cell: no visible binding for global variable
‘..count..’
sc_atac_plot_fragments_cells_per_feature: no visible binding for global
variable ‘log_counts_per_feature’
sc_atac_plot_fragments_cells_per_feature: no visible binding for global
variable ‘log_cells_per_feature’
sc_atac_plot_fragments_features_per_cell: no visible binding for global
variable ‘log_counts_per_cell’
sc_atac_plot_fragments_features_per_cell: no visible binding for global
variable ‘log_features_per_cell’
sc_atac_plot_fragments_per_cell: no visible binding for global variable
‘log_counts_per_cell’
sc_atac_plot_fragments_per_cell: no visible binding for global variable
‘..count..’
sc_atac_plot_fragments_per_feature: no visible binding for global
variable ‘log_counts_per_feature’
sc_atac_plot_fragments_per_feature: no visible binding for global
variable ‘..count..’
sc_get_umap_data: no visible global function definition for ‘irlba’
sc_get_umap_data: no visible binding for global variable ‘value’
sc_get_umap_data: no visible binding for global variable ‘cluster’
sc_interactive_umap_plot : server: no visible binding for global
variable ‘UMAP1’
sc_interactive_umap_plot : server: no visible binding for global
variable ‘UMAP2’
sc_interactive_umap_plot : server: no visible binding for global
variable ‘barcode’
sc_mae_plot_umap : <anonymous>: no visible global function definition
for ‘irlba’
sc_mae_plot_umap : <anonymous>: no visible binding for global variable
‘value’
sc_mae_plot_umap : <anonymous>: no visible binding for global variable
‘cluster’
sc_mae_plot_umap : <anonymous>: no visible global function definition
for ‘experiments’
sc_mae_plot_umap: no visible binding for global variable ‘UMAP1’
sc_mae_plot_umap: no visible binding for global variable ‘UMAP2’
Undefined global functions or variables:
..count.. .N .SD Freq UMAP1 UMAP2 Var1 barcode cluster count end
experiments irlba log_cells_per_feature log_counts_per_cell
log_counts_per_feature log_features_per_cell seqnames start value
write.csv
Consider adding
importFrom("stats", "end", "start")
importFrom("utils", "write.csv")
to your NAMESPACE file.
* checking Rd files ... OK
* checking Rd metadata ... OK
* checking Rd cross-references ... NOTE
Found the following Rd file(s) with Rd \link{} targets missing package
anchors:
QC_metrics.Rd: SingleCellExperiment
UMI_dup_info.Rd: SingleCellExperiment
create_sce_by_dir.Rd: SingleCellExperiment
demultiplex_info.Rd: SingleCellExperiment
feature_info.Rd: SingleCellExperiment
feature_type.Rd: SingleCellExperiment
gene_id_type.Rd: SingleCellExperiment
organism.Rd: SingleCellExperiment
Please provide package anchors for all Rd \link{} targets not in the
package itself and the base packages.
* checking for missing documentation entries ... OK
* checking for code/documentation mismatches ... OK
* checking Rd \usage sections ... OK
* checking Rd contents ... OK
* checking for unstated dependencies in examples ... OK
* checking contents of ‘data’ directory ... OK
* checking data for non-ASCII characters ... OK
* checking data for ASCII and uncompressed saves ... OK
* checking line endings in C/C++/Fortran sources/headers ... OK
* checking line endings in Makefiles ... OK
* checking compilation flags in Makevars ... OK
* checking for GNU extensions in Makefiles ... INFO
GNU make is a SystemRequirements.
* checking for portable use of $(BLAS_LIBS) and $(LAPACK_LIBS) ... OK
* checking use of PKG_*FLAGS in Makefiles ... OK
* checking compiled code ... NOTE
Note: information on .o files is not available
File ‘/Library/Frameworks/R.framework/Versions/4.5-arm64/Resources/library/scPipe/libs/scPipe.so’:
Found ‘___assert_rtn’, possibly from ‘assert’ (C)
Found ‘___stderrp’, possibly from ‘stderr’ (C)
Found ‘___stdoutp’, possibly from ‘stdout’ (C)
Found ‘_abort’, possibly from ‘abort’ (C)
Found ‘_exit’, possibly from ‘exit’ (C)
Compiled code should not call entry points which might terminate R nor
write to stdout/stderr instead of to the console, nor use Fortran I/O
nor system RNGs nor [v]sprintf. The detected symbols are linked into
the code but might come from libraries and not actually be called.
See ‘Writing portable packages’ in the ‘Writing R Extensions’ manual.
* checking files in ‘vignettes’ ... OK
* checking examples ... OK
Examples with CPU (user + system) or elapsed time > 5s
user system elapsed
sc_atac_bam_tagging 52.471 82.84 136.724
* checking for unstated dependencies in ‘tests’ ... OK
* checking tests ...
Running ‘testthat.R’
OK
* checking for unstated dependencies in vignettes ... OK
* checking package vignettes ... OK
* checking running R code from vignettes ... SKIPPED
* checking re-building of vignette outputs ... SKIPPED
* checking PDF version of manual ... OK
* DONE
Status: 5 NOTEs
See
‘/Users/biocbuild/bbs-3.22-bioc/meat/scPipe.Rcheck/00check.log’
for details.
scPipe.Rcheck/00install.out
##############################################################################
##############################################################################
###
### Running command:
###
### /Library/Frameworks/R.framework/Resources/bin/R CMD INSTALL scPipe
###
##############################################################################
##############################################################################
* installing to library ‘/Library/Frameworks/R.framework/Versions/4.5-arm64/Resources/library’
* installing *source* package ‘scPipe’ ...
** this is package ‘scPipe’ version ‘2.9.0’
** using staged installation
** libs
using C compiler: ‘Apple clang version 15.0.0 (clang-1500.1.0.2.5)’
using C++ compiler: ‘Apple clang version 15.0.0 (clang-1500.1.0.2.5)’
using C++11
using SDK: ‘MacOSX11.3.1.sdk’
clang++ -arch arm64 -std=gnu++11 -I"/Library/Frameworks/R.framework/Resources/include" -DNDEBUG -D_FILE_OFFSET_BITS=64 -I'/Library/Frameworks/R.framework/Versions/4.5-arm64/Resources/library/Rcpp/include' -I'/Library/Frameworks/R.framework/Versions/4.5-arm64/Resources/library/Rhtslib/include' -I'/Library/Frameworks/R.framework/Versions/4.5-arm64/Resources/library/testthat/include' -I/opt/R/arm64/include -fPIC -falign-functions=64 -Wall -g -O2 -c FragmentThread.cpp -o FragmentThread.o
clang++ -arch arm64 -std=gnu++11 -I"/Library/Frameworks/R.framework/Resources/include" -DNDEBUG -D_FILE_OFFSET_BITS=64 -I'/Library/Frameworks/R.framework/Versions/4.5-arm64/Resources/library/Rcpp/include' -I'/Library/Frameworks/R.framework/Versions/4.5-arm64/Resources/library/Rhtslib/include' -I'/Library/Frameworks/R.framework/Versions/4.5-arm64/Resources/library/testthat/include' -I/opt/R/arm64/include -fPIC -falign-functions=64 -Wall -g -O2 -c FragmentUtils.cpp -o FragmentUtils.o
clang++ -arch arm64 -std=gnu++11 -I"/Library/Frameworks/R.framework/Resources/include" -DNDEBUG -D_FILE_OFFSET_BITS=64 -I'/Library/Frameworks/R.framework/Versions/4.5-arm64/Resources/library/Rcpp/include' -I'/Library/Frameworks/R.framework/Versions/4.5-arm64/Resources/library/Rhtslib/include' -I'/Library/Frameworks/R.framework/Versions/4.5-arm64/Resources/library/testthat/include' -I/opt/R/arm64/include -fPIC -falign-functions=64 -Wall -g -O2 -c Gene.cpp -o Gene.o
clang++ -arch arm64 -std=gnu++11 -I"/Library/Frameworks/R.framework/Resources/include" -DNDEBUG -D_FILE_OFFSET_BITS=64 -I'/Library/Frameworks/R.framework/Versions/4.5-arm64/Resources/library/Rcpp/include' -I'/Library/Frameworks/R.framework/Versions/4.5-arm64/Resources/library/Rhtslib/include' -I'/Library/Frameworks/R.framework/Versions/4.5-arm64/Resources/library/testthat/include' -I/opt/R/arm64/include -fPIC -falign-functions=64 -Wall -g -O2 -c Interval.cpp -o Interval.o
clang++ -arch arm64 -std=gnu++11 -I"/Library/Frameworks/R.framework/Resources/include" -DNDEBUG -D_FILE_OFFSET_BITS=64 -I'/Library/Frameworks/R.framework/Versions/4.5-arm64/Resources/library/Rcpp/include' -I'/Library/Frameworks/R.framework/Versions/4.5-arm64/Resources/library/Rhtslib/include' -I'/Library/Frameworks/R.framework/Versions/4.5-arm64/Resources/library/testthat/include' -I/opt/R/arm64/include -fPIC -falign-functions=64 -Wall -g -O2 -c RcppExports.cpp -o RcppExports.o
clang++ -arch arm64 -std=gnu++11 -I"/Library/Frameworks/R.framework/Resources/include" -DNDEBUG -D_FILE_OFFSET_BITS=64 -I'/Library/Frameworks/R.framework/Versions/4.5-arm64/Resources/library/Rcpp/include' -I'/Library/Frameworks/R.framework/Versions/4.5-arm64/Resources/library/Rhtslib/include' -I'/Library/Frameworks/R.framework/Versions/4.5-arm64/Resources/library/testthat/include' -I/opt/R/arm64/include -fPIC -falign-functions=64 -Wall -g -O2 -c ResizeArray.cpp -o ResizeArray.o
clang++ -arch arm64 -std=gnu++11 -I"/Library/Frameworks/R.framework/Resources/include" -DNDEBUG -D_FILE_OFFSET_BITS=64 -I'/Library/Frameworks/R.framework/Versions/4.5-arm64/Resources/library/Rcpp/include' -I'/Library/Frameworks/R.framework/Versions/4.5-arm64/Resources/library/Rhtslib/include' -I'/Library/Frameworks/R.framework/Versions/4.5-arm64/Resources/library/testthat/include' -I/opt/R/arm64/include -fPIC -falign-functions=64 -Wall -g -O2 -c ThreadOutputFile.cpp -o ThreadOutputFile.o
clang++ -arch arm64 -std=gnu++11 -I"/Library/Frameworks/R.framework/Resources/include" -DNDEBUG -D_FILE_OFFSET_BITS=64 -I'/Library/Frameworks/R.framework/Versions/4.5-arm64/Resources/library/Rcpp/include' -I'/Library/Frameworks/R.framework/Versions/4.5-arm64/Resources/library/Rhtslib/include' -I'/Library/Frameworks/R.framework/Versions/4.5-arm64/Resources/library/testthat/include' -I/opt/R/arm64/include -fPIC -falign-functions=64 -Wall -g -O2 -c Trie.cpp -o Trie.o
clang -arch arm64 -std=gnu2x -I"/Library/Frameworks/R.framework/Resources/include" -DNDEBUG -D_FILE_OFFSET_BITS=64 -I'/Library/Frameworks/R.framework/Versions/4.5-arm64/Resources/library/Rcpp/include' -I'/Library/Frameworks/R.framework/Versions/4.5-arm64/Resources/library/Rhtslib/include' -I'/Library/Frameworks/R.framework/Versions/4.5-arm64/Resources/library/testthat/include' -I/opt/R/arm64/include -fPIC -falign-functions=64 -Wall -g -O2 -c bam.c -o bam.o
clang++ -arch arm64 -std=gnu++11 -I"/Library/Frameworks/R.framework/Resources/include" -DNDEBUG -D_FILE_OFFSET_BITS=64 -I'/Library/Frameworks/R.framework/Versions/4.5-arm64/Resources/library/Rcpp/include' -I'/Library/Frameworks/R.framework/Versions/4.5-arm64/Resources/library/Rhtslib/include' -I'/Library/Frameworks/R.framework/Versions/4.5-arm64/Resources/library/testthat/include' -I/opt/R/arm64/include -fPIC -falign-functions=64 -Wall -g -O2 -c cellbarcode.cpp -o cellbarcode.o
clang++ -arch arm64 -std=gnu++11 -I"/Library/Frameworks/R.framework/Resources/include" -DNDEBUG -D_FILE_OFFSET_BITS=64 -I'/Library/Frameworks/R.framework/Versions/4.5-arm64/Resources/library/Rcpp/include' -I'/Library/Frameworks/R.framework/Versions/4.5-arm64/Resources/library/Rhtslib/include' -I'/Library/Frameworks/R.framework/Versions/4.5-arm64/Resources/library/testthat/include' -I/opt/R/arm64/include -fPIC -falign-functions=64 -Wall -g -O2 -c check_barcode_reads.cpp -o check_barcode_reads.o
clang++ -arch arm64 -std=gnu++11 -I"/Library/Frameworks/R.framework/Resources/include" -DNDEBUG -D_FILE_OFFSET_BITS=64 -I'/Library/Frameworks/R.framework/Versions/4.5-arm64/Resources/library/Rcpp/include' -I'/Library/Frameworks/R.framework/Versions/4.5-arm64/Resources/library/Rhtslib/include' -I'/Library/Frameworks/R.framework/Versions/4.5-arm64/Resources/library/testthat/include' -I/opt/R/arm64/include -fPIC -falign-functions=64 -Wall -g -O2 -c detect_barcode.cpp -o detect_barcode.o
clang++ -arch arm64 -std=gnu++11 -I"/Library/Frameworks/R.framework/Resources/include" -DNDEBUG -D_FILE_OFFSET_BITS=64 -I'/Library/Frameworks/R.framework/Versions/4.5-arm64/Resources/library/Rcpp/include' -I'/Library/Frameworks/R.framework/Versions/4.5-arm64/Resources/library/Rhtslib/include' -I'/Library/Frameworks/R.framework/Versions/4.5-arm64/Resources/library/testthat/include' -I/opt/R/arm64/include -fPIC -falign-functions=64 -Wall -g -O2 -c parsebam.cpp -o parsebam.o
clang++ -arch arm64 -std=gnu++11 -I"/Library/Frameworks/R.framework/Resources/include" -DNDEBUG -D_FILE_OFFSET_BITS=64 -I'/Library/Frameworks/R.framework/Versions/4.5-arm64/Resources/library/Rcpp/include' -I'/Library/Frameworks/R.framework/Versions/4.5-arm64/Resources/library/Rhtslib/include' -I'/Library/Frameworks/R.framework/Versions/4.5-arm64/Resources/library/testthat/include' -I/opt/R/arm64/include -fPIC -falign-functions=64 -Wall -g -O2 -c parsecount.cpp -o parsecount.o
clang++ -arch arm64 -std=gnu++11 -I"/Library/Frameworks/R.framework/Resources/include" -DNDEBUG -D_FILE_OFFSET_BITS=64 -I'/Library/Frameworks/R.framework/Versions/4.5-arm64/Resources/library/Rcpp/include' -I'/Library/Frameworks/R.framework/Versions/4.5-arm64/Resources/library/Rhtslib/include' -I'/Library/Frameworks/R.framework/Versions/4.5-arm64/Resources/library/testthat/include' -I/opt/R/arm64/include -fPIC -falign-functions=64 -Wall -g -O2 -c qc_per_bc_file_helper.cpp -o qc_per_bc_file_helper.o
clang++ -arch arm64 -std=gnu++11 -I"/Library/Frameworks/R.framework/Resources/include" -DNDEBUG -D_FILE_OFFSET_BITS=64 -I'/Library/Frameworks/R.framework/Versions/4.5-arm64/Resources/library/Rcpp/include' -I'/Library/Frameworks/R.framework/Versions/4.5-arm64/Resources/library/Rhtslib/include' -I'/Library/Frameworks/R.framework/Versions/4.5-arm64/Resources/library/testthat/include' -I/opt/R/arm64/include -fPIC -falign-functions=64 -Wall -g -O2 -c rcpp_scPipe_func.cpp -o rcpp_scPipe_func.o
clang++ -arch arm64 -std=gnu++11 -I"/Library/Frameworks/R.framework/Resources/include" -DNDEBUG -D_FILE_OFFSET_BITS=64 -I'/Library/Frameworks/R.framework/Versions/4.5-arm64/Resources/library/Rcpp/include' -I'/Library/Frameworks/R.framework/Versions/4.5-arm64/Resources/library/Rhtslib/include' -I'/Library/Frameworks/R.framework/Versions/4.5-arm64/Resources/library/testthat/include' -I/opt/R/arm64/include -fPIC -falign-functions=64 -Wall -g -O2 -c sc_atac_create_fragments.cpp -o sc_atac_create_fragments.o
clang++ -arch arm64 -std=gnu++11 -I"/Library/Frameworks/R.framework/Resources/include" -DNDEBUG -D_FILE_OFFSET_BITS=64 -I'/Library/Frameworks/R.framework/Versions/4.5-arm64/Resources/library/Rcpp/include' -I'/Library/Frameworks/R.framework/Versions/4.5-arm64/Resources/library/Rhtslib/include' -I'/Library/Frameworks/R.framework/Versions/4.5-arm64/Resources/library/testthat/include' -I/opt/R/arm64/include -fPIC -falign-functions=64 -Wall -g -O2 -c test-cpp.cpp -o test-cpp.o
clang++ -arch arm64 -std=gnu++11 -I"/Library/Frameworks/R.framework/Resources/include" -DNDEBUG -D_FILE_OFFSET_BITS=64 -I'/Library/Frameworks/R.framework/Versions/4.5-arm64/Resources/library/Rcpp/include' -I'/Library/Frameworks/R.framework/Versions/4.5-arm64/Resources/library/Rhtslib/include' -I'/Library/Frameworks/R.framework/Versions/4.5-arm64/Resources/library/testthat/include' -I/opt/R/arm64/include -fPIC -falign-functions=64 -Wall -g -O2 -c test-example.cpp -o test-example.o
clang++ -arch arm64 -std=gnu++11 -I"/Library/Frameworks/R.framework/Resources/include" -DNDEBUG -D_FILE_OFFSET_BITS=64 -I'/Library/Frameworks/R.framework/Versions/4.5-arm64/Resources/library/Rcpp/include' -I'/Library/Frameworks/R.framework/Versions/4.5-arm64/Resources/library/Rhtslib/include' -I'/Library/Frameworks/R.framework/Versions/4.5-arm64/Resources/library/testthat/include' -I/opt/R/arm64/include -fPIC -falign-functions=64 -Wall -g -O2 -c test-fragmentThread.cpp -o test-fragmentThread.o
clang++ -arch arm64 -std=gnu++11 -I"/Library/Frameworks/R.framework/Resources/include" -DNDEBUG -D_FILE_OFFSET_BITS=64 -I'/Library/Frameworks/R.framework/Versions/4.5-arm64/Resources/library/Rcpp/include' -I'/Library/Frameworks/R.framework/Versions/4.5-arm64/Resources/library/Rhtslib/include' -I'/Library/Frameworks/R.framework/Versions/4.5-arm64/Resources/library/testthat/include' -I/opt/R/arm64/include -fPIC -falign-functions=64 -Wall -g -O2 -c test-resizearray.cpp -o test-resizearray.o
clang++ -arch arm64 -std=gnu++11 -I"/Library/Frameworks/R.framework/Resources/include" -DNDEBUG -D_FILE_OFFSET_BITS=64 -I'/Library/Frameworks/R.framework/Versions/4.5-arm64/Resources/library/Rcpp/include' -I'/Library/Frameworks/R.framework/Versions/4.5-arm64/Resources/library/Rhtslib/include' -I'/Library/Frameworks/R.framework/Versions/4.5-arm64/Resources/library/testthat/include' -I/opt/R/arm64/include -fPIC -falign-functions=64 -Wall -g -O2 -c test-runner.cpp -o test-runner.o
clang++ -arch arm64 -std=gnu++11 -I"/Library/Frameworks/R.framework/Resources/include" -DNDEBUG -D_FILE_OFFSET_BITS=64 -I'/Library/Frameworks/R.framework/Versions/4.5-arm64/Resources/library/Rcpp/include' -I'/Library/Frameworks/R.framework/Versions/4.5-arm64/Resources/library/Rhtslib/include' -I'/Library/Frameworks/R.framework/Versions/4.5-arm64/Resources/library/testthat/include' -I/opt/R/arm64/include -fPIC -falign-functions=64 -Wall -g -O2 -c test-str_utils.cpp -o test-str_utils.o
clang++ -arch arm64 -std=gnu++11 -I"/Library/Frameworks/R.framework/Resources/include" -DNDEBUG -D_FILE_OFFSET_BITS=64 -I'/Library/Frameworks/R.framework/Versions/4.5-arm64/Resources/library/Rcpp/include' -I'/Library/Frameworks/R.framework/Versions/4.5-arm64/Resources/library/Rhtslib/include' -I'/Library/Frameworks/R.framework/Versions/4.5-arm64/Resources/library/testthat/include' -I/opt/R/arm64/include -fPIC -falign-functions=64 -Wall -g -O2 -c test-trie_matching.cpp -o test-trie_matching.o
clang++ -arch arm64 -std=gnu++11 -I"/Library/Frameworks/R.framework/Resources/include" -DNDEBUG -D_FILE_OFFSET_BITS=64 -I'/Library/Frameworks/R.framework/Versions/4.5-arm64/Resources/library/Rcpp/include' -I'/Library/Frameworks/R.framework/Versions/4.5-arm64/Resources/library/Rhtslib/include' -I'/Library/Frameworks/R.framework/Versions/4.5-arm64/Resources/library/testthat/include' -I/opt/R/arm64/include -fPIC -falign-functions=64 -Wall -g -O2 -c transcriptmapping.cpp -o transcriptmapping.o
clang++ -arch arm64 -std=gnu++11 -I"/Library/Frameworks/R.framework/Resources/include" -DNDEBUG -D_FILE_OFFSET_BITS=64 -I'/Library/Frameworks/R.framework/Versions/4.5-arm64/Resources/library/Rcpp/include' -I'/Library/Frameworks/R.framework/Versions/4.5-arm64/Resources/library/Rhtslib/include' -I'/Library/Frameworks/R.framework/Versions/4.5-arm64/Resources/library/testthat/include' -I/opt/R/arm64/include -fPIC -falign-functions=64 -Wall -g -O2 -c trimbarcode.cpp -o trimbarcode.o
trimbarcode.cpp:820:45: warning: variable 'barcodeNo' set but not used [-Wunused-but-set-variable]
int barcodeExact = 0, barcodePartial = 0, barcodeNo = 0;
^
1 warning generated.
clang++ -arch arm64 -std=gnu++11 -I"/Library/Frameworks/R.framework/Resources/include" -DNDEBUG -D_FILE_OFFSET_BITS=64 -I'/Library/Frameworks/R.framework/Versions/4.5-arm64/Resources/library/Rcpp/include' -I'/Library/Frameworks/R.framework/Versions/4.5-arm64/Resources/library/Rhtslib/include' -I'/Library/Frameworks/R.framework/Versions/4.5-arm64/Resources/library/testthat/include' -I/opt/R/arm64/include -fPIC -falign-functions=64 -Wall -g -O2 -c tsscreatebins.cpp -o tsscreatebins.o
clang++ -arch arm64 -std=gnu++11 -I"/Library/Frameworks/R.framework/Resources/include" -DNDEBUG -D_FILE_OFFSET_BITS=64 -I'/Library/Frameworks/R.framework/Versions/4.5-arm64/Resources/library/Rcpp/include' -I'/Library/Frameworks/R.framework/Versions/4.5-arm64/Resources/library/Rhtslib/include' -I'/Library/Frameworks/R.framework/Versions/4.5-arm64/Resources/library/testthat/include' -I/opt/R/arm64/include -fPIC -falign-functions=64 -Wall -g -O2 -c utils.cpp -o utils.o
clang++ -arch arm64 -std=gnu++11 -dynamiclib -Wl,-headerpad_max_install_names -undefined dynamic_lookup -L/Library/Frameworks/R.framework/Resources/lib -L/opt/R/arm64/lib -o scPipe.so FragmentThread.o FragmentUtils.o Gene.o Interval.o RcppExports.o ResizeArray.o ThreadOutputFile.o Trie.o bam.o cellbarcode.o check_barcode_reads.o detect_barcode.o parsebam.o parsecount.o qc_per_bc_file_helper.o rcpp_scPipe_func.o sc_atac_create_fragments.o test-cpp.o test-example.o test-fragmentThread.o test-resizearray.o test-runner.o test-str_utils.o test-trie_matching.o transcriptmapping.o trimbarcode.o tsscreatebins.o utils.o /Library/Frameworks/R.framework/Versions/4.5-arm64/Resources/library/Rhtslib/usrlib/libhts.a -lcurl -lbz2 -llzma -lz -F/Library/Frameworks/R.framework/.. -framework R
installing to /Library/Frameworks/R.framework/Versions/4.5-arm64/Resources/library/00LOCK-scPipe/00new/scPipe/libs
** R
** data
** inst
** byte-compile and prepare package for lazy loading
** help
*** installing help indices
** building package indices
** installing vignettes
** testing if installed package can be loaded from temporary location
** checking absolute paths in shared objects and dynamic libraries
** testing if installed package can be loaded from final location
** testing if installed package keeps a record of temporary installation path
* DONE (scPipe)
scPipe.Rcheck/tests/testthat.Rout
R version 4.5.1 Patched (2025-09-10 r88807) -- "Great Square Root"
Copyright (C) 2025 The R Foundation for Statistical Computing
Platform: aarch64-apple-darwin20
R is free software and comes with ABSOLUTELY NO WARRANTY.
You are welcome to redistribute it under certain conditions.
Type 'license()' or 'licence()' for distribution details.
R is a collaborative project with many contributors.
Type 'contributors()' for more information and
'citation()' on how to cite R or R packages in publications.
Type 'demo()' for some demos, 'help()' for on-line help, or
'help.start()' for an HTML browser interface to help.
Type 'q()' to quit R.
> library(testthat)
> library(scPipe)
Loading required package: SingleCellExperiment
Loading required package: SummarizedExperiment
Loading required package: MatrixGenerics
Loading required package: matrixStats
Attaching package: 'MatrixGenerics'
The following objects are masked from 'package:matrixStats':
colAlls, colAnyNAs, colAnys, colAvgsPerRowSet, colCollapse,
colCounts, colCummaxs, colCummins, colCumprods, colCumsums,
colDiffs, colIQRDiffs, colIQRs, colLogSumExps, colMadDiffs,
colMads, colMaxs, colMeans2, colMedians, colMins, colOrderStats,
colProds, colQuantiles, colRanges, colRanks, colSdDiffs, colSds,
colSums2, colTabulates, colVarDiffs, colVars, colWeightedMads,
colWeightedMeans, colWeightedMedians, colWeightedSds,
colWeightedVars, rowAlls, rowAnyNAs, rowAnys, rowAvgsPerColSet,
rowCollapse, rowCounts, rowCummaxs, rowCummins, rowCumprods,
rowCumsums, rowDiffs, rowIQRDiffs, rowIQRs, rowLogSumExps,
rowMadDiffs, rowMads, rowMaxs, rowMeans2, rowMedians, rowMins,
rowOrderStats, rowProds, rowQuantiles, rowRanges, rowRanks,
rowSdDiffs, rowSds, rowSums2, rowTabulates, rowVarDiffs, rowVars,
rowWeightedMads, rowWeightedMeans, rowWeightedMedians,
rowWeightedSds, rowWeightedVars
Loading required package: GenomicRanges
Loading required package: stats4
Loading required package: BiocGenerics
Loading required package: generics
Attaching package: 'generics'
The following objects are masked from 'package:base':
as.difftime, as.factor, as.ordered, intersect, is.element, setdiff,
setequal, union
Attaching package: 'BiocGenerics'
The following objects are masked from 'package:stats':
IQR, mad, sd, var, xtabs
The following objects are masked from 'package:base':
Filter, Find, Map, Position, Reduce, anyDuplicated, aperm, append,
as.data.frame, basename, cbind, colnames, dirname, do.call,
duplicated, eval, evalq, get, grep, grepl, is.unsorted, lapply,
mapply, match, mget, order, paste, pmax, pmax.int, pmin, pmin.int,
rank, rbind, rownames, sapply, saveRDS, table, tapply, unique,
unsplit, which.max, which.min
Loading required package: S4Vectors
Attaching package: 'S4Vectors'
The following object is masked from 'package:utils':
findMatches
The following objects are masked from 'package:base':
I, expand.grid, unname
Loading required package: IRanges
Loading required package: Seqinfo
Loading required package: Biobase
Welcome to Bioconductor
Vignettes contain introductory material; view with
'browseVignettes()'. To cite Bioconductor, see
'citation("Biobase")', and for packages 'citation("pkgname")'.
Attaching package: 'Biobase'
The following object is masked from 'package:MatrixGenerics':
rowMedians
The following objects are masked from 'package:matrixStats':
anyMissing, rowMedians
Linux/MacOS detected!
Checking if samtools is installed ...
samtools was not located. Please specify the path of it when running sc_atac_remove_duplicates()
>
> test_check("scPipe")
Successful; continuing with program.
Invalid barcode start index given, with only 0 percent of reads containing a barcode match. However, a better barcode start location is 0 , where 55 percent of barcodes were found.
Unsuccessful. No location was found with a high number of barcode matches. Did both smallbarcode1col.csv and /Library/Frameworks/R.framework/Versions/4.5-arm64/Resources/library/scPipe/extdata/simu_R1.fastq.gz come from the same provider?
[ FAIL 0 | WARN 0 | SKIP 0 | PASS 121 ]
>
> proc.time()
user system elapsed
6.210 0.255 6.616
scPipe.Rcheck/scPipe-Ex.timings
| name | user | system | elapsed | |
| QC_metrics | 0.076 | 0.003 | 0.083 | |
| UMI_dup_info | 0.037 | 0.003 | 0.046 | |
| UMI_duplication | 0.033 | 0.003 | 0.035 | |
| anno_import | 1.007 | 0.019 | 1.027 | |
| anno_to_saf | 0 | 0 | 0 | |
| calculate_QC_metrics | 0.669 | 0.066 | 4.322 | |
| cell_barcode_matching | 0.033 | 0.005 | 0.039 | |
| convert_geneid | 0.355 | 0.028 | 1.347 | |
| create_processed_report | 0 | 0 | 0 | |
| create_report | 0.000 | 0.001 | 0.000 | |
| create_sce_by_dir | 0.034 | 0.003 | 0.037 | |
| demultiplex_info | 0.035 | 0.002 | 0.039 | |
| detect_outlier | 0.094 | 0.004 | 0.103 | |
| gene_id_type | 0.032 | 0.002 | 0.038 | |
| get_ercc_anno | 0.523 | 0.004 | 0.542 | |
| get_genes_by_GO | 0.238 | 0.025 | 1.235 | |
| get_read_str | 0.000 | 0.000 | 0.001 | |
| organism | 0.056 | 0.003 | 0.063 | |
| plot_QC_pairs | 2.950 | 0.027 | 3.109 | |
| plot_UMI_dup | 0.259 | 0.006 | 0.277 | |
| plot_demultiplex | 0.107 | 0.003 | 0.113 | |
| plot_mapping | 0.223 | 0.005 | 0.251 | |
| remove_outliers | 0.091 | 0.003 | 0.095 | |
| sc_aligning | 0 | 0 | 0 | |
| sc_atac_bam_tagging | 52.471 | 82.840 | 136.724 | |
| sc_atac_cell_calling | 0 | 0 | 0 | |
| sc_atac_create_sce | 0.000 | 0.000 | 0.001 | |
| sc_atac_feature_counting | 0 | 0 | 0 | |
| sc_atac_peak_calling | 0 | 0 | 0 | |
| sc_atac_pipeline | 0.001 | 0.000 | 0.000 | |
| sc_atac_tfidf | 0 | 0 | 0 | |
| sc_atac_trim_barcode | 0.119 | 0.004 | 0.124 | |
| sc_correct_bam_bc | 0.000 | 0.001 | 0.001 | |
| sc_count_aligned_bam | 0 | 0 | 0 | |
| sc_demultiplex | 0.001 | 0.000 | 0.001 | |
| sc_demultiplex_and_count | 0 | 0 | 0 | |
| sc_detect_bc | 0.000 | 0.001 | 0.000 | |
| sc_exon_mapping | 0.001 | 0.000 | 0.000 | |
| sc_gene_counting | 0.000 | 0.000 | 0.001 | |
| sc_integrate | 0 | 0 | 0 | |
| sc_sample_data | 2.518 | 0.016 | 2.537 | |
| sc_sample_qc | 0.268 | 0.007 | 0.276 | |
| sc_trim_barcode | 0 | 0 | 0 | |