| Back to Multiple platform build/check report for BioC 3.22: simplified long |
|
This page was generated on 2025-10-24 12:07 -0400 (Fri, 24 Oct 2025).
| Hostname | OS | Arch (*) | R version | Installed pkgs |
|---|---|---|---|---|
| nebbiolo2 | Linux (Ubuntu 24.04.3 LTS) | x86_64 | 4.5.1 Patched (2025-08-23 r88802) -- "Great Square Root" | 4898 |
| lconway | macOS 12.7.6 Monterey | x86_64 | 4.5.1 Patched (2025-09-10 r88807) -- "Great Square Root" | 4688 |
| kjohnson3 | macOS 13.7.7 Ventura | arm64 | 4.5.1 Patched (2025-09-10 r88807) -- "Great Square Root" | 4634 |
| taishan | Linux (openEuler 24.03 LTS) | aarch64 | 4.5.0 (2025-04-11) -- "How About a Twenty-Six" | 4658 |
| Click on any hostname to see more info about the system (e.g. compilers) (*) as reported by 'uname -p', except on Windows and Mac OS X | ||||
| Package 1917/2359 | Hostname | OS / Arch | INSTALL | BUILD | CHECK | BUILD BIN | ||||||||
| scDiagnostics 1.3.0 (landing page) Anthony Christidis
| nebbiolo2 | Linux (Ubuntu 24.04.3 LTS) / x86_64 | OK | OK | OK | |||||||||
| lconway | macOS 12.7.6 Monterey / x86_64 | OK | OK | OK | OK | |||||||||
| kjohnson3 | macOS 13.7.7 Ventura / arm64 | OK | OK | OK | OK | |||||||||
| taishan | Linux (openEuler 24.03 LTS) / aarch64 | OK | OK | NA | ||||||||||
|
To the developers/maintainers of the scDiagnostics package: - Allow up to 24 hours (and sometimes 48 hours) for your latest push to git@git.bioconductor.org:packages/scDiagnostics.git to reflect on this report. See Troubleshooting Build Report for more information. - Use the following Renviron settings to reproduce errors and warnings. - If 'R CMD check' started to fail recently on the Linux builder(s) over a missing dependency, add the missing dependency to 'Suggests:' in your DESCRIPTION file. See Renviron.bioc for more information. |
| Package: scDiagnostics |
| Version: 1.3.0 |
| Command: /Library/Frameworks/R.framework/Resources/bin/R CMD check --install=check:scDiagnostics.install-out.txt --library=/Library/Frameworks/R.framework/Resources/library --no-vignettes --timings scDiagnostics_1.3.0.tar.gz |
| StartedAt: 2025-10-23 22:01:03 -0400 (Thu, 23 Oct 2025) |
| EndedAt: 2025-10-23 22:04:03 -0400 (Thu, 23 Oct 2025) |
| EllapsedTime: 180.1 seconds |
| RetCode: 0 |
| Status: OK |
| CheckDir: scDiagnostics.Rcheck |
| Warnings: 0 |
##############################################################################
##############################################################################
###
### Running command:
###
### /Library/Frameworks/R.framework/Resources/bin/R CMD check --install=check:scDiagnostics.install-out.txt --library=/Library/Frameworks/R.framework/Resources/library --no-vignettes --timings scDiagnostics_1.3.0.tar.gz
###
##############################################################################
##############################################################################
* using log directory ‘/Users/biocbuild/bbs-3.22-bioc/meat/scDiagnostics.Rcheck’
* using R version 4.5.1 Patched (2025-09-10 r88807)
* using platform: aarch64-apple-darwin20
* R was compiled by
Apple clang version 16.0.0 (clang-1600.0.26.6)
GNU Fortran (GCC) 14.2.0
* running under: macOS Ventura 13.7.7
* using session charset: UTF-8
* using option ‘--no-vignettes’
* checking for file ‘scDiagnostics/DESCRIPTION’ ... OK
* checking extension type ... Package
* this is package ‘scDiagnostics’ version ‘1.3.0’
* package encoding: UTF-8
* checking package namespace information ... OK
* checking package dependencies ... OK
* checking if this is a source package ... OK
* checking if there is a namespace ... OK
* checking for hidden files and directories ... OK
* checking for portable file names ... OK
* checking for sufficient/correct file permissions ... OK
* checking whether package ‘scDiagnostics’ can be installed ... OK
* checking installed package size ... OK
* checking package directory ... OK
* checking ‘build’ directory ... OK
* checking DESCRIPTION meta-information ... OK
* checking top-level files ... OK
* checking for left-over files ... OK
* checking index information ... OK
* checking package subdirectories ... OK
* checking code files for non-ASCII characters ... OK
* checking R files for syntax errors ... OK
* checking whether the package can be loaded ... OK
* checking whether the package can be loaded with stated dependencies ... OK
* checking whether the package can be unloaded cleanly ... OK
* checking whether the namespace can be loaded with stated dependencies ... OK
* checking whether the namespace can be unloaded cleanly ... OK
* checking dependencies in R code ... OK
* checking S3 generic/method consistency ... OK
* checking replacement functions ... OK
* checking foreign function calls ... OK
* checking R code for possible problems ... OK
* checking Rd files ... OK
* checking Rd metadata ... OK
* checking Rd cross-references ... NOTE
Found the following Rd file(s) with Rd \link{} targets missing package
anchors:
argumentCheck.Rd: SingleCellExperiment-class
boxplotPCA.Rd: SingleCellExperiment-class
calculateAveragePairwiseCorrelation.Rd: SingleCellExperiment-class
calculateCellDistances.Rd: SingleCellExperiment-class
calculateCellDistancesSimilarity.Rd: SingleCellExperiment-class
calculateCellSimilarityPCA.Rd: SingleCellExperiment-class
calculateCramerPValue.Rd: SingleCellExperiment-class
calculateDiscriminantSpace.Rd: SingleCellExperiment-class
calculateHotellingPValue.Rd: SingleCellExperiment-class
calculateNearestNeighborProbabilities.Rd: SingleCellExperiment-class
calculateSIRSpace.Rd: SingleCellExperiment-class
calculateVarImpOverlap.Rd: SingleCellExperiment-class
calculateWassersteinDistance.Rd: SingleCellExperiment-class
compareCCA.Rd: SingleCellExperiment-class
comparePCA.Rd: SingleCellExperiment-class
comparePCASubspace.Rd: SingleCellExperiment-class
detectAnomaly.Rd: SingleCellExperiment-class
histQCvsAnnotation.Rd: SingleCellExperiment-class
plotCellTypeMDS.Rd: SingleCellExperiment-class
plotCellTypePCA.Rd: SingleCellExperiment-class
plotGeneExpressionDimred.Rd: SingleCellExperiment-class
plotGeneSetScores.Rd: SingleCellExperiment-class
plotMarkerExpression.Rd: SingleCellExperiment-class
plotPairwiseDistancesDensity.Rd: SingleCellExperiment-class
plotQCvsAnnotation.Rd: SingleCellExperiment-class
projectPCA.Rd: SingleCellExperiment-class
projectSIR.Rd: SingleCellExperiment-class
regressPC.Rd: SingleCellExperiment-class
Please provide package anchors for all Rd \link{} targets not in the
package itself and the base packages.
* checking for missing documentation entries ... OK
* checking for code/documentation mismatches ... OK
* checking Rd \usage sections ... OK
* checking Rd contents ... OK
* checking for unstated dependencies in examples ... OK
* checking contents of ‘data’ directory ... OK
* checking data for non-ASCII characters ... OK
* checking LazyData ... NOTE
'LazyDataCompression' is specified without 'LazyData'
* checking data for ASCII and uncompressed saves ... OK
* checking files in ‘vignettes’ ... OK
* checking examples ... OK
Examples with CPU (user + system) or elapsed time > 5s
user system elapsed
plotCellTypeMDS 9.767 0.038 10.261
calculateCellDistances 5.925 0.262 6.432
calculateCramerPValue 3.842 1.341 5.309
* checking for unstated dependencies in ‘tests’ ... OK
* checking tests ...
Running ‘testthat.R’
OK
* checking for unstated dependencies in vignettes ... OK
* checking package vignettes ... OK
* checking running R code from vignettes ... SKIPPED
* checking re-building of vignette outputs ... SKIPPED
* checking PDF version of manual ... OK
* DONE
Status: 2 NOTEs
See
‘/Users/biocbuild/bbs-3.22-bioc/meat/scDiagnostics.Rcheck/00check.log’
for details.
scDiagnostics.Rcheck/00install.out
############################################################################## ############################################################################## ### ### Running command: ### ### /Library/Frameworks/R.framework/Resources/bin/R CMD INSTALL scDiagnostics ### ############################################################################## ############################################################################## * installing to library ‘/Library/Frameworks/R.framework/Versions/4.5-arm64/Resources/library’ * installing *source* package ‘scDiagnostics’ ... ** this is package ‘scDiagnostics’ version ‘1.3.0’ ** using staged installation ** R ** data ** inst ** byte-compile and prepare package for lazy loading ** help *** installing help indices ** building package indices ** installing vignettes ** testing if installed package can be loaded from temporary location ** testing if installed package can be loaded from final location ** testing if installed package keeps a record of temporary installation path * DONE (scDiagnostics)
scDiagnostics.Rcheck/tests/testthat.Rout
R version 4.5.1 Patched (2025-09-10 r88807) -- "Great Square Root"
Copyright (C) 2025 The R Foundation for Statistical Computing
Platform: aarch64-apple-darwin20
R is free software and comes with ABSOLUTELY NO WARRANTY.
You are welcome to redistribute it under certain conditions.
Type 'license()' or 'licence()' for distribution details.
R is a collaborative project with many contributors.
Type 'contributors()' for more information and
'citation()' on how to cite R or R packages in publications.
Type 'demo()' for some demos, 'help()' for on-line help, or
'help.start()' for an HTML browser interface to help.
Type 'q()' to quit R.
> # This file is part of the standard setup for testthat.
> # It is recommended that you do not modify it.
> #
> # Where should you do additional test configuration?
> # Learn more about the roles of various files in:
> # * https://r-pkgs.org/testing-design.html#sec-tests-files-overview
> # * https://testthat.r-lib.org/articles/special-files.html
>
> library(testthat)
> library(scDiagnostics)
>
> test_check("scDiagnostics")
[ FAIL 0 | WARN 28 | SKIP 0 | PASS 276 ]
[ FAIL 0 | WARN 28 | SKIP 0 | PASS 276 ]
>
> proc.time()
user system elapsed
56.83 4.06 59.42
scDiagnostics.Rcheck/scDiagnostics-Ex.timings
| name | user | system | elapsed | |
| boxplotPCA | 0.982 | 0.025 | 1.044 | |
| calculateAveragePairwiseCorrelation | 1.146 | 0.042 | 1.222 | |
| calculateCategorizationEntropy | 0.017 | 0.001 | 0.019 | |
| calculateCellDistances | 5.925 | 0.262 | 6.432 | |
| calculateCellDistancesSimilarity | 1.991 | 0.139 | 2.255 | |
| calculateCellSimilarityPCA | 0.707 | 0.047 | 0.784 | |
| calculateCramerPValue | 3.842 | 1.341 | 5.309 | |
| calculateDiscriminantSpace | 2.409 | 0.066 | 1.788 | |
| calculateHVGOverlap | 0.483 | 0.018 | 0.529 | |
| calculateHotellingPValue | 0.487 | 0.033 | 0.521 | |
| calculateNearestNeighborProbabilities | 0.615 | 0.021 | 0.649 | |
| calculateSIRSpace | 1.233 | 0.021 | 1.277 | |
| calculateVarImpOverlap | 2.407 | 0.040 | 1.539 | |
| calculateWassersteinDistance | 0.824 | 0.057 | 0.931 | |
| compareCCA | 0.414 | 0.014 | 0.436 | |
| comparePCA | 0.429 | 0.013 | 0.457 | |
| comparePCASubspace | 0.864 | 0.036 | 0.927 | |
| detectAnomaly | 0.902 | 0.062 | 1.076 | |
| histQCvsAnnotation | 0.275 | 0.005 | 0.299 | |
| plot.calculateWassersteinDistanceObject | 0.621 | 0.062 | 0.727 | |
| plotCellTypeMDS | 9.767 | 0.038 | 10.261 | |
| plotCellTypePCA | 0.612 | 0.062 | 0.702 | |
| plotGeneExpressionDimred | 0.634 | 0.021 | 0.677 | |
| plotGeneSetScores | 0.439 | 0.009 | 0.465 | |
| plotMarkerExpression | 0.260 | 0.010 | 0.295 | |
| plotPairwiseDistancesDensity | 0.473 | 0.080 | 0.594 | |
| plotQCvsAnnotation | 0.108 | 0.005 | 0.113 | |
| projectPCA | 0.121 | 0.009 | 0.129 | |
| projectSIR | 0.672 | 0.014 | 0.704 | |
| qc_data | 0.017 | 0.003 | 0.021 | |
| query_data | 0.015 | 0.002 | 0.018 | |
| reference_data | 0.036 | 0.002 | 0.039 | |
| regressPC | 0.716 | 0.023 | 0.783 | |