| Back to Multiple platform build/check report for BioC 3.22: simplified long |
|
This page was generated on 2025-10-25 12:06 -0400 (Sat, 25 Oct 2025).
| Hostname | OS | Arch (*) | R version | Installed pkgs |
|---|---|---|---|---|
| nebbiolo2 | Linux (Ubuntu 24.04.3 LTS) | x86_64 | 4.5.1 Patched (2025-08-23 r88802) -- "Great Square Root" | 4901 |
| lconway | macOS 12.7.6 Monterey | x86_64 | 4.5.1 Patched (2025-09-10 r88807) -- "Great Square Root" | 4691 |
| kjohnson3 | macOS 13.7.7 Ventura | arm64 | 4.5.1 Patched (2025-09-10 r88807) -- "Great Square Root" | 4637 |
| taishan | Linux (openEuler 24.03 LTS) | aarch64 | 4.5.0 (2025-04-11) -- "How About a Twenty-Six" | 4658 |
| Click on any hostname to see more info about the system (e.g. compilers) (*) as reported by 'uname -p', except on Windows and Mac OS X | ||||
| Package 1617/2361 | Hostname | OS / Arch | INSTALL | BUILD | CHECK | BUILD BIN | ||||||||
| plyranges 1.29.1 (landing page) Michael Love
| nebbiolo2 | Linux (Ubuntu 24.04.3 LTS) / x86_64 | OK | OK | OK | |||||||||
| lconway | macOS 12.7.6 Monterey / x86_64 | OK | OK | OK | OK | |||||||||
| kjohnson3 | macOS 13.7.7 Ventura / arm64 | OK | OK | ERROR | OK | |||||||||
| taishan | Linux (openEuler 24.03 LTS) / aarch64 | OK | NA | NA | ||||||||||
|
To the developers/maintainers of the plyranges package: - Allow up to 24 hours (and sometimes 48 hours) for your latest push to git@git.bioconductor.org:packages/plyranges.git to reflect on this report. See Troubleshooting Build Report for more information. - Use the following Renviron settings to reproduce errors and warnings. - If 'R CMD check' started to fail recently on the Linux builder(s) over a missing dependency, add the missing dependency to 'Suggests:' in your DESCRIPTION file. See Renviron.bioc for more information. |
| Package: plyranges |
| Version: 1.29.1 |
| Command: /Library/Frameworks/R.framework/Resources/bin/R CMD check --install=check:plyranges.install-out.txt --library=/Library/Frameworks/R.framework/Resources/library --no-vignettes --timings plyranges_1.29.1.tar.gz |
| StartedAt: 2025-10-24 21:22:47 -0400 (Fri, 24 Oct 2025) |
| EndedAt: 2025-10-24 21:24:32 -0400 (Fri, 24 Oct 2025) |
| EllapsedTime: 105.2 seconds |
| RetCode: 1 |
| Status: ERROR |
| CheckDir: plyranges.Rcheck |
| Warnings: NA |
##############################################################################
##############################################################################
###
### Running command:
###
### /Library/Frameworks/R.framework/Resources/bin/R CMD check --install=check:plyranges.install-out.txt --library=/Library/Frameworks/R.framework/Resources/library --no-vignettes --timings plyranges_1.29.1.tar.gz
###
##############################################################################
##############################################################################
* using log directory ‘/Users/biocbuild/bbs-3.22-bioc/meat/plyranges.Rcheck’
* using R version 4.5.1 Patched (2025-09-10 r88807)
* using platform: aarch64-apple-darwin20
* R was compiled by
Apple clang version 16.0.0 (clang-1600.0.26.6)
GNU Fortran (GCC) 14.2.0
* running under: macOS Ventura 13.7.7
* using session charset: UTF-8
* using option ‘--no-vignettes’
* checking for file ‘plyranges/DESCRIPTION’ ... OK
* checking extension type ... Package
* this is package ‘plyranges’ version ‘1.29.1’
* package encoding: UTF-8
* checking package namespace information ... OK
* checking package dependencies ... OK
* checking if this is a source package ... OK
* checking if there is a namespace ... OK
* checking for hidden files and directories ... OK
* checking for portable file names ... OK
* checking for sufficient/correct file permissions ... OK
* checking whether package ‘plyranges’ can be installed ... OK
* checking installed package size ... OK
* checking package directory ... OK
* checking ‘build’ directory ... OK
* checking DESCRIPTION meta-information ... OK
* checking top-level files ... OK
* checking for left-over files ... OK
* checking index information ... OK
* checking package subdirectories ... OK
* checking code files for non-ASCII characters ... OK
* checking R files for syntax errors ... OK
* checking whether the package can be loaded ... OK
* checking whether the package can be loaded with stated dependencies ... OK
* checking whether the package can be unloaded cleanly ... OK
* checking whether the namespace can be loaded with stated dependencies ... OK
* checking whether the namespace can be unloaded cleanly ... OK
* checking dependencies in R code ... OK
* checking S3 generic/method consistency ... OK
* checking replacement functions ... OK
* checking foreign function calls ... OK
* checking R code for possible problems ... OK
* checking Rd files ... NOTE
checkRd: (-1) group_by-ranges.Rd:57: Lost braces in \itemize; meant \describe ?
checkRd: (-1) group_by-ranges.Rd:58: Lost braces in \itemize; meant \describe ?
checkRd: (-1) ranges-anchor.Rd:58: Lost braces in \itemize; meant \describe ?
checkRd: (-1) ranges-anchor.Rd:59: Lost braces in \itemize; meant \describe ?
checkRd: (-1) ranges-anchor.Rd:60: Lost braces in \itemize; meant \describe ?
checkRd: (-1) ranges-anchor.Rd:61-62: Lost braces in \itemize; meant \describe ?
checkRd: (-1) ranges-anchor.Rd:63-64: Lost braces in \itemize; meant \describe ?
* checking Rd metadata ... OK
* checking Rd cross-references ... NOTE
Non-topic package-anchored link(s) in Rd file 'tidyverse-reexports.Rd':
‘[magrittr:pipe]{%>%}’
See section 'Cross-references' in the 'Writing R Extensions' manual.
Found the following Rd file(s) with Rd \link{} targets missing package
anchors:
as_ranges.Rd: Rle, RleList, IRanges, GRanges
ranges-construct.Rd: tibble
ranges-filter-overlaps.Rd: GRanges
Please provide package anchors for all Rd \link{} targets not in the
package itself and the base packages.
* checking for missing documentation entries ... OK
* checking for code/documentation mismatches ... OK
* checking Rd \usage sections ... OK
* checking Rd contents ... OK
* checking for unstated dependencies in examples ... OK
* checking files in ‘vignettes’ ... OK
* checking examples ... OK
* checking for unstated dependencies in ‘tests’ ... OK
* checking tests ...
Running ‘testthat.R’
ERROR
Running the tests in ‘tests/testthat.R’ failed.
Last 13 lines of output:
filter
>
> test_check("plyranges")
[ FAIL 1 | WARN 8 | SKIP 0 | PASS 396 ]
══ Failed tests ════════════════════════════════════════════════════════════════
── Failure ('test-io-bed.R:136:3'): read_narrowpeaks returns correct GRanges ───
`gr` not identical to `test_gr`.
Objects equal but not identical
[ FAIL 1 | WARN 8 | SKIP 0 | PASS 396 ]
Error: Test failures
Execution halted
* checking for unstated dependencies in vignettes ... OK
* checking package vignettes ... OK
* checking running R code from vignettes ... SKIPPED
* checking re-building of vignette outputs ... SKIPPED
* checking PDF version of manual ... OK
* DONE
Status: 1 ERROR, 2 NOTEs
See
‘/Users/biocbuild/bbs-3.22-bioc/meat/plyranges.Rcheck/00check.log’
for details.
plyranges.Rcheck/00install.out
############################################################################## ############################################################################## ### ### Running command: ### ### /Library/Frameworks/R.framework/Resources/bin/R CMD INSTALL plyranges ### ############################################################################## ############################################################################## * installing to library ‘/Library/Frameworks/R.framework/Versions/4.5-arm64/Resources/library’ * installing *source* package ‘plyranges’ ... ** this is package ‘plyranges’ version ‘1.29.1’ ** using staged installation ** R ** inst ** byte-compile and prepare package for lazy loading ** help *** installing help indices *** copying figures ** building package indices ** installing vignettes ** testing if installed package can be loaded from temporary location ** testing if installed package can be loaded from final location ** testing if installed package keeps a record of temporary installation path * DONE (plyranges)
plyranges.Rcheck/tests/testthat.Rout.fail
R version 4.5.1 Patched (2025-09-10 r88807) -- "Great Square Root"
Copyright (C) 2025 The R Foundation for Statistical Computing
Platform: aarch64-apple-darwin20
R is free software and comes with ABSOLUTELY NO WARRANTY.
You are welcome to redistribute it under certain conditions.
Type 'license()' or 'licence()' for distribution details.
R is a collaborative project with many contributors.
Type 'contributors()' for more information and
'citation()' on how to cite R or R packages in publications.
Type 'demo()' for some demos, 'help()' for on-line help, or
'help.start()' for an HTML browser interface to help.
Type 'q()' to quit R.
> library(testthat)
> library(plyranges)
Loading required package: BiocGenerics
Loading required package: generics
Attaching package: 'generics'
The following objects are masked from 'package:base':
as.difftime, as.factor, as.ordered, intersect, is.element, setdiff,
setequal, union
Attaching package: 'BiocGenerics'
The following objects are masked from 'package:stats':
IQR, mad, sd, var, xtabs
The following objects are masked from 'package:base':
Filter, Find, Map, Position, Reduce, anyDuplicated, aperm, append,
as.data.frame, basename, cbind, colnames, dirname, do.call,
duplicated, eval, evalq, get, grep, grepl, is.unsorted, lapply,
mapply, match, mget, order, paste, pmax, pmax.int, pmin, pmin.int,
rank, rbind, rownames, sapply, saveRDS, table, tapply, unique,
unsplit, which.max, which.min
Loading required package: IRanges
Loading required package: S4Vectors
Loading required package: stats4
Attaching package: 'S4Vectors'
The following object is masked from 'package:utils':
findMatches
The following objects are masked from 'package:base':
I, expand.grid, unname
Loading required package: GenomicRanges
Loading required package: Seqinfo
Attaching package: 'plyranges'
The following object is masked from 'package:IRanges':
slice
The following object is masked from 'package:stats':
filter
>
> test_check("plyranges")
[ FAIL 1 | WARN 8 | SKIP 0 | PASS 396 ]
══ Failed tests ════════════════════════════════════════════════════════════════
── Failure ('test-io-bed.R:136:3'): read_narrowpeaks returns correct GRanges ───
`gr` not identical to `test_gr`.
Objects equal but not identical
[ FAIL 1 | WARN 8 | SKIP 0 | PASS 396 ]
Error: Test failures
Execution halted
plyranges.Rcheck/plyranges-Ex.timings
| name | user | system | elapsed | |
| add-nearest-distance | 0.105 | 0.001 | 0.106 | |
| as_ranges | 0.025 | 0.000 | 0.025 | |
| compute_coverage | 0.003 | 0.000 | 0.004 | |
| element-setops | 0.032 | 0.001 | 0.038 | |
| filter-ranges | 0.236 | 0.010 | 0.246 | |
| group_by-ranges | 0.091 | 0.001 | 0.092 | |
| io-bam-read | 0.647 | 0.013 | 0.662 | |
| io-bed-read | 0.828 | 0.211 | 1.041 | |
| io-bed-write | 0 | 0 | 0 | |
| io-bigwig-read | 0.028 | 0.000 | 0.029 | |
| io-bigwig-write | 0 | 0 | 0 | |
| io-gff-read | 0.123 | 0.004 | 0.126 | |
| io-gff-write | 0 | 0 | 0 | |
| io-wig-read | 0.101 | 0.004 | 0.106 | |
| mutate-ranges | 0.195 | 0.006 | 0.201 | |
| n | 0.069 | 0.001 | 0.069 | |
| n_distinct | 0.008 | 0.000 | 0.008 | |
| overlap-joins | 0.088 | 0.004 | 0.092 | |
| ranges-anchor | 0.03 | 0.00 | 0.03 | |
| ranges-arrange | 0.016 | 0.000 | 0.016 | |
| ranges-bind | 0.050 | 0.001 | 0.052 | |
| ranges-chop | 0.116 | 0.004 | 0.119 | |
| ranges-construct | 0.029 | 0.001 | 0.030 | |
| ranges-count-overlaps | 0.019 | 0.000 | 0.020 | |
| ranges-disjoin | 0.229 | 0.007 | 0.236 | |
| ranges-expand | 0.157 | 0.001 | 0.158 | |
| ranges-filter-overlaps | 0.035 | 0.001 | 0.036 | |
| ranges-flank | 0.028 | 0.001 | 0.028 | |
| ranges-follow | 0.439 | 0.005 | 0.444 | |
| ranges-info | 0.012 | 0.000 | 0.013 | |
| ranges-interweave | 0.046 | 0.000 | 0.046 | |
| ranges-names | 0.040 | 0.000 | 0.041 | |
| ranges-nearest | 0.107 | 0.006 | 0.113 | |
| ranges-overlaps-self | 0.041 | 0.002 | 0.043 | |
| ranges-overlaps | 0.045 | 0.001 | 0.045 | |
| ranges-pairs | 0.089 | 0.001 | 0.090 | |
| ranges-precede | 0.042 | 0.001 | 0.042 | |
| ranges-reduce | 0.282 | 0.003 | 0.285 | |
| ranges-select | 0.02 | 0.00 | 0.02 | |
| ranges-setops | 0.206 | 0.000 | 0.207 | |
| ranges-shift | 0.038 | 0.001 | 0.039 | |
| ranges-summarise | 0.041 | 0.000 | 0.041 | |
| ranges-tile | 0.023 | 0.001 | 0.023 | |
| slice-ranges | 0.169 | 0.001 | 0.169 | |
| stretch | 0.061 | 0.000 | 0.062 | |