| Back to Multiple platform build/check report for BioC 3.22: simplified long |
|
This page was generated on 2025-10-24 12:06 -0400 (Fri, 24 Oct 2025).
| Hostname | OS | Arch (*) | R version | Installed pkgs |
|---|---|---|---|---|
| nebbiolo2 | Linux (Ubuntu 24.04.3 LTS) | x86_64 | 4.5.1 Patched (2025-08-23 r88802) -- "Great Square Root" | 4898 |
| lconway | macOS 12.7.6 Monterey | x86_64 | 4.5.1 Patched (2025-09-10 r88807) -- "Great Square Root" | 4688 |
| kjohnson3 | macOS 13.7.7 Ventura | arm64 | 4.5.1 Patched (2025-09-10 r88807) -- "Great Square Root" | 4634 |
| taishan | Linux (openEuler 24.03 LTS) | aarch64 | 4.5.0 (2025-04-11) -- "How About a Twenty-Six" | 4658 |
| Click on any hostname to see more info about the system (e.g. compilers) (*) as reported by 'uname -p', except on Windows and Mac OS X | ||||
| Package 1518/2359 | Hostname | OS / Arch | INSTALL | BUILD | CHECK | BUILD BIN | ||||||||
| optimalFlow 1.21.0 (landing page) Hristo Inouzhe
| nebbiolo2 | Linux (Ubuntu 24.04.3 LTS) / x86_64 | OK | OK | OK | |||||||||
| lconway | macOS 12.7.6 Monterey / x86_64 | OK | OK | OK | OK | |||||||||
| kjohnson3 | macOS 13.7.7 Ventura / arm64 | OK | OK | OK | OK | |||||||||
| taishan | Linux (openEuler 24.03 LTS) / aarch64 | OK | OK | NA | ||||||||||
|
To the developers/maintainers of the optimalFlow package: - Allow up to 24 hours (and sometimes 48 hours) for your latest push to git@git.bioconductor.org:packages/optimalFlow.git to reflect on this report. See Troubleshooting Build Report for more information. - Use the following Renviron settings to reproduce errors and warnings. - If 'R CMD check' started to fail recently on the Linux builder(s) over a missing dependency, add the missing dependency to 'Suggests:' in your DESCRIPTION file. See Renviron.bioc for more information. |
| Package: optimalFlow |
| Version: 1.21.0 |
| Command: /Library/Frameworks/R.framework/Resources/bin/R CMD check --install=check:optimalFlow.install-out.txt --library=/Library/Frameworks/R.framework/Resources/library --no-vignettes --timings optimalFlow_1.21.0.tar.gz |
| StartedAt: 2025-10-23 21:17:06 -0400 (Thu, 23 Oct 2025) |
| EndedAt: 2025-10-23 21:18:41 -0400 (Thu, 23 Oct 2025) |
| EllapsedTime: 95.1 seconds |
| RetCode: 0 |
| Status: OK |
| CheckDir: optimalFlow.Rcheck |
| Warnings: 0 |
##############################################################################
##############################################################################
###
### Running command:
###
### /Library/Frameworks/R.framework/Resources/bin/R CMD check --install=check:optimalFlow.install-out.txt --library=/Library/Frameworks/R.framework/Resources/library --no-vignettes --timings optimalFlow_1.21.0.tar.gz
###
##############################################################################
##############################################################################
* using log directory ‘/Users/biocbuild/bbs-3.22-bioc/meat/optimalFlow.Rcheck’
* using R version 4.5.1 Patched (2025-09-10 r88807)
* using platform: aarch64-apple-darwin20
* R was compiled by
Apple clang version 16.0.0 (clang-1600.0.26.6)
GNU Fortran (GCC) 14.2.0
* running under: macOS Ventura 13.7.7
* using session charset: UTF-8
* using option ‘--no-vignettes’
* checking for file ‘optimalFlow/DESCRIPTION’ ... OK
* checking extension type ... Package
* this is package ‘optimalFlow’ version ‘1.21.0’
* package encoding: UTF-8
* checking package namespace information ... OK
* checking package dependencies ... OK
* checking if this is a source package ... OK
* checking if there is a namespace ... OK
* checking for hidden files and directories ... OK
* checking for portable file names ... OK
* checking for sufficient/correct file permissions ... OK
* checking whether package ‘optimalFlow’ can be installed ... OK
* checking installed package size ... OK
* checking package directory ... OK
* checking ‘build’ directory ... OK
* checking DESCRIPTION meta-information ... OK
* checking top-level files ... OK
* checking for left-over files ... OK
* checking index information ... OK
* checking package subdirectories ... OK
* checking code files for non-ASCII characters ... OK
* checking R files for syntax errors ... OK
* checking whether the package can be loaded ... OK
* checking whether the package can be loaded with stated dependencies ... OK
* checking whether the package can be unloaded cleanly ... OK
* checking whether the namespace can be loaded with stated dependencies ... OK
* checking whether the namespace can be unloaded cleanly ... OK
* checking dependencies in R code ... NOTE
There are ::: calls to the package's namespace in its code. A package
almost never needs to use ::: for its own objects:
‘GaussianBarycenters’ ‘distGaussianCov’ ‘distGaussianMean’
‘wassersteinKBarycenter’
* checking S3 generic/method consistency ... OK
* checking replacement functions ... OK
* checking foreign function calls ... OK
* checking R code for possible problems ... NOTE
voteLabelTransfer: no visible binding for global variable ‘cell’
voteLabelTransfer: no visible binding for global variable
‘compound.proportion’
voteLabelTransfer: no visible binding for global variable
‘vote.proportion’
voteTransformation : <anonymous>: no visible binding for global
variable ‘cell’
voteTransformation : <anonymous>: no visible binding for global
variable ‘simple.proportion’
voteTransformation : <anonymous>: no visible binding for global
variable ‘compound.proportion’
Undefined global functions or variables:
cell compound.proportion simple.proportion vote.proportion
* checking Rd files ... OK
* checking Rd metadata ... OK
* checking Rd cross-references ... OK
* checking for missing documentation entries ... OK
* checking for code/documentation mismatches ... OK
* checking Rd \usage sections ... OK
* checking Rd contents ... OK
* checking for unstated dependencies in examples ... OK
* checking files in ‘vignettes’ ... OK
* checking examples ... OK
Examples with CPU (user + system) or elapsed time > 5s
user system elapsed
f1ScoreVoting 1.790 0.514 6.271
cytoPlot3d 1.294 0.919 5.990
optimalFlowClassification 1.663 0.490 6.252
cytoPlot 1.492 0.467 6.790
cytoPlotDatabase 0.960 0.464 6.138
optimalFlowTemplates 0.943 0.356 5.219
* checking for unstated dependencies in vignettes ... OK
* checking package vignettes ... OK
* checking running R code from vignettes ... SKIPPED
* checking re-building of vignette outputs ... SKIPPED
* checking PDF version of manual ... OK
* DONE
Status: 2 NOTEs
See
‘/Users/biocbuild/bbs-3.22-bioc/meat/optimalFlow.Rcheck/00check.log’
for details.
optimalFlow.Rcheck/00install.out
############################################################################## ############################################################################## ### ### Running command: ### ### /Library/Frameworks/R.framework/Resources/bin/R CMD INSTALL optimalFlow ### ############################################################################## ############################################################################## * installing to library ‘/Library/Frameworks/R.framework/Versions/4.5-arm64/Resources/library’ * installing *source* package ‘optimalFlow’ ... ** this is package ‘optimalFlow’ version ‘1.21.0’ ** using staged installation ** R ** byte-compile and prepare package for lazy loading ** help *** installing help indices ** building package indices ** installing vignettes ** testing if installed package can be loaded from temporary location ** testing if installed package can be loaded from final location ** testing if installed package keeps a record of temporary installation path * DONE (optimalFlow)
optimalFlow.Rcheck/optimalFlow-Ex.timings
| name | user | system | elapsed | |
| costWasserMatchingEllipse | 0.041 | 0.025 | 0.084 | |
| cytoPlot | 1.492 | 0.467 | 6.790 | |
| cytoPlot3d | 1.294 | 0.919 | 5.990 | |
| cytoPlotDatabase | 0.960 | 0.464 | 6.138 | |
| cytoPlotDatabase3d | 1.024 | 0.461 | 4.838 | |
| estimCovCellGeneral | 0.007 | 0.002 | 0.010 | |
| estimationCellBarycenter | 0.002 | 0.001 | 0.003 | |
| f1Score | 0.067 | 0.010 | 0.076 | |
| f1ScoreVoting | 1.790 | 0.514 | 6.271 | |
| labelTransfer | 0 | 0 | 0 | |
| labelTransferEllipse | 0.002 | 0.001 | 0.002 | |
| optimalFlowClassification | 1.663 | 0.490 | 6.252 | |
| optimalFlowTemplates | 0.943 | 0.356 | 5.219 | |
| qdaClassification | 0.001 | 0.000 | 0.000 | |
| tclustWithInitialization | 0.516 | 0.150 | 0.916 | |
| tclust_H | 0.499 | 0.139 | 0.765 | |
| trimmedKBarycenter | 0.024 | 0.008 | 0.033 | |
| voteLabelTransfer | 0.000 | 0.001 | 0.000 | |
| w2dist | 0.001 | 0.000 | 0.000 | |
| wasserCostFunction | 0.924 | 0.380 | 4.096 | |