| Back to Multiple platform build/check report for BioC 3.22: simplified long |
|
This page was generated on 2025-10-24 12:06 -0400 (Fri, 24 Oct 2025).
| Hostname | OS | Arch (*) | R version | Installed pkgs |
|---|---|---|---|---|
| nebbiolo2 | Linux (Ubuntu 24.04.3 LTS) | x86_64 | 4.5.1 Patched (2025-08-23 r88802) -- "Great Square Root" | 4898 |
| lconway | macOS 12.7.6 Monterey | x86_64 | 4.5.1 Patched (2025-09-10 r88807) -- "Great Square Root" | 4688 |
| kjohnson3 | macOS 13.7.7 Ventura | arm64 | 4.5.1 Patched (2025-09-10 r88807) -- "Great Square Root" | 4634 |
| taishan | Linux (openEuler 24.03 LTS) | aarch64 | 4.5.0 (2025-04-11) -- "How About a Twenty-Six" | 4658 |
| Click on any hostname to see more info about the system (e.g. compilers) (*) as reported by 'uname -p', except on Windows and Mac OS X | ||||
| Package 1462/2359 | Hostname | OS / Arch | INSTALL | BUILD | CHECK | BUILD BIN | ||||||||
| nipalsMCIA 1.7.0 (landing page) Maximilian Mattessich
| nebbiolo2 | Linux (Ubuntu 24.04.3 LTS) / x86_64 | OK | OK | OK | |||||||||
| lconway | macOS 12.7.6 Monterey / x86_64 | OK | OK | OK | OK | |||||||||
| kjohnson3 | macOS 13.7.7 Ventura / arm64 | OK | OK | OK | OK | |||||||||
| taishan | Linux (openEuler 24.03 LTS) / aarch64 | OK | ERROR | skipped | ||||||||||
|
To the developers/maintainers of the nipalsMCIA package: - Allow up to 24 hours (and sometimes 48 hours) for your latest push to git@git.bioconductor.org:packages/nipalsMCIA.git to reflect on this report. See Troubleshooting Build Report for more information. - Use the following Renviron settings to reproduce errors and warnings. - If 'R CMD check' started to fail recently on the Linux builder(s) over a missing dependency, add the missing dependency to 'Suggests:' in your DESCRIPTION file. See Renviron.bioc for more information. |
| Package: nipalsMCIA |
| Version: 1.7.0 |
| Command: /Library/Frameworks/R.framework/Resources/bin/R CMD check --install=check:nipalsMCIA.install-out.txt --library=/Library/Frameworks/R.framework/Resources/library --no-vignettes --timings nipalsMCIA_1.7.0.tar.gz |
| StartedAt: 2025-10-23 21:11:10 -0400 (Thu, 23 Oct 2025) |
| EndedAt: 2025-10-23 21:13:09 -0400 (Thu, 23 Oct 2025) |
| EllapsedTime: 118.5 seconds |
| RetCode: 0 |
| Status: OK |
| CheckDir: nipalsMCIA.Rcheck |
| Warnings: 0 |
##############################################################################
##############################################################################
###
### Running command:
###
### /Library/Frameworks/R.framework/Resources/bin/R CMD check --install=check:nipalsMCIA.install-out.txt --library=/Library/Frameworks/R.framework/Resources/library --no-vignettes --timings nipalsMCIA_1.7.0.tar.gz
###
##############################################################################
##############################################################################
* using log directory ‘/Users/biocbuild/bbs-3.22-bioc/meat/nipalsMCIA.Rcheck’
* using R version 4.5.1 Patched (2025-09-10 r88807)
* using platform: aarch64-apple-darwin20
* R was compiled by
Apple clang version 16.0.0 (clang-1600.0.26.6)
GNU Fortran (GCC) 14.2.0
* running under: macOS Ventura 13.7.7
* using session charset: UTF-8
* using option ‘--no-vignettes’
* checking for file ‘nipalsMCIA/DESCRIPTION’ ... OK
* this is package ‘nipalsMCIA’ version ‘1.7.0’
* package encoding: UTF-8
* checking package namespace information ... OK
* checking package dependencies ... OK
* checking if this is a source package ... OK
* checking if there is a namespace ... OK
* checking for hidden files and directories ... OK
* checking for portable file names ... OK
* checking for sufficient/correct file permissions ... OK
* checking whether package ‘nipalsMCIA’ can be installed ... OK
* checking installed package size ... OK
* checking package directory ... OK
* checking ‘build’ directory ... OK
* checking DESCRIPTION meta-information ... OK
* checking top-level files ... OK
* checking for left-over files ... OK
* checking index information ... OK
* checking package subdirectories ... OK
* checking code files for non-ASCII characters ... OK
* checking R files for syntax errors ... OK
* checking whether the package can be loaded ... OK
* checking whether the package can be loaded with stated dependencies ... OK
* checking whether the package can be unloaded cleanly ... OK
* checking whether the namespace can be loaded with stated dependencies ... OK
* checking whether the namespace can be unloaded cleanly ... OK
* checking dependencies in R code ... OK
* checking S3 generic/method consistency ... OK
* checking replacement functions ... OK
* checking foreign function calls ... OK
* checking R code for possible problems ... OK
* checking Rd files ... OK
* checking Rd metadata ... OK
* checking Rd cross-references ... OK
* checking for missing documentation entries ... OK
* checking for code/documentation mismatches ... OK
* checking Rd \usage sections ... OK
* checking Rd contents ... OK
* checking for unstated dependencies in examples ... OK
* checking contents of ‘data’ directory ... OK
* checking data for non-ASCII characters ... OK
* checking data for ASCII and uncompressed saves ... OK
* checking files in ‘vignettes’ ... OK
* checking examples ... OK
* checking for unstated dependencies in ‘tests’ ... OK
* checking tests ...
Running ‘testthat.R’
OK
* checking for unstated dependencies in vignettes ... OK
* checking package vignettes ... OK
* checking running R code from vignettes ... SKIPPED
* checking re-building of vignette outputs ... SKIPPED
* checking PDF version of manual ... OK
* DONE
Status: OK
nipalsMCIA.Rcheck/00install.out
############################################################################## ############################################################################## ### ### Running command: ### ### /Library/Frameworks/R.framework/Resources/bin/R CMD INSTALL nipalsMCIA ### ############################################################################## ############################################################################## * installing to library ‘/Library/Frameworks/R.framework/Versions/4.5-arm64/Resources/library’ * installing *source* package ‘nipalsMCIA’ ... ** this is package ‘nipalsMCIA’ version ‘1.7.0’ ** using staged installation ** R ** data ** inst ** byte-compile and prepare package for lazy loading ** help *** installing help indices *** copying figures ** building package indices ** installing vignettes ** testing if installed package can be loaded from temporary location ** testing if installed package can be loaded from final location ** testing if installed package keeps a record of temporary installation path * DONE (nipalsMCIA)
nipalsMCIA.Rcheck/tests/testthat.Rout
R version 4.5.1 Patched (2025-09-10 r88807) -- "Great Square Root"
Copyright (C) 2025 The R Foundation for Statistical Computing
Platform: aarch64-apple-darwin20
R is free software and comes with ABSOLUTELY NO WARRANTY.
You are welcome to redistribute it under certain conditions.
Type 'license()' or 'licence()' for distribution details.
R is a collaborative project with many contributors.
Type 'contributors()' for more information and
'citation()' on how to cite R or R packages in publications.
Type 'demo()' for some demos, 'help()' for on-line help, or
'help.start()' for an HTML browser interface to help.
Type 'q()' to quit R.
> # This file is part of the standard setup for testthat.
> # It is recommended that you do not modify it.
>
> library(nipalsMCIA)
> library(testthat)
>
> test_check("nipalsMCIA")
Performing column-level pre-processing...
Column pre-processing completed.
Performing block-level preprocessing...
Block pre-processing completed.
Computing order 1 scores
Computing order 2 scores
Performing column-level pre-processing...
Column pre-processing completed.
Performing block-level preprocessing...
Block pre-processing completed.
Computing order 1 scores
Computing order 2 scores
Computing order 3 scores
Performing column-level pre-processing...
Column pre-processing completed.
Performing block-level preprocessing...
Block pre-processing completed.
Computing order 1 scores
Computing order 2 scores
Running GSEA for Factor 1
|
| | 0%
|
|= | 2%
|
|== | 3%
|
|=== | 5%
|
|==== | 6%
|
|===== | 8%
|
|======= | 9%
|
|======== | 11%
|
|========= | 12%
|
|========== | 14%
|
|=========== | 16%
|
|============ | 17%
|
|============= | 19%
|
|============== | 20%
|
|=============== | 22%
|
|================ | 23%
|
|================== | 25%
|
|=================== | 27%
|
|==================== | 28%
|
|===================== | 30%
|
|====================== | 31%
|
|======================= | 33%
|
|======================== | 34%
|
|========================= | 36%
|
|========================== | 38%
|
|=========================== | 39%
|
|============================ | 41%
|
|============================== | 42%
|
|=============================== | 44%
|
|================================ | 45%
|
|================================= | 47%
|
|================================== | 48%
|
|=================================== | 50%
|
|==================================== | 52%
|
|===================================== | 53%
|
|====================================== | 55%
|
|======================================= | 56%
|
|======================================== | 58%
|
|========================================== | 59%
|
|=========================================== | 61%
|
|============================================ | 62%
|
|============================================= | 64%
|
|============================================== | 66%
|
|=============================================== | 67%
|
|================================================ | 69%
|
|================================================= | 70%
|
|================================================== | 72%
|
|=================================================== | 73%
|
|==================================================== | 75%
|
|====================================================== | 77%
|
|======================================================= | 78%
|
|======================================================== | 80%
|
|========================================================= | 81%
|
|========================================================== | 83%
|
|=========================================================== | 84%
|
|============================================================ | 86%
|
|============================================================= | 88%
|
|============================================================== | 89%
|
|=============================================================== | 91%
|
|================================================================= | 92%
|
|================================================================== | 94%
|
|=================================================================== | 95%
|
|==================================================================== | 97%
|
|===================================================================== | 98%
|
|======================================================================| 100%
Performing column-level pre-processing...
Column pre-processing completed.
Performing block-level preprocessing...
Block pre-processing completed.
Computing order 1 scores
Computing order 2 scores
Computing order 3 scores
Computing order 4 scores
Performing pre-processing on data
Pre-processing completed
color_col option not recognized, defaulting to black/white plotting.
[ FAIL 0 | WARN 0 | SKIP 0 | PASS 57 ]
>
> proc.time()
user system elapsed
13.641 0.463 14.975
nipalsMCIA.Rcheck/nipalsMCIA-Ex.timings
| name | user | system | elapsed | |
| block_preproc | 0.001 | 0.000 | 0.001 | |
| block_weights_heatmap | 2.909 | 0.237 | 3.218 | |
| cc_preproc | 0 | 0 | 0 | |
| col_preproc | 0.000 | 0.000 | 0.001 | |
| deflate_block_bl | 0 | 0 | 0 | |
| deflate_block_gs | 0.001 | 0.000 | 0.000 | |
| extract_from_mae | 0.255 | 0.013 | 0.275 | |
| get_colors | 1.980 | 0.221 | 2.267 | |
| get_metadata_colors | 1.919 | 0.227 | 2.152 | |
| get_tv | 0.090 | 0.002 | 0.092 | |
| global_scores_eigenvalues_plot | 1.647 | 0.239 | 1.941 | |
| nipals_iter | 0.096 | 0.002 | 0.102 | |
| nipals_multiblock | 2.473 | 0.315 | 2.954 | |
| nmb_get_bl | 1.177 | 0.129 | 1.371 | |
| nmb_get_bs | 1.476 | 0.163 | 1.738 | |
| nmb_get_bs_weights | 1.175 | 0.132 | 1.392 | |
| nmb_get_eigs | 1.523 | 0.165 | 1.760 | |
| nmb_get_gl | 1.181 | 0.140 | 1.352 | |
| nmb_get_gs | 1.491 | 0.144 | 1.698 | |
| nmb_get_metadata | 1.467 | 0.148 | 1.727 | |
| ord_loadings | 1.661 | 0.222 | 1.942 | |
| predict_gs | 0.335 | 0.022 | 0.374 | |
| projection_plot | 1.931 | 0.249 | 2.293 | |
| simple_mae | 0.129 | 0.004 | 0.133 | |
| vis_load_ord | 1.762 | 0.244 | 2.044 | |
| vis_load_plot | 2.199 | 0.179 | 2.380 | |