| Back to Multiple platform build/check report for BioC 3.22: simplified long |
|
This page was generated on 2025-10-24 12:06 -0400 (Fri, 24 Oct 2025).
| Hostname | OS | Arch (*) | R version | Installed pkgs |
|---|---|---|---|---|
| nebbiolo2 | Linux (Ubuntu 24.04.3 LTS) | x86_64 | 4.5.1 Patched (2025-08-23 r88802) -- "Great Square Root" | 4898 |
| lconway | macOS 12.7.6 Monterey | x86_64 | 4.5.1 Patched (2025-09-10 r88807) -- "Great Square Root" | 4688 |
| kjohnson3 | macOS 13.7.7 Ventura | arm64 | 4.5.1 Patched (2025-09-10 r88807) -- "Great Square Root" | 4634 |
| taishan | Linux (openEuler 24.03 LTS) | aarch64 | 4.5.0 (2025-04-11) -- "How About a Twenty-Six" | 4658 |
| Click on any hostname to see more info about the system (e.g. compilers) (*) as reported by 'uname -p', except on Windows and Mac OS X | ||||
| Package 1426/2359 | Hostname | OS / Arch | INSTALL | BUILD | CHECK | BUILD BIN | ||||||||
| muscat 1.23.2 (landing page) Helena L. Crowell
| nebbiolo2 | Linux (Ubuntu 24.04.3 LTS) / x86_64 | OK | OK | OK | |||||||||
| lconway | macOS 12.7.6 Monterey / x86_64 | OK | OK | OK | OK | |||||||||
| kjohnson3 | macOS 13.7.7 Ventura / arm64 | OK | OK | OK | OK | |||||||||
| taishan | Linux (openEuler 24.03 LTS) / aarch64 | OK | OK | NA | ||||||||||
|
To the developers/maintainers of the muscat package: - Allow up to 24 hours (and sometimes 48 hours) for your latest push to git@git.bioconductor.org:packages/muscat.git to reflect on this report. See Troubleshooting Build Report for more information. - Use the following Renviron settings to reproduce errors and warnings. - If 'R CMD check' started to fail recently on the Linux builder(s) over a missing dependency, add the missing dependency to 'Suggests:' in your DESCRIPTION file. See Renviron.bioc for more information. |
| Package: muscat |
| Version: 1.23.2 |
| Command: rm -rf muscat.buildbin-libdir && mkdir muscat.buildbin-libdir && /Users/biocbuild/BBS/utils/build-universal.sh muscat_1.23.2.tar.gz /Library/Frameworks/R.framework/Resources/bin/R muscat.buildbin-libdir |
| StartedAt: 2025-10-23 23:18:50 -0400 (Thu, 23 Oct 2025) |
| EndedAt: 2025-10-23 23:19:08 -0400 (Thu, 23 Oct 2025) |
| EllapsedTime: 17.3 seconds |
| RetCode: 0 |
| Status: OK |
| PackageFile: muscat_1.23.2.tgz |
| PackageFileSize: 7.923 MiB |
############################################################################## ############################################################################## ### ### Running command: ### ### rm -rf muscat.buildbin-libdir && mkdir muscat.buildbin-libdir && /Users/biocbuild/BBS/utils/build-universal.sh muscat_1.23.2.tar.gz /Library/Frameworks/R.framework/Resources/bin/R muscat.buildbin-libdir ### ############################################################################## ############################################################################## >>>>>>> >>>>>>> INSTALLATION WITH 'R CMD INSTALL --preclean --no-multiarch --library=muscat.buildbin-libdir muscat_1.23.2.tar.gz' >>>>>>> * installing *source* package ‘muscat’ ... ** this is package ‘muscat’ version ‘1.23.2’ ** using staged installation ** R ** data ** inst ** byte-compile and prepare package for lazy loading Warning in check_dep_version(dep_pkg = "TMB") : package version mismatch: glmmTMB was built with TMB package version 1.9.17 Current TMB package version is 1.9.18 Please re-install glmmTMB from source or restore original ‘TMB’ package (see '?reinstalling' for more information) ** help *** installing help indices ** building package indices ** installing vignettes ** testing if installed package can be loaded from temporary location Warning in check_dep_version(dep_pkg = "TMB") : package version mismatch: glmmTMB was built with TMB package version 1.9.17 Current TMB package version is 1.9.18 Please re-install glmmTMB from source or restore original ‘TMB’ package (see '?reinstalling' for more information) ** testing if installed package can be loaded from final location Warning in check_dep_version(dep_pkg = "TMB") : package version mismatch: glmmTMB was built with TMB package version 1.9.17 Current TMB package version is 1.9.18 Please re-install glmmTMB from source or restore original ‘TMB’ package (see '?reinstalling' for more information) ** testing if installed package keeps a record of temporary installation path * DONE (muscat)