| Back to Multiple platform build/check report for BioC 3.22: simplified long |
|
This page was generated on 2025-10-25 12:06 -0400 (Sat, 25 Oct 2025).
| Hostname | OS | Arch (*) | R version | Installed pkgs |
|---|---|---|---|---|
| nebbiolo2 | Linux (Ubuntu 24.04.3 LTS) | x86_64 | 4.5.1 Patched (2025-08-23 r88802) -- "Great Square Root" | 4901 |
| lconway | macOS 12.7.6 Monterey | x86_64 | 4.5.1 Patched (2025-09-10 r88807) -- "Great Square Root" | 4691 |
| kjohnson3 | macOS 13.7.7 Ventura | arm64 | 4.5.1 Patched (2025-09-10 r88807) -- "Great Square Root" | 4637 |
| taishan | Linux (openEuler 24.03 LTS) | aarch64 | 4.5.0 (2025-04-11) -- "How About a Twenty-Six" | 4658 |
| Click on any hostname to see more info about the system (e.g. compilers) (*) as reported by 'uname -p', except on Windows and Mac OS X | ||||
| Package 1274/2361 | Hostname | OS / Arch | INSTALL | BUILD | CHECK | BUILD BIN | ||||||||
| methylMnM 1.47.0 (landing page) Yan Zhou
| nebbiolo2 | Linux (Ubuntu 24.04.3 LTS) / x86_64 | OK | OK | OK | |||||||||
| lconway | macOS 12.7.6 Monterey / x86_64 | OK | OK | OK | OK | |||||||||
| kjohnson3 | macOS 13.7.7 Ventura / arm64 | OK | OK | OK | OK | |||||||||
| taishan | Linux (openEuler 24.03 LTS) / aarch64 | OK | NA | NA | ||||||||||
|
To the developers/maintainers of the methylMnM package: - Allow up to 24 hours (and sometimes 48 hours) for your latest push to git@git.bioconductor.org:packages/methylMnM.git to reflect on this report. See Troubleshooting Build Report for more information. - Use the following Renviron settings to reproduce errors and warnings. - If 'R CMD check' started to fail recently on the Linux builder(s) over a missing dependency, add the missing dependency to 'Suggests:' in your DESCRIPTION file. See Renviron.bioc for more information. |
| Package: methylMnM |
| Version: 1.47.0 |
| Command: /Library/Frameworks/R.framework/Resources/bin/R CMD check --install=check:methylMnM.install-out.txt --library=/Library/Frameworks/R.framework/Resources/library --no-vignettes --timings methylMnM_1.47.0.tar.gz |
| StartedAt: 2025-10-24 20:39:34 -0400 (Fri, 24 Oct 2025) |
| EndedAt: 2025-10-24 20:39:50 -0400 (Fri, 24 Oct 2025) |
| EllapsedTime: 16.3 seconds |
| RetCode: 0 |
| Status: OK |
| CheckDir: methylMnM.Rcheck |
| Warnings: 0 |
##############################################################################
##############################################################################
###
### Running command:
###
### /Library/Frameworks/R.framework/Resources/bin/R CMD check --install=check:methylMnM.install-out.txt --library=/Library/Frameworks/R.framework/Resources/library --no-vignettes --timings methylMnM_1.47.0.tar.gz
###
##############################################################################
##############################################################################
* using log directory ‘/Users/biocbuild/bbs-3.22-bioc/meat/methylMnM.Rcheck’
* using R version 4.5.1 Patched (2025-09-10 r88807)
* using platform: aarch64-apple-darwin20
* R was compiled by
Apple clang version 16.0.0 (clang-1600.0.26.6)
GNU Fortran (GCC) 14.2.0
* running under: macOS Ventura 13.7.7
* using session charset: UTF-8
* using option ‘--no-vignettes’
* checking for file ‘methylMnM/DESCRIPTION’ ... OK
* checking extension type ... Package
* this is package ‘methylMnM’ version ‘1.47.0’
* checking package namespace information ... OK
* checking package dependencies ... OK
* checking if this is a source package ... OK
* checking if there is a namespace ... OK
* checking for hidden files and directories ... OK
* checking for portable file names ... OK
* checking for sufficient/correct file permissions ... OK
* checking whether package ‘methylMnM’ can be installed ... OK
* used C compiler: ‘Apple clang version 15.0.0 (clang-1500.1.0.2.5)’
* used SDK: ‘MacOSX11.3.1.sdk’
* checking installed package size ... INFO
installed size is 47.7Mb
sub-directories of 1Mb or more:
extdata 47.4Mb
* checking package directory ... OK
* checking ‘build’ directory ... OK
* checking DESCRIPTION meta-information ... OK
* checking top-level files ... OK
* checking for left-over files ... OK
* checking index information ... OK
* checking package subdirectories ... OK
* checking code files for non-ASCII characters ... OK
* checking R files for syntax errors ... OK
* checking whether the package can be loaded ... OK
* checking whether the package can be loaded with stated dependencies ... OK
* checking whether the package can be unloaded cleanly ... OK
* checking whether the namespace can be loaded with stated dependencies ... OK
* checking whether the namespace can be unloaded cleanly ... OK
* checking dependencies in R code ... NOTE
'library' or 'require' calls to packages already attached by Depends:
‘edgeR’ ‘statmod’
Please remove these calls from your code.
Packages in Depends field not imported from:
‘edgeR’ ‘statmod’
These packages need to be imported from (in the NAMESPACE file)
for when this namespace is loaded but not attached.
* checking S3 generic/method consistency ... OK
* checking replacement functions ... OK
* checking foreign function calls ... OK
* checking R code for possible problems ... NOTE
CNVnormal: no visible global function definition for ‘read.table’
MnM.qvalue: no visible global function definition for ‘read.table’
MnM.qvalue: no visible global function definition for ‘write.table’
MnM.selectDMR: no visible global function definition for ‘quantile’
MnM.test: no visible global function definition for ‘read.table’
MnM.test: no visible global function definition for ‘calcNormFactors’
MnM.test: no visible global function definition for ‘sage.test’
MnM.test: no visible global function definition for ‘lm’
MnM.test: no visible global function definition for ‘write.table’
countMREbin: no visible global function definition for ‘read.table’
countMREbin: no visible global function definition for ‘count.fields’
countMREbin: no visible global function definition for ‘write.table’
countMREcpgbin: no visible global function definition for ‘read.table’
countMREcpgbin: no visible global function definition for
‘count.fields’
countMREcpgbin: no visible global function definition for ‘write.table’
countMeDIPbin: no visible global function definition for ‘read.table’
countMeDIPbin: no visible global function definition for ‘count.fields’
countMeDIPbin: no visible global function definition for ‘write.table’
countcpgbin: no visible global function definition for ‘read.table’
countcpgbin: no visible global function definition for ‘count.fields’
countcpgbin: no visible global function definition for ‘write.table’
normpdf: no visible global function definition for ‘pnorm’
removeblacklist: no visible global function definition for ‘read.table’
Undefined global functions or variables:
calcNormFactors count.fields lm pnorm quantile read.table sage.test
write.table
Consider adding
importFrom("stats", "lm", "pnorm", "quantile")
importFrom("utils", "count.fields", "read.table", "write.table")
to your NAMESPACE file.
* checking Rd files ... OK
* checking Rd metadata ... OK
* checking Rd cross-references ... OK
* checking for missing documentation entries ... OK
* checking for code/documentation mismatches ... OK
* checking Rd \usage sections ... OK
* checking Rd contents ... OK
* checking for unstated dependencies in examples ... OK
* checking line endings in C/C++/Fortran sources/headers ... OK
* checking compiled code ... NOTE
Note: information on .o files is not available
File ‘/Library/Frameworks/R.framework/Versions/4.5-arm64/Resources/library/methylMnM/libs/methylMnM.so’:
Found ‘_printf’, possibly from ‘printf’ (C)
Compiled code should not call entry points which might terminate R nor
write to stdout/stderr instead of to the console, nor use Fortran I/O
nor system RNGs nor [v]sprintf. The detected symbols are linked into
the code but might come from libraries and not actually be called.
See ‘Writing portable packages’ in the ‘Writing R Extensions’ manual.
* checking sizes of PDF files under ‘inst/doc’ ... OK
* checking files in ‘vignettes’ ... OK
* checking examples ... OK
* checking for unstated dependencies in vignettes ... OK
* checking package vignettes ... OK
* checking running R code from vignettes ... SKIPPED
* checking re-building of vignette outputs ... SKIPPED
* checking PDF version of manual ... OK
* DONE
Status: 3 NOTEs
See
‘/Users/biocbuild/bbs-3.22-bioc/meat/methylMnM.Rcheck/00check.log’
for details.
methylMnM.Rcheck/00install.out
############################################################################## ############################################################################## ### ### Running command: ### ### /Library/Frameworks/R.framework/Resources/bin/R CMD INSTALL methylMnM ### ############################################################################## ############################################################################## * installing to library ‘/Library/Frameworks/R.framework/Versions/4.5-arm64/Resources/library’ * installing *source* package ‘methylMnM’ ... ** this is package ‘methylMnM’ version ‘1.47.0’ ** using staged installation ** libs using C compiler: ‘Apple clang version 15.0.0 (clang-1500.1.0.2.5)’ using SDK: ‘MacOSX11.3.1.sdk’ clang -arch arm64 -std=gnu2x -I"/Library/Frameworks/R.framework/Resources/include" -DNDEBUG -I/opt/R/arm64/include -fPIC -falign-functions=64 -Wall -g -O2 -c CpGcount.c -o CpGcount.o clang -arch arm64 -std=gnu2x -I"/Library/Frameworks/R.framework/Resources/include" -DNDEBUG -I/opt/R/arm64/include -fPIC -falign-functions=64 -Wall -g -O2 -c calculatecount.c -o calculatecount.o clang -arch arm64 -std=gnu2x -I"/Library/Frameworks/R.framework/Resources/include" -DNDEBUG -I/opt/R/arm64/include -fPIC -falign-functions=64 -Wall -g -O2 -c calculatecount1.c -o calculatecount1.o clang -arch arm64 -std=gnu2x -I"/Library/Frameworks/R.framework/Resources/include" -DNDEBUG -I/opt/R/arm64/include -fPIC -falign-functions=64 -Wall -g -O2 -c calculatecountneg.c -o calculatecountneg.o clang -arch arm64 -std=gnu2x -I"/Library/Frameworks/R.framework/Resources/include" -DNDEBUG -I/opt/R/arm64/include -fPIC -falign-functions=64 -Wall -g -O2 -c pmultinom.c -o pmultinom.o clang -arch arm64 -std=gnu2x -I"/Library/Frameworks/R.framework/Resources/include" -DNDEBUG -I/opt/R/arm64/include -fPIC -falign-functions=64 -Wall -g -O2 -c pvalueclassify.c -o pvalueclassify.o clang -arch arm64 -std=gnu2x -I"/Library/Frameworks/R.framework/Resources/include" -DNDEBUG -I/opt/R/arm64/include -fPIC -falign-functions=64 -Wall -g -O2 -c register.c -o register.o clang -arch arm64 -std=gnu2x -dynamiclib -Wl,-headerpad_max_install_names -undefined dynamic_lookup -L/Library/Frameworks/R.framework/Resources/lib -L/opt/R/arm64/lib -o methylMnM.so CpGcount.o calculatecount.o calculatecount1.o calculatecountneg.o pmultinom.o pvalueclassify.o register.o -F/Library/Frameworks/R.framework/.. -framework R installing to /Library/Frameworks/R.framework/Versions/4.5-arm64/Resources/library/00LOCK-methylMnM/00new/methylMnM/libs ** R ** inst ** byte-compile and prepare package for lazy loading ** help *** installing help indices ** building package indices ** installing vignettes ** testing if installed package can be loaded from temporary location ** checking absolute paths in shared objects and dynamic libraries ** testing if installed package can be loaded from final location ** testing if installed package keeps a record of temporary installation path * DONE (methylMnM)
methylMnM.Rcheck/methylMnM-Ex.timings
| name | user | system | elapsed | |
| CNVnormal | 0.002 | 0.001 | 0.003 | |
| MnM.qvalue | 0.003 | 0.001 | 0.005 | |
| MnM.selectDMR | 0.003 | 0.001 | 0.004 | |
| MnM.test | 0.008 | 0.001 | 0.010 | |
| calcFactornew | 0.001 | 0.000 | 0.002 | |
| calculatecount | 0.002 | 0.000 | 0.005 | |
| calculatecount1 | 0.000 | 0.001 | 0.000 | |
| calculatecountneg | 0 | 0 | 0 | |
| countMREbin | 0.499 | 0.021 | 0.521 | |
| countMREcpgbin | 0.665 | 0.019 | 0.684 | |
| countMeDIPbin | 0.481 | 0.018 | 0.499 | |
| countcpgbin | 0.403 | 0.019 | 0.424 | |
| cpgcount | 0 | 0 | 0 | |
| normpdf | 0.000 | 0.000 | 0.001 | |
| normpdf1 | 0.001 | 0.000 | 0.000 | |
| pmultinom | 0.219 | 0.000 | 0.221 | |
| qvalue.rank | 0.000 | 0.001 | 0.000 | |
| removeblacklist | 0.002 | 0.000 | 0.003 | |