| Back to Multiple platform build/check report for BioC 3.22: simplified long |
|
This page was generated on 2025-10-25 12:06 -0400 (Sat, 25 Oct 2025).
| Hostname | OS | Arch (*) | R version | Installed pkgs |
|---|---|---|---|---|
| nebbiolo2 | Linux (Ubuntu 24.04.3 LTS) | x86_64 | 4.5.1 Patched (2025-08-23 r88802) -- "Great Square Root" | 4901 |
| lconway | macOS 12.7.6 Monterey | x86_64 | 4.5.1 Patched (2025-09-10 r88807) -- "Great Square Root" | 4691 |
| kjohnson3 | macOS 13.7.7 Ventura | arm64 | 4.5.1 Patched (2025-09-10 r88807) -- "Great Square Root" | 4637 |
| taishan | Linux (openEuler 24.03 LTS) | aarch64 | 4.5.0 (2025-04-11) -- "How About a Twenty-Six" | 4658 |
| Click on any hostname to see more info about the system (e.g. compilers) (*) as reported by 'uname -p', except on Windows and Mac OS X | ||||
| Package 1237/2361 | Hostname | OS / Arch | INSTALL | BUILD | CHECK | BUILD BIN | ||||||||
| metabCombiner 1.19.0 (landing page) Hani Habra
| nebbiolo2 | Linux (Ubuntu 24.04.3 LTS) / x86_64 | OK | OK | OK | |||||||||
| lconway | macOS 12.7.6 Monterey / x86_64 | OK | OK | OK | OK | |||||||||
| kjohnson3 | macOS 13.7.7 Ventura / arm64 | OK | OK | OK | OK | |||||||||
| taishan | Linux (openEuler 24.03 LTS) / aarch64 | OK | NA | NA | ||||||||||
|
To the developers/maintainers of the metabCombiner package: - Allow up to 24 hours (and sometimes 48 hours) for your latest push to git@git.bioconductor.org:packages/metabCombiner.git to reflect on this report. See Troubleshooting Build Report for more information. - Use the following Renviron settings to reproduce errors and warnings. - If 'R CMD check' started to fail recently on the Linux builder(s) over a missing dependency, add the missing dependency to 'Suggests:' in your DESCRIPTION file. See Renviron.bioc for more information. |
| Package: metabCombiner |
| Version: 1.19.0 |
| Command: /Library/Frameworks/R.framework/Resources/bin/R CMD check --install=check:metabCombiner.install-out.txt --library=/Library/Frameworks/R.framework/Resources/library --no-vignettes --timings metabCombiner_1.19.0.tar.gz |
| StartedAt: 2025-10-24 20:35:01 -0400 (Fri, 24 Oct 2025) |
| EndedAt: 2025-10-24 20:35:56 -0400 (Fri, 24 Oct 2025) |
| EllapsedTime: 54.7 seconds |
| RetCode: 0 |
| Status: OK |
| CheckDir: metabCombiner.Rcheck |
| Warnings: 0 |
##############################################################################
##############################################################################
###
### Running command:
###
### /Library/Frameworks/R.framework/Resources/bin/R CMD check --install=check:metabCombiner.install-out.txt --library=/Library/Frameworks/R.framework/Resources/library --no-vignettes --timings metabCombiner_1.19.0.tar.gz
###
##############################################################################
##############################################################################
* using log directory ‘/Users/biocbuild/bbs-3.22-bioc/meat/metabCombiner.Rcheck’
* using R version 4.5.1 Patched (2025-09-10 r88807)
* using platform: aarch64-apple-darwin20
* R was compiled by
Apple clang version 16.0.0 (clang-1600.0.26.6)
GNU Fortran (GCC) 14.2.0
* running under: macOS Ventura 13.7.7
* using session charset: UTF-8
* using option ‘--no-vignettes’
* checking for file ‘metabCombiner/DESCRIPTION’ ... OK
* this is package ‘metabCombiner’ version ‘1.19.0’
* package encoding: UTF-8
* checking package namespace information ... OK
* checking package dependencies ... OK
* checking if this is a source package ... OK
* checking if there is a namespace ... OK
* checking for hidden files and directories ... OK
* checking for portable file names ... OK
* checking for sufficient/correct file permissions ... OK
* checking whether package ‘metabCombiner’ can be installed ... OK
* used C compiler: ‘Apple clang version 15.0.0 (clang-1500.1.0.2.5)’
* used SDK: ‘MacOSX11.3.1.sdk’
* checking installed package size ... OK
* checking package directory ... OK
* checking ‘build’ directory ... OK
* checking DESCRIPTION meta-information ... OK
* checking top-level files ... OK
* checking for left-over files ... OK
* checking index information ... OK
* checking package subdirectories ... OK
* checking code files for non-ASCII characters ... OK
* checking R files for syntax errors ... OK
* checking whether the package can be loaded ... OK
* checking whether the package can be loaded with stated dependencies ... OK
* checking whether the package can be unloaded cleanly ... OK
* checking whether the namespace can be loaded with stated dependencies ... OK
* checking whether the namespace can be unloaded cleanly ... OK
* checking whether startup messages can be suppressed ... OK
* checking dependencies in R code ... OK
* checking S3 generic/method consistency ... OK
* checking replacement functions ... OK
* checking foreign function calls ... OK
* checking R code for possible problems ... OK
* checking Rd files ... NOTE
checkRd: (-1) combineData.Rd:22: Lost braces
22 | (quasi)merge of the /code{/link{combinedTable}} and /code{/link{featData}}
| ^
checkRd: (-1) combineData.Rd:22: Lost braces
22 | (quasi)merge of the /code{/link{combinedTable}} and /code{/link{featData}}
| ^
checkRd: (-1) combineData.Rd:22: Lost braces
22 | (quasi)merge of the /code{/link{combinedTable}} and /code{/link{featData}}
| ^
checkRd: (-1) combineData.Rd:22: Lost braces
22 | (quasi)merge of the /code{/link{combinedTable}} and /code{/link{featData}}
| ^
* checking Rd metadata ... OK
* checking Rd cross-references ... OK
* checking for missing documentation entries ... OK
* checking for code/documentation mismatches ... OK
* checking Rd \usage sections ... OK
* checking Rd contents ... OK
* checking for unstated dependencies in examples ... OK
* checking contents of ‘data’ directory ... OK
* checking data for non-ASCII characters ... OK
* checking data for ASCII and uncompressed saves ... OK
* checking line endings in C/C++/Fortran sources/headers ... OK
* checking compiled code ... NOTE
Note: information on .o files is not available
* checking files in ‘vignettes’ ... OK
* checking examples ... OK
* checking for unstated dependencies in ‘tests’ ... OK
* checking tests ...
Running ‘testthat.R’
OK
* checking for unstated dependencies in vignettes ... OK
* checking package vignettes ... OK
* checking running R code from vignettes ... SKIPPED
* checking re-building of vignette outputs ... SKIPPED
* checking PDF version of manual ... OK
* DONE
Status: 2 NOTEs
See
‘/Users/biocbuild/bbs-3.22-bioc/meat/metabCombiner.Rcheck/00check.log’
for details.
metabCombiner.Rcheck/00install.out
############################################################################## ############################################################################## ### ### Running command: ### ### /Library/Frameworks/R.framework/Resources/bin/R CMD INSTALL metabCombiner ### ############################################################################## ############################################################################## * installing to library ‘/Library/Frameworks/R.framework/Versions/4.5-arm64/Resources/library’ * installing *source* package ‘metabCombiner’ ... ** this is package ‘metabCombiner’ version ‘1.19.0’ ** using staged installation ** libs using C compiler: ‘Apple clang version 15.0.0 (clang-1500.1.0.2.5)’ using SDK: ‘MacOSX11.3.1.sdk’ clang -arch arm64 -std=gnu2x -I"/Library/Frameworks/R.framework/Resources/include" -DNDEBUG -I/opt/R/arm64/include -fPIC -falign-functions=64 -Wall -g -O2 -c binByMZ.c -o binByMZ.o clang -arch arm64 -std=gnu2x -I"/Library/Frameworks/R.framework/Resources/include" -DNDEBUG -I/opt/R/arm64/include -fPIC -falign-functions=64 -Wall -g -O2 -c duplicates.c -o duplicates.o clang -arch arm64 -std=gnu2x -I"/Library/Frameworks/R.framework/Resources/include" -DNDEBUG -I/opt/R/arm64/include -fPIC -falign-functions=64 -Wall -g -O2 -c labelRows.c -o labelRows.o clang -arch arm64 -std=gnu2x -I"/Library/Frameworks/R.framework/Resources/include" -DNDEBUG -I/opt/R/arm64/include -fPIC -falign-functions=64 -Wall -g -O2 -c metabCombiner_init.c -o metabCombiner_init.o clang -arch arm64 -std=gnu2x -I"/Library/Frameworks/R.framework/Resources/include" -DNDEBUG -I/opt/R/arm64/include -fPIC -falign-functions=64 -Wall -g -O2 -c resolveRows.c -o resolveRows.o clang -arch arm64 -std=gnu2x -I"/Library/Frameworks/R.framework/Resources/include" -DNDEBUG -I/opt/R/arm64/include -fPIC -falign-functions=64 -Wall -g -O2 -c selectAnchors.c -o selectAnchors.o clang -arch arm64 -std=gnu2x -I"/Library/Frameworks/R.framework/Resources/include" -DNDEBUG -I/opt/R/arm64/include -fPIC -falign-functions=64 -Wall -g -O2 -c write2file.c -o write2file.o clang -arch arm64 -std=gnu2x -dynamiclib -Wl,-headerpad_max_install_names -undefined dynamic_lookup -L/Library/Frameworks/R.framework/Resources/lib -L/opt/R/arm64/lib -o metabCombiner.so binByMZ.o duplicates.o labelRows.o metabCombiner_init.o resolveRows.o selectAnchors.o write2file.o -F/Library/Frameworks/R.framework/.. -framework R installing to /Library/Frameworks/R.framework/Versions/4.5-arm64/Resources/library/00LOCK-metabCombiner/00new/metabCombiner/libs ** R ** data ** demo ** inst ** byte-compile and prepare package for lazy loading ** help *** installing help indices ** building package indices ** installing vignettes ** testing if installed package can be loaded from temporary location ** checking absolute paths in shared objects and dynamic libraries ** testing if installed package can be loaded from final location ** testing if installed package keeps a record of temporary installation path * DONE (metabCombiner)
metabCombiner.Rcheck/tests/testthat.Rout
R version 4.5.1 Patched (2025-09-10 r88807) -- "Great Square Root"
Copyright (C) 2025 The R Foundation for Statistical Computing
Platform: aarch64-apple-darwin20
R is free software and comes with ABSOLUTELY NO WARRANTY.
You are welcome to redistribute it under certain conditions.
Type 'license()' or 'licence()' for distribution details.
R is a collaborative project with many contributors.
Type 'contributors()' for more information and
'citation()' on how to cite R or R packages in publications.
Type 'demo()' for some demos, 'help()' for on-line help, or
'help.start()' for an HTML browser interface to help.
Type 'q()' to quit R.
> library(testthat)
> library(metabCombiner)
>
> test_check("metabCombiner")
[ FAIL 0 | WARN 9 | SKIP 0 | PASS 35 ]
[ FAIL 0 | WARN 9 | SKIP 0 | PASS 35 ]
>
> proc.time()
user system elapsed
4.997 0.200 5.213
metabCombiner.Rcheck/metabCombiner-Ex.timings
| name | user | system | elapsed | |
| adductdata | 0.089 | 0.003 | 0.092 | |
| batchCombine | 0 | 0 | 0 | |
| calcScores | 0.461 | 0.014 | 0.481 | |
| calcScoresParam | 0 | 0 | 0 | |
| combineData | 0.076 | 0.002 | 0.079 | |
| combinedTable | 0.070 | 0.002 | 0.072 | |
| datasets | 0.068 | 0.002 | 0.070 | |
| evaluateParams | 1.194 | 0.043 | 1.247 | |
| featdata | 0.071 | 0.002 | 0.074 | |
| filtered | 0.037 | 0.001 | 0.038 | |
| fit_gam | 0.775 | 0.047 | 0.828 | |
| fit_loess | 0.612 | 0.008 | 0.629 | |
| fitgamParam | 0.000 | 0.000 | 0.001 | |
| fitloessParam | 0 | 0 | 0 | |
| getAnchors | 0.182 | 0.004 | 0.186 | |
| getCoefficients | 0.407 | 0.020 | 0.427 | |
| getData | 0.035 | 0.003 | 0.038 | |
| getExtra | 0.040 | 0.002 | 0.043 | |
| getModel | 0.236 | 0.010 | 0.247 | |
| getSamples | 0.131 | 0.005 | 0.138 | |
| getStats | 0.369 | 0.020 | 0.390 | |
| iddata | 0.069 | 0.002 | 0.071 | |
| labelRows | 0.636 | 0.016 | 0.654 | |
| labelRowsParam | 0 | 0 | 0 | |
| metabCombine | 0 | 0 | 0 | |
| metabCombiner | 0.133 | 0.002 | 0.136 | |
| metabData | 0.105 | 0.007 | 0.113 | |
| mzFit | 0 | 0 | 0 | |
| mzfitParam | 0 | 0 | 0 | |
| nonmatched | 0.070 | 0.002 | 0.073 | |
| opts.duplicate | 0.069 | 0.003 | 0.074 | |
| plot_fit | 0.228 | 0.005 | 0.233 | |
| rtdata | 0.202 | 0.005 | 0.206 | |
| selectAnchors | 0.256 | 0.009 | 0.264 | |
| selectAnchorsParam | 0 | 0 | 0 | |
| updateTables | 0.620 | 0.022 | 0.643 | |
| write2file | 0.593 | 0.021 | 0.619 | |