Back to Multiple platform build/check report for BioC 3.22:   simplified   long
ABCDEFGHIJK[L]MNOPQRSTUVWXYZ

This page was generated on 2025-10-31 12:05 -0400 (Fri, 31 Oct 2025).

HostnameOSArch (*)R versionInstalled pkgs
nebbiolo2Linux (Ubuntu 24.04.3 LTS)x86_644.5.1 Patched (2025-08-23 r88802) -- "Great Square Root" 4901
lconwaymacOS 12.7.6 Montereyx86_644.5.1 Patched (2025-09-10 r88807) -- "Great Square Root" 4691
kjohnson3macOS 13.7.7 Venturaarm644.5.1 Patched (2025-09-10 r88807) -- "Great Square Root" 4637
Click on any hostname to see more info about the system (e.g. compilers)      (*) as reported by 'uname -p', except on Windows and Mac OS X

Package 1139/2361HostnameOS / ArchINSTALLBUILDCHECKBUILD BIN
limpca 1.6.0  (landing page)
Manon Martin
Snapshot Date: 2025-10-30 13:45 -0400 (Thu, 30 Oct 2025)
git_url: https://git.bioconductor.org/packages/limpca
git_branch: RELEASE_3_22
git_last_commit: 2c1edbe
git_last_commit_date: 2025-10-29 11:30:18 -0400 (Wed, 29 Oct 2025)
nebbiolo2Linux (Ubuntu 24.04.3 LTS) / x86_64  OK    OK    OK  UNNEEDED, same version is already published
lconwaymacOS 12.7.6 Monterey / x86_64  OK    OK    OK    OK  UNNEEDED, same version is already published
kjohnson3macOS 13.7.7 Ventura / arm64  OK    OK    OK    OK  UNNEEDED, same version is already published


CHECK results for limpca on kjohnson3

To the developers/maintainers of the limpca package:
- Allow up to 24 hours (and sometimes 48 hours) for your latest push to git@git.bioconductor.org:packages/limpca.git to reflect on this report. See Troubleshooting Build Report for more information.
- Use the following Renviron settings to reproduce errors and warnings.
- If 'R CMD check' started to fail recently on the Linux builder(s) over a missing dependency, add the missing dependency to 'Suggests:' in your DESCRIPTION file. See Renviron.bioc for more information.

raw results


Summary

Package: limpca
Version: 1.6.0
Command: /Library/Frameworks/R.framework/Resources/bin/R CMD check --install=check:limpca.install-out.txt --library=/Library/Frameworks/R.framework/Resources/library --no-vignettes --timings limpca_1.6.0.tar.gz
StartedAt: 2025-10-30 20:27:30 -0400 (Thu, 30 Oct 2025)
EndedAt: 2025-10-30 20:28:57 -0400 (Thu, 30 Oct 2025)
EllapsedTime: 87.2 seconds
RetCode: 0
Status:   OK  
CheckDir: limpca.Rcheck
Warnings: 0

Command output

##############################################################################
##############################################################################
###
### Running command:
###
###   /Library/Frameworks/R.framework/Resources/bin/R CMD check --install=check:limpca.install-out.txt --library=/Library/Frameworks/R.framework/Resources/library --no-vignettes --timings limpca_1.6.0.tar.gz
###
##############################################################################
##############################################################################


* using log directory ‘/Users/biocbuild/bbs-3.22-bioc/meat/limpca.Rcheck’
* using R version 4.5.1 Patched (2025-09-10 r88807)
* using platform: aarch64-apple-darwin20
* R was compiled by
    Apple clang version 16.0.0 (clang-1600.0.26.6)
    GNU Fortran (GCC) 14.2.0
* running under: macOS Ventura 13.7.7
* using session charset: UTF-8
* using option ‘--no-vignettes’
* checking for file ‘limpca/DESCRIPTION’ ... OK
* checking extension type ... Package
* this is package ‘limpca’ version ‘1.6.0’
* package encoding: UTF-8
* checking package namespace information ... OK
* checking package dependencies ... OK
* checking if this is a source package ... OK
* checking if there is a namespace ... OK
* checking for hidden files and directories ... OK
* checking for portable file names ... OK
* checking for sufficient/correct file permissions ... OK
* checking whether package ‘limpca’ can be installed ... OK
* checking installed package size ... OK
* checking package directory ... OK
* checking ‘build’ directory ... OK
* checking DESCRIPTION meta-information ... OK
* checking top-level files ... OK
* checking for left-over files ... OK
* checking index information ... OK
* checking package subdirectories ... OK
* checking code files for non-ASCII characters ... OK
* checking R files for syntax errors ... OK
* checking whether the package can be loaded ... OK
* checking whether the package can be loaded with stated dependencies ... OK
* checking whether the package can be unloaded cleanly ... OK
* checking whether the namespace can be loaded with stated dependencies ... OK
* checking whether the namespace can be unloaded cleanly ... OK
* checking dependencies in R code ... OK
* checking S3 generic/method consistency ... OK
* checking replacement functions ... OK
* checking foreign function calls ... OK
* checking R code for possible problems ... OK
* checking Rd files ... OK
* checking Rd metadata ... OK
* checking Rd cross-references ... OK
* checking for missing documentation entries ... OK
* checking for code/documentation mismatches ... OK
* checking Rd \usage sections ... OK
* checking Rd contents ... OK
* checking for unstated dependencies in examples ... OK
* checking contents of ‘data’ directory ... OK
* checking data for non-ASCII characters ... OK
* checking data for ASCII and uncompressed saves ... OK
* checking files in ‘vignettes’ ... OK
* checking examples ... OK
Examples with CPU (user + system) or elapsed time > 5s
                   user system elapsed
lmpBootstrapTests 6.937  1.458   5.304
* checking for unstated dependencies in ‘tests’ ... OK
* checking tests ...
  Running ‘testthat.R’
 OK
* checking for unstated dependencies in vignettes ... OK
* checking package vignettes ... OK
* checking running R code from vignettes ... SKIPPED
* checking re-building of vignette outputs ... SKIPPED
* checking PDF version of manual ... OK
* DONE

Status: OK


Installation output

limpca.Rcheck/00install.out

##############################################################################
##############################################################################
###
### Running command:
###
###   /Library/Frameworks/R.framework/Resources/bin/R CMD INSTALL limpca
###
##############################################################################
##############################################################################


* installing to library ‘/Library/Frameworks/R.framework/Versions/4.5-arm64/Resources/library’
* installing *source* package ‘limpca’ ...
** this is package ‘limpca’ version ‘1.6.0’
** using staged installation
** R
** data
** inst
** byte-compile and prepare package for lazy loading
** help
*** installing help indices
** building package indices
** installing vignettes
** testing if installed package can be loaded from temporary location
** testing if installed package can be loaded from final location
** testing if installed package keeps a record of temporary installation path
* DONE (limpca)

Tests output

limpca.Rcheck/tests/testthat.Rout


R version 4.5.1 Patched (2025-09-10 r88807) -- "Great Square Root"
Copyright (C) 2025 The R Foundation for Statistical Computing
Platform: aarch64-apple-darwin20

R is free software and comes with ABSOLUTELY NO WARRANTY.
You are welcome to redistribute it under certain conditions.
Type 'license()' or 'licence()' for distribution details.

R is a collaborative project with many contributors.
Type 'contributors()' for more information and
'citation()' on how to cite R or R packages in publications.

Type 'demo()' for some demos, 'help()' for on-line help, or
'help.start()' for an HTML browser interface to help.
Type 'q()' to quit R.

> # This file is part of the standard setup for testthat.
> # It is recommended that you do not modify it.
> #
> # Where should you do additional test configuration?
> # Learn more about the roles of various files in:
> # * https://r-pkgs.org/testing-design.html#sec-tests-files-overview
> # * https://testthat.r-lib.org/articles/special-files.html
> 
> library(testthat)
> library(limpca)
> 
> test_check("limpca")
| dim outcomes: 10x3
| formula: ~ factA + factB
| design variables (2): 
* factA (factor)
* factB (factor)
| dim outcomes: 10x3
| formula: ~ factA + factB
| design variables (2): 
* factA (factor)
* factB (factor)
| dim outcomes: 10x3
| formula: ~ factA + factB
| design variables (2): 
* factA (factor)
* factB (factor)
| dim outcomes: 10x3
| formula: ~ factA + factB
| design variables (2): 
* factA (factor)
* factB (factor)
| dim outcomes: 10x3
| formula: 
| design variables (2): 
* factA (factor)
* factB (factor)
[ FAIL 0 | WARN 0 | SKIP 0 | PASS 47 ]
> 
> proc.time()
   user  system elapsed 
  3.839   0.591   4.151 

Example timings

limpca.Rcheck/limpca-Ex.timings

nameusersystemelapsed
UCH0.0050.0000.006
data2lmpDataList0.1610.0050.168
lmpBootstrapTests6.9371.4585.304
lmpContributions0.4580.0950.552
lmpEffectMatrices0.2800.0090.290
lmpEffectPlot0.7090.0150.726
lmpLoading1dPlot1.6060.0201.627
lmpLoading2dPlot1.4310.0831.515
lmpModelMatrix0.0030.0010.004
lmpPcaEffects0.2620.0180.280
lmpScorePlot0.4290.0110.439
lmpScoreScatterPlotM0.3050.0180.323
lmpScreePlot0.3320.0070.339
pcaBySvd0.0070.0000.008
pcaLoading1dPlot0.1850.0470.233
pcaLoading2dPlot0.9140.0280.945
pcaScorePlot0.2120.0090.221
pcaScreePlot0.0650.0010.066
plotDesign1.2780.0131.296
plotLine1.2350.0091.248
plotMeans0.5680.0040.579
plotScatter1.0380.0071.055
plotScatterM0.0220.0020.024
trout0.0010.0010.001