| Back to Multiple platform build/check report for BioC 3.22: simplified long | 
 | 
This page was generated on 2025-10-25 12:06 -0400 (Sat, 25 Oct 2025).
| Hostname | OS | Arch (*) | R version | Installed pkgs | 
|---|---|---|---|---|
| nebbiolo2 | Linux (Ubuntu 24.04.3 LTS) | x86_64 | 4.5.1 Patched (2025-08-23 r88802) -- "Great Square Root" | 4901 | 
| lconway | macOS 12.7.6 Monterey | x86_64 | 4.5.1 Patched (2025-09-10 r88807) -- "Great Square Root" | 4691 | 
| kjohnson3 | macOS 13.7.7 Ventura | arm64 | 4.5.1 Patched (2025-09-10 r88807) -- "Great Square Root" | 4637 | 
| taishan | Linux (openEuler 24.03 LTS) | aarch64 | 4.5.0 (2025-04-11) -- "How About a Twenty-Six" | 4658 | 
| Click on any hostname to see more info about the system (e.g. compilers) (*) as reported by 'uname -p', except on Windows and Mac OS X | ||||
| Package 1113/2361 | Hostname | OS / Arch | INSTALL | BUILD | CHECK | BUILD BIN | ||||||||
| kebabs 1.43.1  (landing page) Ulrich Bodenhofer 
 | nebbiolo2 | Linux (Ubuntu 24.04.3 LTS) / x86_64 | OK | OK | OK |  | ||||||||
| lconway | macOS 12.7.6 Monterey / x86_64 | OK | OK | OK | OK |  | ||||||||
| kjohnson3 | macOS 13.7.7 Ventura / arm64 | OK | OK | OK | OK |  | ||||||||
| taishan | Linux (openEuler 24.03 LTS) / aarch64 | OK | NA | NA | ||||||||||
| To the developers/maintainers of the kebabs package: - Allow up to 24 hours (and sometimes 48 hours) for your latest push to git@git.bioconductor.org:packages/kebabs.git to reflect on this report. See Troubleshooting Build Report for more information. - Use the following Renviron settings to reproduce errors and warnings. - If 'R CMD check' started to fail recently on the Linux builder(s) over a missing dependency, add the missing dependency to 'Suggests:' in your DESCRIPTION file. See Renviron.bioc for more information. | 
| Package: kebabs | 
| Version: 1.43.1 | 
| Command: /Library/Frameworks/R.framework/Resources/bin/R CMD check --install=check:kebabs.install-out.txt --library=/Library/Frameworks/R.framework/Resources/library --no-vignettes --timings kebabs_1.43.1.tar.gz | 
| StartedAt: 2025-10-24 20:24:30 -0400 (Fri, 24 Oct 2025) | 
| EndedAt: 2025-10-24 20:25:42 -0400 (Fri, 24 Oct 2025) | 
| EllapsedTime: 71.9 seconds | 
| RetCode: 0 | 
| Status: OK | 
| CheckDir: kebabs.Rcheck | 
| Warnings: 0 | 
##############################################################################
##############################################################################
###
### Running command:
###
###   /Library/Frameworks/R.framework/Resources/bin/R CMD check --install=check:kebabs.install-out.txt --library=/Library/Frameworks/R.framework/Resources/library --no-vignettes --timings kebabs_1.43.1.tar.gz
###
##############################################################################
##############################################################################
* using log directory ‘/Users/biocbuild/bbs-3.22-bioc/meat/kebabs.Rcheck’
* using R version 4.5.1 Patched (2025-09-10 r88807)
* using platform: aarch64-apple-darwin20
* R was compiled by
    Apple clang version 16.0.0 (clang-1600.0.26.6)
    GNU Fortran (GCC) 14.2.0
* running under: macOS Ventura 13.7.7
* using session charset: UTF-8
* using option ‘--no-vignettes’
* checking for file ‘kebabs/DESCRIPTION’ ... OK
* checking extension type ... Package
* this is package ‘kebabs’ version ‘1.43.1’
* checking package namespace information ... OK
* checking package dependencies ... OK
* checking if this is a source package ... OK
* checking if there is a namespace ... OK
* checking for hidden files and directories ... OK
* checking for portable file names ... OK
* checking for sufficient/correct file permissions ... OK
* checking whether package ‘kebabs’ can be installed ... OK
* used C compiler: ‘Apple clang version 15.0.0 (clang-1500.1.0.2.5)’
* used C++ compiler: ‘Apple clang version 15.0.0 (clang-1500.1.0.2.5)’
* used SDK: ‘MacOSX11.3.1.sdk’
* checking installed package size ... OK
* checking package directory ... OK
* checking ‘build’ directory ... OK
* checking DESCRIPTION meta-information ... OK
* checking top-level files ... OK
* checking for left-over files ... OK
* checking index information ... OK
* checking package subdirectories ... OK
* checking code files for non-ASCII characters ... OK
* checking R files for syntax errors ... OK
* checking whether the package can be loaded ... OK
* checking whether the package can be loaded with stated dependencies ... OK
* checking whether the package can be unloaded cleanly ... OK
* checking whether the namespace can be loaded with stated dependencies ... OK
* checking whether the namespace can be unloaded cleanly ... OK
* checking whether startup messages can be suppressed ... OK
* checking dependencies in R code ... OK
* checking S3 generic/method consistency ... OK
* checking replacement functions ... OK
* checking foreign function calls ... OK
* checking R code for possible problems ... OK
* checking Rd files ... OK
* checking Rd metadata ... OK
* checking Rd cross-references ... NOTE
Found the following Rd file(s) with Rd \link{} targets missing package
anchors:
  BioVector-class.Rd: XStringSet-class
  BioVector.Rd: XStringSet, metadata, mcols, elementMetadata,
    DNAStringSet, RNAStringSet, AAStringSet
  ExplicitRepresentation-class.Rd: dgRMatrix-class
  LinearKernel.Rd: dgCMatrix-class
  annotationSpecificKernel.Rd: DNAStringSet-class, RNAStringSet-class,
    AAStringSet-class, mcols, metadata
  explicitRepresentation.Rd: DNAStringSet-class, RNAStringSet-class,
    AAStringSet-class
  gappyPairKernel.Rd: DNAStringSet-class, RNAStringSet-class,
    AAStringSet-class
  getPredProfMixture-methods.Rd: DNAString-class, RNAString-class,
    AAString-class, DNAStringSet-class, RNAStringSet-class,
    AAStringSet-class
  getPredictionProfile-methods.Rd: DNAString-class, RNAString-class,
    AAString-class, DNAStringSet-class, RNAStringSet-class,
    AAStringSet-class
  kbsvm-methods.Rd: DNAStringSet-class, RNAStringSet-class,
    AAStringSet-class, DNAStringSet, RNAStringSet, AAStringSet,
    XStringSet-class
  mismatchKernel.Rd: DNAStringSet-class, RNAStringSet-class,
    AAStringSet-class
  motifKernel.Rd: DNAStringSet-class, RNAStringSet-class,
    AAStringSet-class
  plot-methods.Rd: mcols
  positionDependentKernel.Rd: DNAStringSet-class, RNAStringSet-class,
    AAStringSet-class, metadata, mcols
  predict-methods.Rd: DNAStringSet-class, RNAStringSet-class,
    AAStringSet-class
  sequenceKernel.Rd: DNAStringSet-class, RNAStringSet-class,
    AAStringSet-class
  spectrumKernel.Rd: DNAStringSet-class, RNAStringSet-class,
    AAStringSet-class
Please provide package anchors for all Rd \link{} targets not in the
package itself and the base packages.
* checking for missing documentation entries ... OK
* checking for code/documentation mismatches ... OK
* checking Rd \usage sections ... OK
* checking Rd contents ... OK
* checking for unstated dependencies in examples ... OK
* checking contents of ‘data’ directory ... OK
* checking data for non-ASCII characters ... OK
* checking data for ASCII and uncompressed saves ... OK
* checking line endings in C/C++/Fortran sources/headers ... OK
* checking line endings in Makefiles ... OK
* checking compilation flags in Makevars ... OK
* checking for GNU extensions in Makefiles ... OK
* checking for portable use of $(BLAS_LIBS) and $(LAPACK_LIBS) ... OK
* checking use of PKG_*FLAGS in Makefiles ... OK
* checking compiled code ... NOTE
Note: information on .o files is not available
* checking sizes of PDF files under ‘inst/doc’ ... OK
* checking files in ‘vignettes’ ... OK
* checking examples ... OK
* checking for unstated dependencies in vignettes ... OK
* checking package vignettes ... OK
* checking running R code from vignettes ... SKIPPED
* checking re-building of vignette outputs ... SKIPPED
* checking PDF version of manual ... OK
* DONE
Status: 2 NOTEs
See
  ‘/Users/biocbuild/bbs-3.22-bioc/meat/kebabs.Rcheck/00check.log’
for details.
kebabs.Rcheck/00install.out
##############################################################################
##############################################################################
###
### Running command:
###
###   /Library/Frameworks/R.framework/Resources/bin/R CMD INSTALL kebabs
###
##############################################################################
##############################################################################
* installing to library ‘/Library/Frameworks/R.framework/Versions/4.5-arm64/Resources/library’
* installing *source* package ‘kebabs’ ...
** this is package ‘kebabs’ version ‘1.43.1’
** using staged installation
** libs
using C compiler: ‘Apple clang version 15.0.0 (clang-1500.1.0.2.5)’
using C++ compiler: ‘Apple clang version 15.0.0 (clang-1500.1.0.2.5)’
using SDK: ‘MacOSX11.3.1.sdk’
clang -arch arm64 -std=gnu2x -I"/Library/Frameworks/R.framework/Resources/include" -DNDEBUG -DSTRICT_R_HEADERS -I'/Library/Frameworks/R.framework/Versions/4.5-arm64/Resources/library/IRanges/include' -I'/Library/Frameworks/R.framework/Versions/4.5-arm64/Resources/library/XVector/include' -I'/Library/Frameworks/R.framework/Versions/4.5-arm64/Resources/library/Biostrings/include' -I'/Library/Frameworks/R.framework/Versions/4.5-arm64/Resources/library/Rcpp/include' -I'/Library/Frameworks/R.framework/Versions/4.5-arm64/Resources/library/S4Vectors/include' -I/opt/R/arm64/include    -fPIC  -falign-functions=64 -Wall -g -O2  -c Biostrings_stubs.c -o Biostrings_stubs.o
clang -arch arm64 -std=gnu2x -I"/Library/Frameworks/R.framework/Resources/include" -DNDEBUG -DSTRICT_R_HEADERS -I'/Library/Frameworks/R.framework/Versions/4.5-arm64/Resources/library/IRanges/include' -I'/Library/Frameworks/R.framework/Versions/4.5-arm64/Resources/library/XVector/include' -I'/Library/Frameworks/R.framework/Versions/4.5-arm64/Resources/library/Biostrings/include' -I'/Library/Frameworks/R.framework/Versions/4.5-arm64/Resources/library/Rcpp/include' -I'/Library/Frameworks/R.framework/Versions/4.5-arm64/Resources/library/S4Vectors/include' -I/opt/R/arm64/include    -fPIC  -falign-functions=64 -Wall -g -O2  -c ByteStringVector.c -o ByteStringVector.o
clang++ -arch arm64 -std=gnu++17 -I"/Library/Frameworks/R.framework/Resources/include" -DNDEBUG -DSTRICT_R_HEADERS -I'/Library/Frameworks/R.framework/Versions/4.5-arm64/Resources/library/IRanges/include' -I'/Library/Frameworks/R.framework/Versions/4.5-arm64/Resources/library/XVector/include' -I'/Library/Frameworks/R.framework/Versions/4.5-arm64/Resources/library/Biostrings/include' -I'/Library/Frameworks/R.framework/Versions/4.5-arm64/Resources/library/Rcpp/include' -I'/Library/Frameworks/R.framework/Versions/4.5-arm64/Resources/library/S4Vectors/include' -I/opt/R/arm64/include    -fPIC  -falign-functions=64 -Wall -g -O2   -c ExplicitRepC.cpp -o ExplicitRepC.o
clang++ -arch arm64 -std=gnu++17 -I"/Library/Frameworks/R.framework/Resources/include" -DNDEBUG -DSTRICT_R_HEADERS -I'/Library/Frameworks/R.framework/Versions/4.5-arm64/Resources/library/IRanges/include' -I'/Library/Frameworks/R.framework/Versions/4.5-arm64/Resources/library/XVector/include' -I'/Library/Frameworks/R.framework/Versions/4.5-arm64/Resources/library/Biostrings/include' -I'/Library/Frameworks/R.framework/Versions/4.5-arm64/Resources/library/Rcpp/include' -I'/Library/Frameworks/R.framework/Versions/4.5-arm64/Resources/library/S4Vectors/include' -I/opt/R/arm64/include    -fPIC  -falign-functions=64 -Wall -g -O2   -c FeatureWeightsPosDepC.cpp -o FeatureWeightsPosDepC.o
clang++ -arch arm64 -std=gnu++17 -I"/Library/Frameworks/R.framework/Resources/include" -DNDEBUG -DSTRICT_R_HEADERS -I'/Library/Frameworks/R.framework/Versions/4.5-arm64/Resources/library/IRanges/include' -I'/Library/Frameworks/R.framework/Versions/4.5-arm64/Resources/library/XVector/include' -I'/Library/Frameworks/R.framework/Versions/4.5-arm64/Resources/library/Biostrings/include' -I'/Library/Frameworks/R.framework/Versions/4.5-arm64/Resources/library/Rcpp/include' -I'/Library/Frameworks/R.framework/Versions/4.5-arm64/Resources/library/S4Vectors/include' -I/opt/R/arm64/include    -fPIC  -falign-functions=64 -Wall -g -O2   -c GappyPairC.cpp -o GappyPairC.o
clang -arch arm64 -std=gnu2x -I"/Library/Frameworks/R.framework/Resources/include" -DNDEBUG -DSTRICT_R_HEADERS -I'/Library/Frameworks/R.framework/Versions/4.5-arm64/Resources/library/IRanges/include' -I'/Library/Frameworks/R.framework/Versions/4.5-arm64/Resources/library/XVector/include' -I'/Library/Frameworks/R.framework/Versions/4.5-arm64/Resources/library/Biostrings/include' -I'/Library/Frameworks/R.framework/Versions/4.5-arm64/Resources/library/Rcpp/include' -I'/Library/Frameworks/R.framework/Versions/4.5-arm64/Resources/library/S4Vectors/include' -I/opt/R/arm64/include    -fPIC  -falign-functions=64 -Wall -g -O2  -c IRanges_stubs.c -o IRanges_stubs.o
clang++ -arch arm64 -std=gnu++17 -I"/Library/Frameworks/R.framework/Resources/include" -DNDEBUG -DSTRICT_R_HEADERS -I'/Library/Frameworks/R.framework/Versions/4.5-arm64/Resources/library/IRanges/include' -I'/Library/Frameworks/R.framework/Versions/4.5-arm64/Resources/library/XVector/include' -I'/Library/Frameworks/R.framework/Versions/4.5-arm64/Resources/library/Biostrings/include' -I'/Library/Frameworks/R.framework/Versions/4.5-arm64/Resources/library/Rcpp/include' -I'/Library/Frameworks/R.framework/Versions/4.5-arm64/Resources/library/S4Vectors/include' -I/opt/R/arm64/include    -fPIC  -falign-functions=64 -Wall -g -O2   -c KernelUtils.cpp -o KernelUtils.o
clang++ -arch arm64 -std=gnu++17 -I"/Library/Frameworks/R.framework/Resources/include" -DNDEBUG -DSTRICT_R_HEADERS -I'/Library/Frameworks/R.framework/Versions/4.5-arm64/Resources/library/IRanges/include' -I'/Library/Frameworks/R.framework/Versions/4.5-arm64/Resources/library/XVector/include' -I'/Library/Frameworks/R.framework/Versions/4.5-arm64/Resources/library/Biostrings/include' -I'/Library/Frameworks/R.framework/Versions/4.5-arm64/Resources/library/Rcpp/include' -I'/Library/Frameworks/R.framework/Versions/4.5-arm64/Resources/library/S4Vectors/include' -I/opt/R/arm64/include    -fPIC  -falign-functions=64 -Wall -g -O2   -c MismatchC.cpp -o MismatchC.o
clang++ -arch arm64 -std=gnu++17 -I"/Library/Frameworks/R.framework/Resources/include" -DNDEBUG -DSTRICT_R_HEADERS -I'/Library/Frameworks/R.framework/Versions/4.5-arm64/Resources/library/IRanges/include' -I'/Library/Frameworks/R.framework/Versions/4.5-arm64/Resources/library/XVector/include' -I'/Library/Frameworks/R.framework/Versions/4.5-arm64/Resources/library/Biostrings/include' -I'/Library/Frameworks/R.framework/Versions/4.5-arm64/Resources/library/Rcpp/include' -I'/Library/Frameworks/R.framework/Versions/4.5-arm64/Resources/library/S4Vectors/include' -I/opt/R/arm64/include    -fPIC  -falign-functions=64 -Wall -g -O2   -c MotifC.cpp -o MotifC.o
MotifC.cpp:2927:14: warning: variable 'dimFeatureSpace' set but not used [-Wunused-but-set-variable]
    uint64_t dimFeatureSpace;
             ^
MotifC.cpp:3511:41: warning: variable 'dimFeatureSpace' set but not used [-Wunused-but-set-variable]
    uint64_t keyPoolSize, poolNextFree, dimFeatureSpace;
                                        ^
2 warnings generated.
clang++ -arch arm64 -std=gnu++17 -I"/Library/Frameworks/R.framework/Resources/include" -DNDEBUG -DSTRICT_R_HEADERS -I'/Library/Frameworks/R.framework/Versions/4.5-arm64/Resources/library/IRanges/include' -I'/Library/Frameworks/R.framework/Versions/4.5-arm64/Resources/library/XVector/include' -I'/Library/Frameworks/R.framework/Versions/4.5-arm64/Resources/library/Biostrings/include' -I'/Library/Frameworks/R.framework/Versions/4.5-arm64/Resources/library/Rcpp/include' -I'/Library/Frameworks/R.framework/Versions/4.5-arm64/Resources/library/S4Vectors/include' -I/opt/R/arm64/include    -fPIC  -falign-functions=64 -Wall -g -O2   -c PredictionC.cpp -o PredictionC.o
clang++ -arch arm64 -std=gnu++17 -I"/Library/Frameworks/R.framework/Resources/include" -DNDEBUG -DSTRICT_R_HEADERS -I'/Library/Frameworks/R.framework/Versions/4.5-arm64/Resources/library/IRanges/include' -I'/Library/Frameworks/R.framework/Versions/4.5-arm64/Resources/library/XVector/include' -I'/Library/Frameworks/R.framework/Versions/4.5-arm64/Resources/library/Biostrings/include' -I'/Library/Frameworks/R.framework/Versions/4.5-arm64/Resources/library/Rcpp/include' -I'/Library/Frameworks/R.framework/Versions/4.5-arm64/Resources/library/S4Vectors/include' -I/opt/R/arm64/include    -fPIC  -falign-functions=64 -Wall -g -O2   -c PredictionProfileC.cpp -o PredictionProfileC.o
clang++ -arch arm64 -std=gnu++17 -I"/Library/Frameworks/R.framework/Resources/include" -DNDEBUG -DSTRICT_R_HEADERS -I'/Library/Frameworks/R.framework/Versions/4.5-arm64/Resources/library/IRanges/include' -I'/Library/Frameworks/R.framework/Versions/4.5-arm64/Resources/library/XVector/include' -I'/Library/Frameworks/R.framework/Versions/4.5-arm64/Resources/library/Biostrings/include' -I'/Library/Frameworks/R.framework/Versions/4.5-arm64/Resources/library/Rcpp/include' -I'/Library/Frameworks/R.framework/Versions/4.5-arm64/Resources/library/S4Vectors/include' -I/opt/R/arm64/include    -fPIC  -falign-functions=64 -Wall -g -O2   -c R_init_kebabs.cpp -o R_init_kebabs.o
clang -arch arm64 -std=gnu2x -I"/Library/Frameworks/R.framework/Resources/include" -DNDEBUG -DSTRICT_R_HEADERS -I'/Library/Frameworks/R.framework/Versions/4.5-arm64/Resources/library/IRanges/include' -I'/Library/Frameworks/R.framework/Versions/4.5-arm64/Resources/library/XVector/include' -I'/Library/Frameworks/R.framework/Versions/4.5-arm64/Resources/library/Biostrings/include' -I'/Library/Frameworks/R.framework/Versions/4.5-arm64/Resources/library/Rcpp/include' -I'/Library/Frameworks/R.framework/Versions/4.5-arm64/Resources/library/S4Vectors/include' -I/opt/R/arm64/include    -fPIC  -falign-functions=64 -Wall -g -O2  -c Rsvm.c -o Rsvm.o
clang++ -arch arm64 -std=gnu++17 -I"/Library/Frameworks/R.framework/Resources/include" -DNDEBUG -DSTRICT_R_HEADERS -I'/Library/Frameworks/R.framework/Versions/4.5-arm64/Resources/library/IRanges/include' -I'/Library/Frameworks/R.framework/Versions/4.5-arm64/Resources/library/XVector/include' -I'/Library/Frameworks/R.framework/Versions/4.5-arm64/Resources/library/Biostrings/include' -I'/Library/Frameworks/R.framework/Versions/4.5-arm64/Resources/library/Rcpp/include' -I'/Library/Frameworks/R.framework/Versions/4.5-arm64/Resources/library/S4Vectors/include' -I/opt/R/arm64/include    -fPIC  -falign-functions=64 -Wall -g -O2   -c SparseMatrixHash.cpp -o SparseMatrixHash.o
clang++ -arch arm64 -std=gnu++17 -I"/Library/Frameworks/R.framework/Resources/include" -DNDEBUG -DSTRICT_R_HEADERS -I'/Library/Frameworks/R.framework/Versions/4.5-arm64/Resources/library/IRanges/include' -I'/Library/Frameworks/R.framework/Versions/4.5-arm64/Resources/library/XVector/include' -I'/Library/Frameworks/R.framework/Versions/4.5-arm64/Resources/library/Biostrings/include' -I'/Library/Frameworks/R.framework/Versions/4.5-arm64/Resources/library/Rcpp/include' -I'/Library/Frameworks/R.framework/Versions/4.5-arm64/Resources/library/S4Vectors/include' -I/opt/R/arm64/include    -fPIC  -falign-functions=64 -Wall -g -O2   -c SpectrumC.cpp -o SpectrumC.o
clang++ -arch arm64 -std=gnu++17 -I"/Library/Frameworks/R.framework/Resources/include" -DNDEBUG -DSTRICT_R_HEADERS -I'/Library/Frameworks/R.framework/Versions/4.5-arm64/Resources/library/IRanges/include' -I'/Library/Frameworks/R.framework/Versions/4.5-arm64/Resources/library/XVector/include' -I'/Library/Frameworks/R.framework/Versions/4.5-arm64/Resources/library/Biostrings/include' -I'/Library/Frameworks/R.framework/Versions/4.5-arm64/Resources/library/Rcpp/include' -I'/Library/Frameworks/R.framework/Versions/4.5-arm64/Resources/library/S4Vectors/include' -I/opt/R/arm64/include    -fPIC  -falign-functions=64 -Wall -g -O2   -c SymmetricPairC.cpp -o SymmetricPairC.o
clang++ -arch arm64 -std=gnu++17 -I"/Library/Frameworks/R.framework/Resources/include" -DNDEBUG -DSTRICT_R_HEADERS -I'/Library/Frameworks/R.framework/Versions/4.5-arm64/Resources/library/IRanges/include' -I'/Library/Frameworks/R.framework/Versions/4.5-arm64/Resources/library/XVector/include' -I'/Library/Frameworks/R.framework/Versions/4.5-arm64/Resources/library/Biostrings/include' -I'/Library/Frameworks/R.framework/Versions/4.5-arm64/Resources/library/Rcpp/include' -I'/Library/Frameworks/R.framework/Versions/4.5-arm64/Resources/library/S4Vectors/include' -I/opt/R/arm64/include    -fPIC  -falign-functions=64 -Wall -g -O2   -c Utils.cpp -o Utils.o
clang -arch arm64 -std=gnu2x -I"/Library/Frameworks/R.framework/Resources/include" -DNDEBUG -DSTRICT_R_HEADERS -I'/Library/Frameworks/R.framework/Versions/4.5-arm64/Resources/library/IRanges/include' -I'/Library/Frameworks/R.framework/Versions/4.5-arm64/Resources/library/XVector/include' -I'/Library/Frameworks/R.framework/Versions/4.5-arm64/Resources/library/Biostrings/include' -I'/Library/Frameworks/R.framework/Versions/4.5-arm64/Resources/library/Rcpp/include' -I'/Library/Frameworks/R.framework/Versions/4.5-arm64/Resources/library/S4Vectors/include' -I/opt/R/arm64/include    -fPIC  -falign-functions=64 -Wall -g -O2  -c XVector_stubs.c -o XVector_stubs.o
clang++ -arch arm64 -std=gnu++17 -I"/Library/Frameworks/R.framework/Resources/include" -DNDEBUG -DSTRICT_R_HEADERS -I'/Library/Frameworks/R.framework/Versions/4.5-arm64/Resources/library/IRanges/include' -I'/Library/Frameworks/R.framework/Versions/4.5-arm64/Resources/library/XVector/include' -I'/Library/Frameworks/R.framework/Versions/4.5-arm64/Resources/library/Biostrings/include' -I'/Library/Frameworks/R.framework/Versions/4.5-arm64/Resources/library/Rcpp/include' -I'/Library/Frameworks/R.framework/Versions/4.5-arm64/Resources/library/S4Vectors/include' -I/opt/R/arm64/include    -fPIC  -falign-functions=64 -Wall -g -O2   -c svm.cpp -o svm.o
clang++ -arch arm64 -std=gnu++17 -dynamiclib -Wl,-headerpad_max_install_names -undefined dynamic_lookup -L/Library/Frameworks/R.framework/Resources/lib -L/opt/R/arm64/lib -o kebabs.so Biostrings_stubs.o ByteStringVector.o ExplicitRepC.o FeatureWeightsPosDepC.o GappyPairC.o IRanges_stubs.o KernelUtils.o MismatchC.o MotifC.o PredictionC.o PredictionProfileC.o R_init_kebabs.o Rsvm.o SparseMatrixHash.o SpectrumC.o SymmetricPairC.o Utils.o XVector_stubs.o svm.o -F/Library/Frameworks/R.framework/.. -framework R
installing to /Library/Frameworks/R.framework/Versions/4.5-arm64/Resources/library/00LOCK-kebabs/00new/kebabs/libs
** R
** data
** inst
** byte-compile and prepare package for lazy loading
** help
*** installing help indices
** building package indices
** installing vignettes
** testing if installed package can be loaded from temporary location
** checking absolute paths in shared objects and dynamic libraries
** testing if installed package can be loaded from final location
** testing if installed package keeps a record of temporary installation path
* DONE (kebabs)
kebabs.Rcheck/kebabs-Ex.timings
| name | user | system | elapsed | |
| BioVector | 0.021 | 0.001 | 0.022 | |
| CrossValidationResultAccessors | 0.001 | 0.000 | 0.001 | |
| KBModelAccessors | 0 | 0 | 0 | |
| KernelMatrixAccessors | 0.001 | 0.000 | 0.000 | |
| LinearKernel | 3.212 | 0.011 | 3.230 | |
| ModelSelectionResultAccessors | 0.000 | 0.000 | 0.001 | |
| PredictionProfileAccessors | 0.001 | 0.000 | 0.001 | |
| ROCDataAccessors | 0 | 0 | 0 | |
| SVMAccess | 0.041 | 0.002 | 0.043 | |
| annotationSpecificKernel | 0.039 | 0.001 | 0.041 | |
| computeROCandAUC | 0.660 | 0.218 | 0.896 | |
| evaluatePrediction | 0.185 | 0.004 | 0.197 | |
| explicitRepresentation | 0.254 | 0.003 | 0.265 | |
| featureWeights | 0.093 | 0.005 | 0.099 | |
| gappyPairKernel | 0.002 | 0.000 | 0.003 | |
| genRandBioSeqs | 0.016 | 0.001 | 0.016 | |
| getPredProfMixture-methods | 1.224 | 0.039 | 1.272 | |
| getPredictionProfile-methods | 0.450 | 0.007 | 0.457 | |
| heatmap-methods | 0.186 | 0.011 | 0.198 | |
| kbsvm-methods | 0.091 | 0.005 | 0.097 | |
| kebabsCollectInfo | 0.018 | 0.002 | 0.020 | |
| kebabsOverview | 0.121 | 0.007 | 0.130 | |
| mismatchKernel | 0.002 | 0.000 | 0.003 | |
| motifKernel | 0.002 | 0.000 | 0.002 | |
| performCrossValidation-methods | 0.092 | 0.005 | 0.098 | |
| performGridSearch | 1.606 | 0.022 | 1.631 | |
| performModelSelection | 3.245 | 0.024 | 3.276 | |
| plot-methods | 0.126 | 0.007 | 0.132 | |
| positionDependentKernel | 0.003 | 0.001 | 0.004 | |
| predict-methods | 0.096 | 0.006 | 0.102 | |
| sequenceKernel | 0.012 | 0.001 | 0.013 | |
| show-methods | 0.007 | 0.003 | 0.010 | |
| spectrumKernel | 0.001 | 0.000 | 0.002 | |
| symmetricPairKernel | 0.051 | 0.004 | 0.056 | |